BEGIN:VCALENDAR
VERSION:2.0
PRODID:-//Kerr Calendar - ECPv6.15.20//NONSGML v1.0//EN
CALSCALE:GREGORIAN
METHOD:PUBLISH
X-WR-CALNAME:Kerr Calendar
X-ORIGINAL-URL:https://kerrcalendar.com
X-WR-CALDESC:Events for Kerr Calendar
REFRESH-INTERVAL;VALUE=DURATION:PT1H
X-Robots-Tag:noindex
X-PUBLISHED-TTL:PT1H
BEGIN:VTIMEZONE
TZID:America/Chicago
BEGIN:DAYLIGHT
TZOFFSETFROM:-0600
TZOFFSETTO:-0500
TZNAME:CDT
DTSTART:20240310T080000
END:DAYLIGHT
BEGIN:STANDARD
TZOFFSETFROM:-0500
TZOFFSETTO:-0600
TZNAME:CST
DTSTART:20241103T070000
END:STANDARD
BEGIN:DAYLIGHT
TZOFFSETFROM:-0600
TZOFFSETTO:-0500
TZNAME:CDT
DTSTART:20250309T080000
END:DAYLIGHT
BEGIN:STANDARD
TZOFFSETFROM:-0500
TZOFFSETTO:-0600
TZNAME:CST
DTSTART:20251102T070000
END:STANDARD
BEGIN:DAYLIGHT
TZOFFSETFROM:-0600
TZOFFSETTO:-0500
TZNAME:CDT
DTSTART:20260308T080000
END:DAYLIGHT
BEGIN:STANDARD
TZOFFSETFROM:-0500
TZOFFSETTO:-0600
TZNAME:CST
DTSTART:20261101T070000
END:STANDARD
END:VTIMEZONE
BEGIN:VEVENT
DTSTART;VALUE=DATE:20250723
DTEND;VALUE=DATE:20250807
DTSTAMP:20260420T010041
CREATED:20250722T124814Z
LAST-MODIFIED:20250725T121659Z
UID:10001146-1753228800-1754524799@kerrcalendar.com
SUMMARY:KISD Secondary Enrollment Verification Opens
DESCRIPTION:Online enrollment verification for secondary students (grades 6 – 12). Once the online registration window opens\, log in to Skyward Family Access from the Kerrville ISD homepage and click on the ‘Skyward’ icon under the banner.Click the buttons below to access instructions for how to complete the online process. Online verification MUST be completed PRIOR to your child’s campus open house. For questions\, please contact your child’s campus: HPMS: 830-257-2204Tivy: 830-257-2212
URL:https://kerrcalendar.com/event/kisd-secondary-enrollment-verification-opens/
LOCATION:Kerrville ISD\, 1009 Barnett St\, Kerrville\, TX\, 78028\, United States
CATEGORIES:Education and Schools
ATTACH;FMTTYPE=image/png:https://kerrcalendar.com/wp-content/uploads/2025/07/KISDLogoFINAL.png
END:VEVENT
BEGIN:VEVENT
DTSTART;TZID=America/Chicago:20250725T180000
DTEND;TZID=America/Chicago:20250725T200000
DTSTAMP:20260420T010041
CREATED:20250724T121445Z
LAST-MODIFIED:20250724T121445Z
UID:10001253-1753466400-1753473600@kerrcalendar.com
SUMMARY:Jerialice Arsenault @ Pint & Plow
DESCRIPTION:Live music on the patio.
URL:https://kerrcalendar.com/event/jerialice-arsenault-pint-plow/
LOCATION:Pint & Plow\, 332 Clay St\, Kerrville\, 78028\, United States
CATEGORIES:Arts and Entertainment
ATTACH;FMTTYPE=image/jpeg:https://kerrcalendar.com/wp-content/uploads/2025/07/pint-plow.jpg
END:VEVENT
BEGIN:VEVENT
DTSTART;TZID=America/Chicago:20250725T180000
DTEND;TZID=America/Chicago:20250725T200000
DTSTAMP:20260420T010041
CREATED:20250724T134154Z
LAST-MODIFIED:20250724T134154Z
UID:10001377-1753466400-1753473600@kerrcalendar.com
SUMMARY:Free Haircuts for First Responders
DESCRIPTION:FREE HAIRCUTS for first responders\, SAR teams\, and the boots on the ground serving our flood-impacted community! Friday\, July 25 & Saturday\, July 26 Beginning at 6 PM American Legion Post 2083800 Riverside Dr\, Kerrville\, TX 78028We’re honored to welcome Master Barber Rose Brewer from Seguin\, TX—offering her time and talent to serve those who’ve served us during this crisis.Come as you are. Get cleaned up. Walk out refreshed.No appointment needed. First come\, first served.Let’s spread the word and show some love to the boots on the ground!
URL:https://kerrcalendar.com/event/free-haircuts-for-first-responders/2025-07-25/
LOCATION:American Legion Post\, 3800 Riverside Drive\, Kerrville\, 78028\, United States
CATEGORIES:Nonprofits and Fundraisers
ATTACH;FMTTYPE=image/jpeg:https://kerrcalendar.com/wp-content/uploads/2025/07/haircuts.jpg
END:VEVENT
BEGIN:VEVENT
DTSTART;TZID=America/Chicago:20250725T193000
DTEND;TZID=America/Chicago:20250725T220000
DTSTAMP:20260420T010041
CREATED:20250721T160651Z
LAST-MODIFIED:20250721T160651Z
UID:10001049-1753471800-1753480800@kerrcalendar.com
SUMMARY:Lend Me a Tenor @ Playhouse 2000
DESCRIPTION:From the pen of Ken Ludwig\, the master of modern Farce and author of both Leading Ladies and Moon Over Buffalo comes Lend Me A Tenor\, another in his list of hits\, with award-winning productions in both New York and London. \nThrough an amazing series of mistakes and accidents\, hapless “wanna-be” Opera singer “Max” finds himself having to take the stage in place of the world-famous Tenor “Tito Merelli\,” whom Max and his boss\, Impresario “Saunders\,” have mistakenly thought was dead! \nWhen Merelli – who is far from deceased – recovers his senses and gets himself into his costume and makeup for the famous role of Pagliacci\, perfectly matching Max’s\, the confusion is just beginning. Add in an angry Italian wife\, an amorous leading lady\, and a domineering society doyenne\, and you’ve set the stage for a night of hilarity.
URL:https://kerrcalendar.com/event/lend-me-a-tenor-playhouse-2000/2025-07-25/
LOCATION:Cailloux Theater\, 910 Main Street\, Kerrville\, TX\, 78028\, United States
CATEGORIES:Arts and Entertainment
ATTACH;FMTTYPE=image/jpeg:https://kerrcalendar.com/wp-content/uploads/2025/07/tenor.jpg
END:VEVENT
END:VCALENDAR