BEGIN:VCALENDAR
VERSION:2.0
PRODID:-//Kerr Calendar - ECPv6.15.20//NONSGML v1.0//EN
CALSCALE:GREGORIAN
METHOD:PUBLISH
X-ORIGINAL-URL:https://kerrcalendar.com
X-WR-CALDESC:Events for Kerr Calendar
REFRESH-INTERVAL;VALUE=DURATION:PT1H
X-Robots-Tag:noindex
X-PUBLISHED-TTL:PT1H
BEGIN:VTIMEZONE
TZID:America/Chicago
BEGIN:DAYLIGHT
TZOFFSETFROM:-0600
TZOFFSETTO:-0500
TZNAME:CDT
DTSTART:20240310T080000
END:DAYLIGHT
BEGIN:STANDARD
TZOFFSETFROM:-0500
TZOFFSETTO:-0600
TZNAME:CST
DTSTART:20241103T070000
END:STANDARD
BEGIN:DAYLIGHT
TZOFFSETFROM:-0600
TZOFFSETTO:-0500
TZNAME:CDT
DTSTART:20250309T080000
END:DAYLIGHT
BEGIN:STANDARD
TZOFFSETFROM:-0500
TZOFFSETTO:-0600
TZNAME:CST
DTSTART:20251102T070000
END:STANDARD
BEGIN:DAYLIGHT
TZOFFSETFROM:-0600
TZOFFSETTO:-0500
TZNAME:CDT
DTSTART:20260308T080000
END:DAYLIGHT
BEGIN:STANDARD
TZOFFSETFROM:-0500
TZOFFSETTO:-0600
TZNAME:CST
DTSTART:20261101T070000
END:STANDARD
END:VTIMEZONE
BEGIN:VEVENT
DTSTART;VALUE=DATE:20250723
DTEND;VALUE=DATE:20250807
DTSTAMP:20260420T010111
CREATED:20250722T124814Z
LAST-MODIFIED:20250725T121659Z
UID:10001146-1753228800-1754524799@kerrcalendar.com
SUMMARY:KISD Secondary Enrollment Verification Opens
DESCRIPTION:Online enrollment verification for secondary students (grades 6 – 12). Once the online registration window opens\, log in to Skyward Family Access from the Kerrville ISD homepage and click on the ‘Skyward’ icon under the banner.Click the buttons below to access instructions for how to complete the online process. Online verification MUST be completed PRIOR to your child’s campus open house. For questions\, please contact your child’s campus: HPMS: 830-257-2204Tivy: 830-257-2212
URL:https://kerrcalendar.com/event/kisd-secondary-enrollment-verification-opens/
LOCATION:Kerrville ISD\, 1009 Barnett St\, Kerrville\, TX\, 78028\, United States
CATEGORIES:Education and Schools
ATTACH;FMTTYPE=image/png:https://kerrcalendar.com/wp-content/uploads/2025/07/KISDLogoFINAL.png
END:VEVENT
BEGIN:VEVENT
DTSTART;TZID=America/Chicago:20250726T080000
DTEND;TZID=America/Chicago:20250726T170000
DTSTAMP:20260420T010111
CREATED:20250724T231234Z
LAST-MODIFIED:20250724T231234Z
UID:10001380-1753516800-1753549200@kerrcalendar.com
SUMMARY:Community Cleanup @ Ingram VFD
DESCRIPTION:City of Ingram and Ingram VFD will be accepting flood debris this Saturday 8 AM till the dumpsters are full. Must be a resident of Ingram or West Kerr. Proof of residency required. No household trash\,brush\,or hazardous waste. Event to be held below the VFD on Old Ingram loop.
URL:https://kerrcalendar.com/event/community-cleanup-ingram-vfd/
CATEGORIES:Nonprofits and Fundraisers
ATTACH;FMTTYPE=image/jpeg:https://kerrcalendar.com/wp-content/uploads/2025/07/flag-flood.jpg
END:VEVENT
BEGIN:VEVENT
DTSTART;TZID=America/Chicago:20250726T090000
DTEND;TZID=America/Chicago:20250726T130000
DTSTAMP:20260420T010111
CREATED:20250721T120128Z
LAST-MODIFIED:20250728T163814Z
UID:10000785-1753520400-1753534800@kerrcalendar.com
SUMMARY:Heart of the Hills Farmers Market
DESCRIPTION:Supporting local producers\, fostering community\, promoting sustainability in our growing practices.
URL:https://kerrcalendar.com/event/heart-of-the-hills-farmers-market/2025-07-26/
LOCATION:Dallas Daughtry Boardwalk Pavilion\, 805 Water St\, Kerrville\, TX\, 78028\, United States
CATEGORIES:Nonprofits and Fundraisers
ATTACH;FMTTYPE=image/jpeg:https://kerrcalendar.com/wp-content/uploads/2025/07/qtq80-taw4Rz.jpeg
END:VEVENT
BEGIN:VEVENT
DTSTART;TZID=America/Chicago:20250726T100000
DTEND;TZID=America/Chicago:20250726T160000
DTSTAMP:20260420T010111
CREATED:20250719T144756Z
LAST-MODIFIED:20250719T144756Z
UID:10000001-1753524000-1753545600@kerrcalendar.com
SUMMARY:Family Free Day at Museum of Western Art
DESCRIPTION:Enjoy the art and artifacts contained in this museum that is dedicated to the preservation of our western heritage.\nThrough October 24\, 130 works of art from 52 of today’s distinguished artists are on exhibit and for sale.
URL:https://kerrcalendar.com/event/family-free-day-at-museum-of-western-art/
LOCATION:Museum of Western Art\, 1550 Bandera Highway\, Kerrville\, TX\, 78028\, United States
CATEGORIES:Arts and Entertainment
ATTACH;FMTTYPE=image/jpeg:https://kerrcalendar.com/wp-content/uploads/2025/07/mowa.jpg
END:VEVENT
BEGIN:VEVENT
DTSTART;TZID=America/Chicago:20250726T160000
DTEND;TZID=America/Chicago:20250726T190000
DTSTAMP:20260420T010111
CREATED:20250724T133828Z
LAST-MODIFIED:20250724T133828Z
UID:10001376-1753545600-1753556400@kerrcalendar.com
SUMMARY:Texas Roundup Animal Alliance Birthday Party
DESCRIPTION:Join us for a tail-waggin’ good time! We know there’s a lot going on right now with flood recovery—but sometimes\, a little down time (and dog time!) is just what the soul needs.  Join us this Saturday from 4–7 PM Tailchasers Patio + PubCelebrating TRUAA’s 7th Anniversary of Saving Lives!Come enjoy an evening full of fun\, fur\, and festivities as we raise a paw to 7 incredible years of rescue—and all the lives saved along the way. Bring your pup\, bring your friends\, and help us celebrate the journey that wouldn’t be possible without YOU.  Kerrville Dog Spa — Nail Trims by Donation Door Prizes Cupcakes for the Humans Donated by Cardoshinsky Confections Treats for the Pups Doggie Art — your pup can create their own masterpiece! $5 DonationAll proceeds benefit TRUAA and our continued rescue efforts. Hope to see y’all there!
URL:https://kerrcalendar.com/event/texas-roundup-animal-alliance-birthday-party/
LOCATION:Tailchasers Patio & Pub\, 516 Jefferson St\, Kerrville\, 78028\, United States
CATEGORIES:Nonprofits and Fundraisers
ATTACH;FMTTYPE=image/jpeg:https://kerrcalendar.com/wp-content/uploads/2025/07/truaa.jpg
END:VEVENT
BEGIN:VEVENT
DTSTART;TZID=America/Chicago:20250726T180000
DTEND;TZID=America/Chicago:20250726T200000
DTSTAMP:20260420T010111
CREATED:20250724T134154Z
LAST-MODIFIED:20250724T134154Z
UID:10001378-1753552800-1753560000@kerrcalendar.com
SUMMARY:Free Haircuts for First Responders
DESCRIPTION:FREE HAIRCUTS for first responders\, SAR teams\, and the boots on the ground serving our flood-impacted community! Friday\, July 25 & Saturday\, July 26 Beginning at 6 PM American Legion Post 2083800 Riverside Dr\, Kerrville\, TX 78028We’re honored to welcome Master Barber Rose Brewer from Seguin\, TX—offering her time and talent to serve those who’ve served us during this crisis.Come as you are. Get cleaned up. Walk out refreshed.No appointment needed. First come\, first served.Let’s spread the word and show some love to the boots on the ground!
URL:https://kerrcalendar.com/event/free-haircuts-for-first-responders/2025-07-26/
LOCATION:American Legion Post\, 3800 Riverside Drive\, Kerrville\, 78028\, United States
CATEGORIES:Nonprofits and Fundraisers
ATTACH;FMTTYPE=image/jpeg:https://kerrcalendar.com/wp-content/uploads/2025/07/haircuts.jpg
END:VEVENT
BEGIN:VEVENT
DTSTART;TZID=America/Chicago:20250726T190000
DTEND;TZID=America/Chicago:20250726T210000
DTSTAMP:20260420T010111
CREATED:20250722T210127Z
LAST-MODIFIED:20250722T210127Z
UID:10001174-1753556400-1753563600@kerrcalendar.com
SUMMARY:Huston Sonhouse Band
DESCRIPTION:Huston Sonhouse is a singer-songwriter and multi-instrumentalist out of New Braunfels\, TX. His live shows feature rich baritone vocals\, rock-influenced guitar playing\, intricate looping\, and a songbird whistle – all in an eclectic western style that is uniquely his own.\nSuggested Cover – $5\nFood Court – Shim’s Be Blessed 12-9pm
URL:https://kerrcalendar.com/event/huston-sonhouse-band/
LOCATION:Trailhead Beer Garden @ Schreiner University\, 2100 Memorial Blvd #11\, Kerrville\, 78028\, United States
CATEGORIES:Arts and Entertainment
ATTACH;FMTTYPE=image/jpeg:https://kerrcalendar.com/wp-content/uploads/2025/07/trailhead.jpg
END:VEVENT
BEGIN:VEVENT
DTSTART;TZID=America/Chicago:20250726T193000
DTEND;TZID=America/Chicago:20250726T210000
DTSTAMP:20260420T010111
CREATED:20250722T020353Z
LAST-MODIFIED:20250722T020353Z
UID:10001119-1753558200-1753563600@kerrcalendar.com
SUMMARY:Jimmy Buffet’s Escape to Margaritaville After the Flood
DESCRIPTION:We invite you to join us for A Shared Escape — a one-night performance of Jimmy Buffett’s Escape to Margaritaville on Saturday\, July 26 at 7:30 PM at 120 Point Theatre Rd.\, Ingram \nAfter everything this community has faced\, we want to offer a little music\, a little laughter\, and a chance to be together—no ticket required\, just show up and bring a chair. \n🎭 Admission is by donation (nothing is required)\n🪑 Bring your own chair\n🍹 Please\, no outside alcohol (TABC rules!) We will have snacks and drinks for sale. \nLet’s share a night of island vibes\, feel-good songs\, and the simple joy of being in the same place at the same time. \nThank you for your grace\, your support\, and your sense of humor. We’ll see you Saturday—this time for real. \n— The HCAF Team\nHCAF.com
URL:https://kerrcalendar.com/event/jimmy-buffets-escape-to-margaritaville-after-the-flood/
LOCATION:Hill Country Arts Foundation\, 120 Point Theater Rd\, Ingram\, 78025\, United States
CATEGORIES:Arts and Entertainment
ATTACH;FMTTYPE=image/jpeg:https://kerrcalendar.com/wp-content/uploads/2025/07/IMG_3831.jpeg
END:VEVENT
BEGIN:VEVENT
DTSTART;TZID=America/Chicago:20250726T193000
DTEND;TZID=America/Chicago:20250726T220000
DTSTAMP:20260420T010111
CREATED:20250721T160651Z
LAST-MODIFIED:20250721T160651Z
UID:10001050-1753558200-1753567200@kerrcalendar.com
SUMMARY:Lend Me a Tenor @ Playhouse 2000
DESCRIPTION:From the pen of Ken Ludwig\, the master of modern Farce and author of both Leading Ladies and Moon Over Buffalo comes Lend Me A Tenor\, another in his list of hits\, with award-winning productions in both New York and London. \nThrough an amazing series of mistakes and accidents\, hapless “wanna-be” Opera singer “Max” finds himself having to take the stage in place of the world-famous Tenor “Tito Merelli\,” whom Max and his boss\, Impresario “Saunders\,” have mistakenly thought was dead! \nWhen Merelli – who is far from deceased – recovers his senses and gets himself into his costume and makeup for the famous role of Pagliacci\, perfectly matching Max’s\, the confusion is just beginning. Add in an angry Italian wife\, an amorous leading lady\, and a domineering society doyenne\, and you’ve set the stage for a night of hilarity.
URL:https://kerrcalendar.com/event/lend-me-a-tenor-playhouse-2000/2025-07-26/
LOCATION:Cailloux Theater\, 910 Main Street\, Kerrville\, TX\, 78028\, United States
CATEGORIES:Arts and Entertainment
ATTACH;FMTTYPE=image/jpeg:https://kerrcalendar.com/wp-content/uploads/2025/07/tenor.jpg
END:VEVENT
END:VCALENDAR