BEGIN:VCALENDAR
VERSION:2.0
PRODID:-//Kerr Calendar - ECPv6.15.20//NONSGML v1.0//EN
CALSCALE:GREGORIAN
METHOD:PUBLISH
X-WR-CALNAME:Kerr Calendar
X-ORIGINAL-URL:https://kerrcalendar.com
X-WR-CALDESC:Events for Kerr Calendar
REFRESH-INTERVAL;VALUE=DURATION:PT1H
X-Robots-Tag:noindex
X-PUBLISHED-TTL:PT1H
BEGIN:VTIMEZONE
TZID:America/Chicago
BEGIN:DAYLIGHT
TZOFFSETFROM:-0600
TZOFFSETTO:-0500
TZNAME:CDT
DTSTART:20240310T080000
END:DAYLIGHT
BEGIN:STANDARD
TZOFFSETFROM:-0500
TZOFFSETTO:-0600
TZNAME:CST
DTSTART:20241103T070000
END:STANDARD
BEGIN:DAYLIGHT
TZOFFSETFROM:-0600
TZOFFSETTO:-0500
TZNAME:CDT
DTSTART:20250309T080000
END:DAYLIGHT
BEGIN:STANDARD
TZOFFSETFROM:-0500
TZOFFSETTO:-0600
TZNAME:CST
DTSTART:20251102T070000
END:STANDARD
BEGIN:DAYLIGHT
TZOFFSETFROM:-0600
TZOFFSETTO:-0500
TZNAME:CDT
DTSTART:20260308T080000
END:DAYLIGHT
BEGIN:STANDARD
TZOFFSETFROM:-0500
TZOFFSETTO:-0600
TZNAME:CST
DTSTART:20261101T070000
END:STANDARD
END:VTIMEZONE
BEGIN:VEVENT
DTSTART;VALUE=DATE:20250723
DTEND;VALUE=DATE:20250807
DTSTAMP:20260419T214815
CREATED:20250722T124814Z
LAST-MODIFIED:20250725T121659Z
UID:10001146-1753228800-1754524799@kerrcalendar.com
SUMMARY:KISD Secondary Enrollment Verification Opens
DESCRIPTION:Online enrollment verification for secondary students (grades 6 – 12). Once the online registration window opens\, log in to Skyward Family Access from the Kerrville ISD homepage and click on the ‘Skyward’ icon under the banner.Click the buttons below to access instructions for how to complete the online process. Online verification MUST be completed PRIOR to your child’s campus open house. For questions\, please contact your child’s campus: HPMS: 830-257-2204Tivy: 830-257-2212
URL:https://kerrcalendar.com/event/kisd-secondary-enrollment-verification-opens/
LOCATION:Kerrville ISD\, 1009 Barnett St\, Kerrville\, TX\, 78028\, United States
CATEGORIES:Education and Schools
ATTACH;FMTTYPE=image/png:https://kerrcalendar.com/wp-content/uploads/2025/07/KISDLogoFINAL.png
END:VEVENT
BEGIN:VEVENT
DTSTART;VALUE=DATE:20250728
DTEND;VALUE=DATE:20250802
DTSTAMP:20260419T214815
CREATED:20250727T203805Z
LAST-MODIFIED:20250727T203805Z
UID:10001447-1753660800-1754092799@kerrcalendar.com
SUMMARY:Summer Art Camp at KACC
DESCRIPTION:Jul 14th – Aug 8th\, 2025 | Kerr Arts & Cultural Center \nThe mission of KACC’s summer art camp for youth is to foster creative thinking and encourage artistic abilities in young people. \nEach child involved in our art classes will learn about different art mediums from professional art instructors. Classes will offer hands-on creative projects in everything from wood working and fiber arts to painting and collage. \nClasses are held 9 am to noon\, Monday through Friday. Class sizes are small in order to provide a quality\, hands-on experience to participants. Tuition is $100 a week and a discount is offered to families with more than one child. Additional children can attend for only $75.
URL:https://kerrcalendar.com/event/summer-art-camp-at-kacc/
LOCATION:Kerr Arts & Cultural Center\, 228 Earl Garrett St\, Kerrville\, 78028\, United States
CATEGORIES:Classes and Workshops
ATTACH;FMTTYPE=image/jpeg:https://kerrcalendar.com/wp-content/uploads/2025/07/kacc-art-summer.jpg
END:VEVENT
BEGIN:VEVENT
DTSTART;TZID=America/Chicago:20250728T120000
DTEND;TZID=America/Chicago:20250731T160000
DTSTAMP:20260419T214815
CREATED:20250727T203448Z
LAST-MODIFIED:20250727T203448Z
UID:10001446-1753704000-1753977600@kerrcalendar.com
SUMMARY:The Color of Clay Summer Day Camp
DESCRIPTION:A creative space for art within our community… \n\nAges 6-14 \nCamps will run Monday – Thursday 12-4 Every week in June and July. They will create with clay the first part and paint ceramics the second half.  You can sign up for one or more days of fun and creativity.  Each day will have a different theme. \n\nCreate featured hand molded pieces and other art projects! \n12 – 4 Mon-Thurs \n$50 a Day \n$180 for the whole week \nEarly Bird Discount \nPay Registration before April 30th \n$40 a day \n$140 for each week
URL:https://kerrcalendar.com/event/the-color-of-clay-summer-day-camp/
LOCATION:The Color of Clay\, 93 Coronado Dr\, Suite 2\, Kerrville\, 78028\, United States
CATEGORIES:Classes and Workshops
ATTACH;FMTTYPE=image/jpeg:https://kerrcalendar.com/wp-content/uploads/2025/07/color-clay.jpg
END:VEVENT
END:VCALENDAR