BEGIN:VCALENDAR
VERSION:2.0
PRODID:-//Kerr Calendar - ECPv6.15.20//NONSGML v1.0//EN
CALSCALE:GREGORIAN
METHOD:PUBLISH
X-ORIGINAL-URL:https://kerrcalendar.com
X-WR-CALDESC:Events for Kerr Calendar
REFRESH-INTERVAL;VALUE=DURATION:PT1H
X-Robots-Tag:noindex
X-PUBLISHED-TTL:PT1H
BEGIN:VTIMEZONE
TZID:America/Chicago
BEGIN:DAYLIGHT
TZOFFSETFROM:-0600
TZOFFSETTO:-0500
TZNAME:CDT
DTSTART:20240310T080000
END:DAYLIGHT
BEGIN:STANDARD
TZOFFSETFROM:-0500
TZOFFSETTO:-0600
TZNAME:CST
DTSTART:20241103T070000
END:STANDARD
BEGIN:DAYLIGHT
TZOFFSETFROM:-0600
TZOFFSETTO:-0500
TZNAME:CDT
DTSTART:20250309T080000
END:DAYLIGHT
BEGIN:STANDARD
TZOFFSETFROM:-0500
TZOFFSETTO:-0600
TZNAME:CST
DTSTART:20251102T070000
END:STANDARD
BEGIN:DAYLIGHT
TZOFFSETFROM:-0600
TZOFFSETTO:-0500
TZNAME:CDT
DTSTART:20260308T080000
END:DAYLIGHT
BEGIN:STANDARD
TZOFFSETFROM:-0500
TZOFFSETTO:-0600
TZNAME:CST
DTSTART:20261101T070000
END:STANDARD
END:VTIMEZONE
BEGIN:VEVENT
DTSTART;VALUE=DATE:20250723
DTEND;VALUE=DATE:20250807
DTSTAMP:20260419T233459
CREATED:20250722T124814Z
LAST-MODIFIED:20250725T121659Z
UID:10001146-1753228800-1754524799@kerrcalendar.com
SUMMARY:KISD Secondary Enrollment Verification Opens
DESCRIPTION:Online enrollment verification for secondary students (grades 6 – 12). Once the online registration window opens\, log in to Skyward Family Access from the Kerrville ISD homepage and click on the ‘Skyward’ icon under the banner.Click the buttons below to access instructions for how to complete the online process. Online verification MUST be completed PRIOR to your child’s campus open house. For questions\, please contact your child’s campus: HPMS: 830-257-2204Tivy: 830-257-2212
URL:https://kerrcalendar.com/event/kisd-secondary-enrollment-verification-opens/
LOCATION:Kerrville ISD\, 1009 Barnett St\, Kerrville\, TX\, 78028\, United States
CATEGORIES:Education and Schools
ATTACH;FMTTYPE=image/png:https://kerrcalendar.com/wp-content/uploads/2025/07/KISDLogoFINAL.png
END:VEVENT
BEGIN:VEVENT
DTSTART;VALUE=DATE:20250804
DTEND;VALUE=DATE:20250809
DTSTAMP:20260419T233459
CREATED:20250727T203829Z
LAST-MODIFIED:20250727T203829Z
UID:10001448-1754265600-1754697599@kerrcalendar.com
SUMMARY:Summer Art Camp at KACC
DESCRIPTION:Jul 14th – Aug 8th\, 2025 | Kerr Arts & Cultural Center \nThe mission of KACC’s summer art camp for youth is to foster creative thinking and encourage artistic abilities in young people. \nEach child involved in our art classes will learn about different art mediums from professional art instructors. Classes will offer hands-on creative projects in everything from wood working and fiber arts to painting and collage. \nClasses are held 9 am to noon\, Monday through Friday. Class sizes are small in order to provide a quality\, hands-on experience to participants. Tuition is $100 a week and a discount is offered to families with more than one child. Additional children can attend for only $75.
URL:https://kerrcalendar.com/event/summer-art-camp-at-kacc-2/
LOCATION:Kerr Arts & Cultural Center\, 228 Earl Garrett St\, Kerrville\, 78028\, United States
CATEGORIES:Classes and Workshops
ATTACH;FMTTYPE=image/jpeg:https://kerrcalendar.com/wp-content/uploads/2025/07/kacc-art-summer.jpg
END:VEVENT
BEGIN:VEVENT
DTSTART;VALUE=DATE:20250806
DTEND;VALUE=DATE:20250807
DTSTAMP:20260419T233459
CREATED:20250727T204417Z
LAST-MODIFIED:20250727T204417Z
UID:10001450-1754438400-1754524799@kerrcalendar.com
SUMMARY:Schreiner University's COED Pickleball Tournament
DESCRIPTION:Join us for our summer 2v2 pickleball tournament at Schreiner University. This league will be run by our Campus Recreation department. Must be 15 years or older to participate. Open division can consist of any combination of players. Prizes will be awarded to 1st place. \nAges: 15+\nTime: 7:00pm – 9:00pm\nCost: $28 per player\n($25 + $3 Fee)
URL:https://kerrcalendar.com/event/schreiner-universitys-coed-pickleball-tournament/
LOCATION:Schreiner University\, 2100 Memorial Blvd\, Kerrville\, TX\, 78028\, United States
CATEGORIES:Sports
ATTACH;FMTTYPE=image/jpeg:https://kerrcalendar.com/wp-content/uploads/2025/07/pickleball-scaled.jpg
END:VEVENT
BEGIN:VEVENT
DTSTART;TZID=America/Chicago:20250806T073000
DTEND;TZID=America/Chicago:20250806T160000
DTSTAMP:20260419T233459
CREATED:20250723T122758Z
LAST-MODIFIED:20250723T122758Z
UID:10001177-1754465400-1754496000@kerrcalendar.com
SUMMARY:Ingram Tom Moore "Media Day"
DESCRIPTION:ITM Warriors will host media day at Ingram Tom Moore High School. Team and individual photos will be captured\, and the media is invited to meet the athletes ahead of the 2025 fall seasons. Volleyball\, football\, cross country\, cheer-leading\, and tennis will be involved. \nPhoto order details can be found at the link below.
URL:https://kerrcalendar.com/event/ingram-tom-moore-media-day/
LOCATION:Ingram ISD\, 64 Hwy 39\, Ingram\, TX\, 78025\, United States
CATEGORIES:Education and Schools,Sports
ATTACH;FMTTYPE=image/png:https://kerrcalendar.com/wp-content/uploads/2025/07/Ingram-TM-Logo-New-2024-scaled.png
END:VEVENT
BEGIN:VEVENT
DTSTART;TZID=America/Chicago:20250806T100000
DTEND;TZID=America/Chicago:20250806T120000
DTSTAMP:20260419T233459
CREATED:20250803T183534Z
LAST-MODIFIED:20250803T183534Z
UID:10001731-1754474400-1754481600@kerrcalendar.com
SUMMARY:First Responders Family Support Group
DESCRIPTION:Coping skills\, Stress Management\,\nIntegration Support\nButt-Holdsworth Library\n505 Water St\, Kerrville\, TX 78028
URL:https://kerrcalendar.com/event/first-responders-family-support-group/2025-08-06/
LOCATION:Butt-Holdsworth Memorial Library\, 505 Water St\, Kerrville\, TX\, 78028\, United States
CATEGORIES:Classes and Workshops
ATTACH;FMTTYPE=image/png:https://kerrcalendar.com/wp-content/uploads/2025/08/First-Responder-Family-Support-Flyer.png
END:VEVENT
BEGIN:VEVENT
DTSTART;TZID=America/Chicago:20250806T100000
DTEND;TZID=America/Chicago:20250806T170000
DTSTAMP:20260419T233459
CREATED:20250805T195157Z
LAST-MODIFIED:20250808T230214Z
UID:10001741-1754474400-1754499600@kerrcalendar.com
SUMMARY:FREE Pop-Up Carnival at Kerrville-Schreiner Park
DESCRIPTION:In the wake of the devastating flood on July 4\, our community has shown incredible strength\, resilience\, and compassion. As we continue to recover and rebuild together\, the City of Kerrville Parks and Recreation Department invites you to take a moment to reconnect\, recharge and celebrate the spirit of unity that defines us. We are proud to host a FREE Pop-Up Carnival at the beautiful Kerrville-Schreiner Park\, a place for laughter\, joy and togetherness for all ages\, just before school begins. Join us from Wednesday\, Aug. 6 to Tuesday\, Aug. 12 between 10 a.m. and 5 p.m. each day for classic carnival entertainment nestled in nature. \nUpon entering Kerrville-Schreiner Park\, all guests are asked to stop by the Parks and Recreation Office located at 2385 Bandera Hwy. Park staff will provide directions to Pecan Loop\, parking instructions\, and any other helpful information to make your visit as smooth as possible. Entry fees will be waived throughout the duration of the event. Please be aware that\, due to recent weather events\, the river area is closed to the public for safety reasons while cleanup and debris removal are in progress. We thank the community for their understanding and cooperation as we work to restore the area. \nFor additional information\, contact the Parks and Recreation Department at (830) 257-7300\, recreation@kerrvilletx.gov\, visit the city’s website at www.kerrvilletx.gov\, or follow us on Facebook at City of Kerrville Parks and Recreation Department or Instagram at cityofkerrville.
URL:https://kerrcalendar.com/event/free-pop-up-carnival-at-kerrville-schreiner-park/2025-08-06/
LOCATION:Kerrville-Schreiner Park\, 2385 Bandera Hwy\, Kerrville\, TX\, 78028\, United States
CATEGORIES:Arts and Entertainment,Outdoors and Nature
ATTACH;FMTTYPE=image/png:https://kerrcalendar.com/wp-content/uploads/2025/08/carnival-city.png
END:VEVENT
BEGIN:VEVENT
DTSTART;TZID=America/Chicago:20250806T110000
DTEND;TZID=America/Chicago:20250806T140000
DTSTAMP:20260419T233459
CREATED:20250720T131228Z
LAST-MODIFIED:20250720T131228Z
UID:10000523-1754478000-1754488800@kerrcalendar.com
SUMMARY:Friends of the Library Book Sale
DESCRIPTION:Book sale with used books at $1-$3 with some exceptions. Also for sale: CDs\, DVDs\, children’s books\, and collectibles.
URL:https://kerrcalendar.com/event/friends-of-the-library-book-sale/2025-08-06/
LOCATION:Butt-Holdsworth Memorial Library\, 505 Water St\, Kerrville\, TX\, 78028\, United States
CATEGORIES:Arts and Entertainment,Government and Civic
ATTACH;FMTTYPE=image/jpeg:https://kerrcalendar.com/wp-content/uploads/2025/07/qtq80-aByGrC.jpeg
END:VEVENT
BEGIN:VEVENT
DTSTART;TZID=America/Chicago:20250806T160000
DTEND;TZID=America/Chicago:20250806T180000
DTSTAMP:20260419T233459
CREATED:20250803T191759Z
LAST-MODIFIED:20250803T191759Z
UID:10001738-1754496000-1754503200@kerrcalendar.com
SUMMARY:Future of Our River: A Community Conversation
DESCRIPTION:Explore our shared vision for the Guadalupe. Share stories\, learn about riparian stewardship practices\, and discuss the long-term strategy for restorartion of the River. \nMultiple dates and locations.
URL:https://kerrcalendar.com/event/future-of-our-river-a-community-conversation-2/
LOCATION:Ingram Tom Moore High School Auditorium\, 510 TX-39\, Ingram\, TX\, 78025\, United States
CATEGORIES:Outdoors and Nature
ATTACH;FMTTYPE=image/jpeg:https://kerrcalendar.com/wp-content/uploads/2025/08/IMG_0229.jpg
END:VEVENT
BEGIN:VEVENT
DTSTART;TZID=America/Chicago:20250806T170000
DTEND;TZID=America/Chicago:20250806T190000
DTSTAMP:20260419T233459
CREATED:20250722T124814Z
LAST-MODIFIED:20250725T123931Z
UID:10001148-1754499600-1754506800@kerrcalendar.com
SUMMARY:KISD HPMS Athletic Locker Checkout
DESCRIPTION:Check out for an athletic locker for any 7th or 8th grader taking Athletics at HPMS will be in the gym from 5 – 7 p.m. For questions\, contact HPMS at 820-257-2204.
URL:https://kerrcalendar.com/event/kisd-hpms-athletic-locker-checkout/
LOCATION:Kerrville ISD\, 1009 Barnett St\, Kerrville\, TX\, 78028\, United States
CATEGORIES:Education and Schools
ATTACH;FMTTYPE=image/png:https://kerrcalendar.com/wp-content/uploads/2025/07/PetersonLogo_v2.png
END:VEVENT
END:VCALENDAR