BEGIN:VCALENDAR
VERSION:2.0
PRODID:-//Kerr Calendar - ECPv6.15.20//NONSGML v1.0//EN
CALSCALE:GREGORIAN
METHOD:PUBLISH
X-WR-CALNAME:Kerr Calendar
X-ORIGINAL-URL:https://kerrcalendar.com
X-WR-CALDESC:Events for Kerr Calendar
REFRESH-INTERVAL;VALUE=DURATION:PT1H
X-Robots-Tag:noindex
X-PUBLISHED-TTL:PT1H
BEGIN:VTIMEZONE
TZID:America/Chicago
BEGIN:DAYLIGHT
TZOFFSETFROM:-0600
TZOFFSETTO:-0500
TZNAME:CDT
DTSTART:20240310T080000
END:DAYLIGHT
BEGIN:STANDARD
TZOFFSETFROM:-0500
TZOFFSETTO:-0600
TZNAME:CST
DTSTART:20241103T070000
END:STANDARD
BEGIN:DAYLIGHT
TZOFFSETFROM:-0600
TZOFFSETTO:-0500
TZNAME:CDT
DTSTART:20250309T080000
END:DAYLIGHT
BEGIN:STANDARD
TZOFFSETFROM:-0500
TZOFFSETTO:-0600
TZNAME:CST
DTSTART:20251102T070000
END:STANDARD
BEGIN:DAYLIGHT
TZOFFSETFROM:-0600
TZOFFSETTO:-0500
TZNAME:CDT
DTSTART:20260308T080000
END:DAYLIGHT
BEGIN:STANDARD
TZOFFSETFROM:-0500
TZOFFSETTO:-0600
TZNAME:CST
DTSTART:20261101T070000
END:STANDARD
END:VTIMEZONE
BEGIN:VEVENT
DTSTART;TZID=America/Chicago:20250809T090000
DTEND;TZID=America/Chicago:20250809T120000
DTSTAMP:20260419T213532
CREATED:20250730T133817Z
LAST-MODIFIED:20250730T133817Z
UID:10001730-1754730000-1754740800@kerrcalendar.com
SUMMARY:Kroc Back to School Bash
DESCRIPTION:Celebrate back to school with a day of free family fun. Community event filled with bounce houses\, face painting\, cake walk\, games\, family resource vendors\, food vendors\, climbing wall\, live music\, and more.
URL:https://kerrcalendar.com/event/kroc-back-to-school-bash/
LOCATION:Kroc Center\, 201 Holdsworth Drive\, Kerrville\, 78028\, United States
CATEGORIES:Arts and Entertainment
ATTACH;FMTTYPE=image/png:https://kerrcalendar.com/wp-content/uploads/2025/07/back-to-school-bash.png
END:VEVENT
BEGIN:VEVENT
DTSTART;TZID=America/Chicago:20250809T090000
DTEND;TZID=America/Chicago:20250809T130000
DTSTAMP:20260419T213532
CREATED:20250721T120128Z
LAST-MODIFIED:20250728T163814Z
UID:10000787-1754730000-1754744400@kerrcalendar.com
SUMMARY:Heart of the Hills Farmers Market
DESCRIPTION:Supporting local producers\, fostering community\, promoting sustainability in our growing practices.
URL:https://kerrcalendar.com/event/heart-of-the-hills-farmers-market/2025-08-09/
LOCATION:Dallas Daughtry Boardwalk Pavilion\, 805 Water St\, Kerrville\, TX\, 78028\, United States
CATEGORIES:Nonprofits and Fundraisers
ATTACH;FMTTYPE=image/jpeg:https://kerrcalendar.com/wp-content/uploads/2025/07/qtq80-taw4Rz.jpeg
END:VEVENT
BEGIN:VEVENT
DTSTART;TZID=America/Chicago:20250809T100000
DTEND;TZID=America/Chicago:20250809T170000
DTSTAMP:20260419T213532
CREATED:20250805T195157Z
LAST-MODIFIED:20250808T230214Z
UID:10001744-1754733600-1754758800@kerrcalendar.com
SUMMARY:FREE Pop-Up Carnival at Kerrville-Schreiner Park
DESCRIPTION:In the wake of the devastating flood on July 4\, our community has shown incredible strength\, resilience\, and compassion. As we continue to recover and rebuild together\, the City of Kerrville Parks and Recreation Department invites you to take a moment to reconnect\, recharge and celebrate the spirit of unity that defines us. We are proud to host a FREE Pop-Up Carnival at the beautiful Kerrville-Schreiner Park\, a place for laughter\, joy and togetherness for all ages\, just before school begins. Join us from Wednesday\, Aug. 6 to Tuesday\, Aug. 12 between 10 a.m. and 5 p.m. each day for classic carnival entertainment nestled in nature. \nUpon entering Kerrville-Schreiner Park\, all guests are asked to stop by the Parks and Recreation Office located at 2385 Bandera Hwy. Park staff will provide directions to Pecan Loop\, parking instructions\, and any other helpful information to make your visit as smooth as possible. Entry fees will be waived throughout the duration of the event. Please be aware that\, due to recent weather events\, the river area is closed to the public for safety reasons while cleanup and debris removal are in progress. We thank the community for their understanding and cooperation as we work to restore the area. \nFor additional information\, contact the Parks and Recreation Department at (830) 257-7300\, recreation@kerrvilletx.gov\, visit the city’s website at www.kerrvilletx.gov\, or follow us on Facebook at City of Kerrville Parks and Recreation Department or Instagram at cityofkerrville.
URL:https://kerrcalendar.com/event/free-pop-up-carnival-at-kerrville-schreiner-park/2025-08-09/
LOCATION:Kerrville-Schreiner Park\, 2385 Bandera Hwy\, Kerrville\, TX\, 78028\, United States
CATEGORIES:Arts and Entertainment,Outdoors and Nature
ATTACH;FMTTYPE=image/png:https://kerrcalendar.com/wp-content/uploads/2025/08/carnival-city.png
END:VEVENT
BEGIN:VEVENT
DTSTART;TZID=America/Chicago:20250809T180000
DTEND;TZID=America/Chicago:20250809T210000
DTSTAMP:20260419T213532
CREATED:20250807T113717Z
LAST-MODIFIED:20250807T113717Z
UID:10002115-1754762400-1754773200@kerrcalendar.com
SUMMARY:Live Music with Train Wreck Shipping Company!
DESCRIPTION:Join us at Café at the Ridge for a night of genre-blending tunes with Train Wreck Shipping Company! This talented crew delivers a high-energy mix of jazz\, blues\, funk\, R&B\, rock ‘n roll\, and country—serving up something for every kind of music lover. Their rich sound and smooth grooves create the perfect backdrop for a laid-back evening in the Texas Hill Country.
URL:https://kerrcalendar.com/event/live-music-with-train-wreck-shipping-company/
LOCATION:The Ridge Marketplace\, 13439 S. Ranch Road 783\, Kerrville\, 78028\, United States
CATEGORIES:Arts and Entertainment
ATTACH;FMTTYPE=image/jpeg:https://kerrcalendar.com/wp-content/uploads/2025/08/Train-Wreck-Shipping-Company.jpg
ORGANIZER;CN="The Ridge Marketplace":MAILTO:marcustheridge@gmail.com
END:VEVENT
BEGIN:VEVENT
DTSTART;TZID=America/Chicago:20250809T190000
DTEND;TZID=America/Chicago:20250809T220000
DTSTAMP:20260419T213532
CREATED:20250724T122253Z
LAST-MODIFIED:20250724T122410Z
UID:10001290-1754766000-1754776800@kerrcalendar.com
SUMMARY:Kerr County Flood Relief Night at the SA Missions
DESCRIPTION:Come together through the power of sport for a night of joy and community at Nelson Wolff Stadium in San Antonio as the Missions take on the Springfield Cardinals. The Missions will proudly wear Kerrville Tivy\, Ingram\, Center Point\, and Comfort jerseys as they take the field. These special jerseys will be autographed and auctioned off throughout the game to raise money for the Kerr Country Flood Relief Fund and support the field restoration of Ingram Little League through a partnership with the Round Rock Express\, Nolan Ryan Foundation\, & RS3 Turf. Missions Owner Manu Ginobili will wear one of these special jersey as he throws out a first pitch to a student-athlete. \nThe Missions would like to offer Kerr County families a special discounted ticket price via this link in hopes we can all come together and begin healing together. Fans will have the opportunity to bid on the jerseys throughout the game\, auction will end 10 minutes after the conclusion of the fireworks show. Jerseys can be paid for and picked up right after the auction ends. \n\nNelson Wolff Municipal Stadium\n5757 US-90\, San Antonio\, TX 78227\, US\nPurchase Deadline: Aug 08\, 2025 11:59 PM CDT
URL:https://kerrcalendar.com/event/kerr-county-flood-relief-night-at-the-sa-missions/
CATEGORIES:Sports
ATTACH;FMTTYPE=image/png:https://kerrcalendar.com/wp-content/uploads/2025/07/missions-kerr.png
END:VEVENT
BEGIN:VEVENT
DTSTART;TZID=America/Chicago:20250809T193000
DTEND;TZID=America/Chicago:20250809T220000
DTSTAMP:20260419T213532
CREATED:20250728T134813Z
LAST-MODIFIED:20250728T134813Z
UID:10001455-1754767800-1754776800@kerrcalendar.com
SUMMARY:The Arsonists - A Play by Yellow Lab Productions
DESCRIPTION:Yellow Lab Productions presents The Arsonists\, Friday and Saturday\, August 8 and 9 at 7:30 pm in the VK Garage Theater.\nThe Arsonists is a lyrical Southern Gothic tale inspired by Electra about a father-daughter arson team who escapes to the Florida Everglades following a job gone terribly wrong. The Arsonists is a two-character play that explores grief\, death and love through the lens of a father-daughter relationship. It’s a provocative journey from grief to redemption that delves into the primal bond between parent and child\, and explores whether that bond can ever truly be broken.\nRated PG-13 for mature themes and language
URL:https://kerrcalendar.com/event/the-arsonists-a-play-by-yellow-lab-productions/2025-08-09/
LOCATION:Cailloux Theater\, 910 Main Street\, Kerrville\, TX\, 78028\, United States
CATEGORIES:Arts and Entertainment
ATTACH;FMTTYPE=image/jpeg:https://kerrcalendar.com/wp-content/uploads/2025/07/arsonists-play.jpg
END:VEVENT
BEGIN:VEVENT
DTSTART;TZID=America/Chicago:20250809T203000
DTEND;TZID=America/Chicago:20250809T213000
DTSTAMP:20260419T213532
CREATED:20250723T122512Z
LAST-MODIFIED:20250808T230534Z
UID:10001176-1754771400-1754775000@kerrcalendar.com
SUMMARY:Tivy Community Pep Rally
DESCRIPTION:Community pep rally for all sports at Antler Stadium! After the pep rally\, public football practice from 8:30 pm to 9:30 pm.
URL:https://kerrcalendar.com/event/tivy-moms-101-and-community-pep-rally/
LOCATION:Antler Stadium\, 1310 Sidney Baker St\, Kerrville\, 78028\, United States
CATEGORIES:Sports
ATTACH;FMTTYPE=image/png:https://kerrcalendar.com/wp-content/uploads/2025/07/Tivy-Logo-yellow.png
END:VEVENT
END:VCALENDAR