BEGIN:VCALENDAR
VERSION:2.0
PRODID:-//Kerr Calendar - ECPv6.15.20//NONSGML v1.0//EN
CALSCALE:GREGORIAN
METHOD:PUBLISH
X-WR-CALNAME:Kerr Calendar
X-ORIGINAL-URL:https://kerrcalendar.com
X-WR-CALDESC:Events for Kerr Calendar
REFRESH-INTERVAL;VALUE=DURATION:PT1H
X-Robots-Tag:noindex
X-PUBLISHED-TTL:PT1H
BEGIN:VTIMEZONE
TZID:America/Chicago
BEGIN:DAYLIGHT
TZOFFSETFROM:-0600
TZOFFSETTO:-0500
TZNAME:CDT
DTSTART:20240310T080000
END:DAYLIGHT
BEGIN:STANDARD
TZOFFSETFROM:-0500
TZOFFSETTO:-0600
TZNAME:CST
DTSTART:20241103T070000
END:STANDARD
BEGIN:DAYLIGHT
TZOFFSETFROM:-0600
TZOFFSETTO:-0500
TZNAME:CDT
DTSTART:20250309T080000
END:DAYLIGHT
BEGIN:STANDARD
TZOFFSETFROM:-0500
TZOFFSETTO:-0600
TZNAME:CST
DTSTART:20251102T070000
END:STANDARD
BEGIN:DAYLIGHT
TZOFFSETFROM:-0600
TZOFFSETTO:-0500
TZNAME:CDT
DTSTART:20260308T080000
END:DAYLIGHT
BEGIN:STANDARD
TZOFFSETFROM:-0500
TZOFFSETTO:-0600
TZNAME:CST
DTSTART:20261101T070000
END:STANDARD
END:VTIMEZONE
BEGIN:VEVENT
DTSTART;TZID=America/Chicago:20250812T100000
DTEND;TZID=America/Chicago:20250812T170000
DTSTAMP:20260419T214811
CREATED:20250805T195157Z
LAST-MODIFIED:20250808T230214Z
UID:10001747-1754992800-1755018000@kerrcalendar.com
SUMMARY:FREE Pop-Up Carnival at Kerrville-Schreiner Park
DESCRIPTION:In the wake of the devastating flood on July 4\, our community has shown incredible strength\, resilience\, and compassion. As we continue to recover and rebuild together\, the City of Kerrville Parks and Recreation Department invites you to take a moment to reconnect\, recharge and celebrate the spirit of unity that defines us. We are proud to host a FREE Pop-Up Carnival at the beautiful Kerrville-Schreiner Park\, a place for laughter\, joy and togetherness for all ages\, just before school begins. Join us from Wednesday\, Aug. 6 to Tuesday\, Aug. 12 between 10 a.m. and 5 p.m. each day for classic carnival entertainment nestled in nature. \nUpon entering Kerrville-Schreiner Park\, all guests are asked to stop by the Parks and Recreation Office located at 2385 Bandera Hwy. Park staff will provide directions to Pecan Loop\, parking instructions\, and any other helpful information to make your visit as smooth as possible. Entry fees will be waived throughout the duration of the event. Please be aware that\, due to recent weather events\, the river area is closed to the public for safety reasons while cleanup and debris removal are in progress. We thank the community for their understanding and cooperation as we work to restore the area. \nFor additional information\, contact the Parks and Recreation Department at (830) 257-7300\, recreation@kerrvilletx.gov\, visit the city’s website at www.kerrvilletx.gov\, or follow us on Facebook at City of Kerrville Parks and Recreation Department or Instagram at cityofkerrville.
URL:https://kerrcalendar.com/event/free-pop-up-carnival-at-kerrville-schreiner-park/2025-08-12/
LOCATION:Kerrville-Schreiner Park\, 2385 Bandera Hwy\, Kerrville\, TX\, 78028\, United States
CATEGORIES:Arts and Entertainment,Outdoors and Nature
ATTACH;FMTTYPE=image/png:https://kerrcalendar.com/wp-content/uploads/2025/08/carnival-city.png
END:VEVENT
BEGIN:VEVENT
DTSTART;TZID=America/Chicago:20250812T180000
DTEND;TZID=America/Chicago:20250812T200000
DTSTAMP:20260419T214811
CREATED:20250719T230608Z
LAST-MODIFIED:20250719T230608Z
UID:10000199-1755021600-1755028800@kerrcalendar.com
SUMMARY:Kerrville City Council Meeting
DESCRIPTION:The Mayor and Councilmembers function as the policy-making body of the city\, determining the overall goals\, objectives and direction for city services and adopting the annual operating budgets for all City Departments. They meet regularly on the second and fourth Tuesday of each month at 6:00 PM (often preceded by a workshop at 4 PM on same date) in Council Chambers at City Hall. Meetings are open to the public. Agendas can be found at the link below.
URL:https://kerrcalendar.com/event/kerrville-city-council-meeting-2/2025-08-12/
LOCATION:City Hall\, 701 Main Street\, Kerrville\, TX\, 78028\, United States
CATEGORIES:Government and Civic
ATTACH;FMTTYPE=image/jpeg:https://kerrcalendar.com/wp-content/uploads/2025/07/cityhall-scaled.jpg
END:VEVENT
END:VCALENDAR