BEGIN:VCALENDAR
VERSION:2.0
PRODID:-//Kerr Calendar - ECPv6.15.20//NONSGML v1.0//EN
CALSCALE:GREGORIAN
METHOD:PUBLISH
X-WR-CALNAME:Kerr Calendar
X-ORIGINAL-URL:https://kerrcalendar.com
X-WR-CALDESC:Events for Kerr Calendar
REFRESH-INTERVAL;VALUE=DURATION:PT1H
X-Robots-Tag:noindex
X-PUBLISHED-TTL:PT1H
BEGIN:VTIMEZONE
TZID:America/Chicago
BEGIN:DAYLIGHT
TZOFFSETFROM:-0600
TZOFFSETTO:-0500
TZNAME:CDT
DTSTART:20240310T080000
END:DAYLIGHT
BEGIN:STANDARD
TZOFFSETFROM:-0500
TZOFFSETTO:-0600
TZNAME:CST
DTSTART:20241103T070000
END:STANDARD
BEGIN:DAYLIGHT
TZOFFSETFROM:-0600
TZOFFSETTO:-0500
TZNAME:CDT
DTSTART:20250309T080000
END:DAYLIGHT
BEGIN:STANDARD
TZOFFSETFROM:-0500
TZOFFSETTO:-0600
TZNAME:CST
DTSTART:20251102T070000
END:STANDARD
BEGIN:DAYLIGHT
TZOFFSETFROM:-0600
TZOFFSETTO:-0500
TZNAME:CDT
DTSTART:20260308T080000
END:DAYLIGHT
BEGIN:STANDARD
TZOFFSETFROM:-0500
TZOFFSETTO:-0600
TZNAME:CST
DTSTART:20261101T070000
END:STANDARD
END:VTIMEZONE
BEGIN:VEVENT
DTSTART;TZID=America/Chicago:20250815T090000
DTEND;TZID=America/Chicago:20250817T160000
DTSTAMP:20260419T214813
CREATED:20250724T231425Z
LAST-MODIFIED:20250724T231425Z
UID:10001381-1755248400-1755446400@kerrcalendar.com
SUMMARY:Fredericksburg Trade Days
DESCRIPTION:Fredericksburg Trade Days is a Texas Hill Country shopping experience like no other. Held the third weekend of each month\, you’ll find acres of shopping\, food\, drinks\, and live music. They include 7 barns & acres of antiques\, collectibles\, tools\, crafts\, shabby chic\, primitives\, ranch furniture\, hunting accessories\, candles\, unique clothing\, jewelry\, food and so much more.
URL:https://kerrcalendar.com/event/fredericksburg-trade-days/2025-08-15/
LOCATION:Fredericksburg Trade Days\, 355 Sunday Farms Rd\, Fredericksburg\, United States
CATEGORIES:Arts and Entertainment
ATTACH;FMTTYPE=image/jpeg:https://kerrcalendar.com/wp-content/uploads/2025/07/logobw.jpg
END:VEVENT
BEGIN:VEVENT
DTSTART;TZID=America/Chicago:20250816T090000
DTEND;TZID=America/Chicago:20250816T130000
DTSTAMP:20260419T214813
CREATED:20250721T120128Z
LAST-MODIFIED:20250728T163814Z
UID:10000788-1755334800-1755349200@kerrcalendar.com
SUMMARY:Heart of the Hills Farmers Market
DESCRIPTION:Supporting local producers\, fostering community\, promoting sustainability in our growing practices.
URL:https://kerrcalendar.com/event/heart-of-the-hills-farmers-market/2025-08-16/
LOCATION:Dallas Daughtry Boardwalk Pavilion\, 805 Water St\, Kerrville\, TX\, 78028\, United States
CATEGORIES:Nonprofits and Fundraisers
ATTACH;FMTTYPE=image/jpeg:https://kerrcalendar.com/wp-content/uploads/2025/07/qtq80-taw4Rz.jpeg
END:VEVENT
BEGIN:VEVENT
DTSTART;TZID=America/Chicago:20250816T180000
DTEND;TZID=America/Chicago:20250816T210000
DTSTAMP:20260419T214813
CREATED:20250807T113717Z
LAST-MODIFIED:20250807T113717Z
UID:10002117-1755367200-1755378000@kerrcalendar.com
SUMMARY:Live Music with Chris Lirette!
DESCRIPTION:Enjoy an evening of captivating live music with Chris Lirette at Cafe at the Ridge! With his rich voice and engaging performances\, Chris will set the perfect atmosphere for a memorable night. As you enjoy the soulful tunes\, treat yourself to our delicious menu—from savory appetizers to hearty entrées and homemade desserts\, every bite is made to complement the evening. \nDon’t miss this incredible night of live music\, great food\, and welcoming Hill Country charm!
URL:https://kerrcalendar.com/event/live-music-with-chris-lirette/
LOCATION:The Ridge Marketplace\, 13439 S. Ranch Road 783\, Kerrville\, 78028\, United States
CATEGORIES:Arts and Entertainment
ATTACH;FMTTYPE=image/jpeg:https://kerrcalendar.com/wp-content/uploads/2025/08/Chris-Lirette.jpeg
ORGANIZER;CN="The Ridge Marketplace":MAILTO:marcustheridge@gmail.com
END:VEVENT
END:VCALENDAR