BEGIN:VCALENDAR
VERSION:2.0
PRODID:-//Kerr Calendar - ECPv6.15.20//NONSGML v1.0//EN
CALSCALE:GREGORIAN
METHOD:PUBLISH
X-WR-CALNAME:Kerr Calendar
X-ORIGINAL-URL:https://kerrcalendar.com
X-WR-CALDESC:Events for Kerr Calendar
REFRESH-INTERVAL;VALUE=DURATION:PT1H
X-Robots-Tag:noindex
X-PUBLISHED-TTL:PT1H
BEGIN:VTIMEZONE
TZID:America/Chicago
BEGIN:DAYLIGHT
TZOFFSETFROM:-0600
TZOFFSETTO:-0500
TZNAME:CDT
DTSTART:20240310T080000
END:DAYLIGHT
BEGIN:STANDARD
TZOFFSETFROM:-0500
TZOFFSETTO:-0600
TZNAME:CST
DTSTART:20241103T070000
END:STANDARD
BEGIN:DAYLIGHT
TZOFFSETFROM:-0600
TZOFFSETTO:-0500
TZNAME:CDT
DTSTART:20250309T080000
END:DAYLIGHT
BEGIN:STANDARD
TZOFFSETFROM:-0500
TZOFFSETTO:-0600
TZNAME:CST
DTSTART:20251102T070000
END:STANDARD
BEGIN:DAYLIGHT
TZOFFSETFROM:-0600
TZOFFSETTO:-0500
TZNAME:CDT
DTSTART:20260308T080000
END:DAYLIGHT
BEGIN:STANDARD
TZOFFSETFROM:-0500
TZOFFSETTO:-0600
TZNAME:CST
DTSTART:20261101T070000
END:STANDARD
END:VTIMEZONE
BEGIN:VEVENT
DTSTART;VALUE=DATE:20250822
DTEND;VALUE=DATE:20250824
DTSTAMP:20260419T214812
CREATED:20250727T204625Z
LAST-MODIFIED:20250727T204625Z
UID:10001451-1755820800-1755993599@kerrcalendar.com
SUMMARY:Write Your Best Story! @ KACC
DESCRIPTION:Aug 22nd – Aug 23rd\, 2025 | Kerr Arts & Cultural Center \n\nInstructor: Johnnie Bernhard\nAugust 22 & 23\n10:30am – 3 pm\n$180 \nCLICK HERE TO REGISTER \nLearn the essential skills to writing and publishing in a series of interactive craft classes designed for fiction writers. Each class will feature a fun assignment to jump start your creativity\, while honing your writing skills. \nThe workshop is led by former teacher and journalist\, Johnnie Bernhard\, who is passionate about reading and writing.  Her work(s) have appeared in Houston Style Magazine\, The Mississippi Press\, the international Word Among Us\, The Texas Review\, and the Cowbird-NPR production on small town America. She is the author of four books: A Good Girl (2017)\, How We Came to Be (2018)\, Sisters of the Undertow (2020)\, and  Hannah and Ariela (2022). Each novel has won both state-wide and national honors. \nJohnnie was chosen as a selected speaker in the 2020 TEDx Fearless Women Series. She also supports young writers through the Letters About Literature program with the Texas Center for the Book and the Write for Mississippi program. In 2021\, she was named a teaching artist with Gemini Ink Writing Arts Center of San Antonio and the national TAP Summer Institute 2021. Johnnie enjoys teaching workshops for writing communities across the country. \nFor more information about Johnnie\, visit her website at: \nwww.johnniebernhardauthor.com \nThe Write Your Best Story workshop will be broken up into four sessions – a morning and afternoon session each day\, with an hour break for lunch. The sessions are as follows: \n\nPublish Your Story: learn the differences between traditional\, self\, and hybrid publishing. Vet a literary agent and a publishing company. Write a query letter and synopsis based on industry standards.\nThe Writing Process: Prewriting\, Writing\, and Revision. Learn how to jump start your creativity through the writing process. Writers will focus on prewriting activities using a graphic organizer\, structuring a plot\, and finalizing word count in the revision process.\nFiction and the Editing Process: learn the differences between developmental editing and copy editing.  Writers will focus on eliminating unnecessary words and tightening the narrative pace of their writing.\nCreating Fictional Characters Who Come Alive: the protagonist and antagonist who make readers turn the pages. Writers will focus on “fleshing out” characters in this step-by-step approach to character development.\n\nJohnnie will have her books available for sale and signing after the workshop.
URL:https://kerrcalendar.com/event/write-your-best-story-kacc/
LOCATION:Kerr Arts & Cultural Center\, 228 Earl Garrett St\, Kerrville\, 78028\, United States
CATEGORIES:Classes and Workshops
ATTACH;FMTTYPE=image/jpeg:https://kerrcalendar.com/wp-content/uploads/2025/07/qtq80-80r6dk.jpeg
END:VEVENT
BEGIN:VEVENT
DTSTART;TZID=America/Chicago:20250823T090000
DTEND;TZID=America/Chicago:20250823T130000
DTSTAMP:20260419T214812
CREATED:20250721T120128Z
LAST-MODIFIED:20250728T163814Z
UID:10000789-1755939600-1755954000@kerrcalendar.com
SUMMARY:Heart of the Hills Farmers Market
DESCRIPTION:Supporting local producers\, fostering community\, promoting sustainability in our growing practices.
URL:https://kerrcalendar.com/event/heart-of-the-hills-farmers-market/2025-08-23/
LOCATION:Dallas Daughtry Boardwalk Pavilion\, 805 Water St\, Kerrville\, TX\, 78028\, United States
CATEGORIES:Nonprofits and Fundraisers
ATTACH;FMTTYPE=image/jpeg:https://kerrcalendar.com/wp-content/uploads/2025/07/qtq80-taw4Rz.jpeg
END:VEVENT
BEGIN:VEVENT
DTSTART;TZID=America/Chicago:20250823T100000
DTEND;TZID=America/Chicago:20250823T170000
DTSTAMP:20260419T214812
CREATED:20250722T204659Z
LAST-MODIFIED:20250722T204659Z
UID:10001171-1755943200-1755968400@kerrcalendar.com
SUMMARY:Land & Ranch Expo - Legacy Partners
DESCRIPTION:Land & Ranch Expo! Saturday August 23rd. Free & Open to the Public.Expert Speakers: Land Appraisals\, AG Valuations\, Wildlife\, Legislative Recap\, Fire Prevention. Vendor Hall\, Door Prizes. RSVP BELOW…..Plateau Land & Wildlife Management Texas Wildlife Association The Nature Conservancy Y O Ranch Hotel & Conference Center
URL:https://kerrcalendar.com/event/land-ranch-expo-legacy-partners/
LOCATION:YO Ranch Hotel\, 2033 Sidney Baker St\, Kerrville\, 78028\, United States
CATEGORIES:Classes and Workshops
ATTACH;FMTTYPE=image/jpeg:https://kerrcalendar.com/wp-content/uploads/2025/07/landranchexpo.jpg
END:VEVENT
BEGIN:VEVENT
DTSTART;TZID=America/Chicago:20250823T180000
DTEND;TZID=America/Chicago:20250823T210000
DTSTAMP:20260419T214812
CREATED:20250725T121505Z
LAST-MODIFIED:20250822T154153Z
UID:10001299-1755972000-1755982800@kerrcalendar.com
SUMMARY:Schreiner University Volleyball vs. Howard Payne
DESCRIPTION:
URL:https://kerrcalendar.com/event/schreiner-university-su-volleyball-howard-payne-2/
LOCATION:Schreiner Universty Event Center\, Schreiner Athletic and Event Center\, Kerrville\, TX\, 78028\, United States
CATEGORIES:Sports
ATTACH;FMTTYPE=image/png:https://kerrcalendar.com/wp-content/uploads/2025/07/schreiner.png
END:VEVENT
BEGIN:VEVENT
DTSTART;TZID=America/Chicago:20250823T180000
DTEND;TZID=America/Chicago:20250823T210000
DTSTAMP:20260419T214812
CREATED:20250807T113717Z
LAST-MODIFIED:20250807T113717Z
UID:10002119-1755972000-1755982800@kerrcalendar.com
SUMMARY:Live Music with Checkmate!
DESCRIPTION:Join us for a fun night of live music as fan-favorite Checkmate returns to the stage at Café at the Ridge in Kerrville\, Texas! \nBring your friends\, grab a bite to eat\, and enjoy a laid-back evening with great food\, cold drinks\, and live tunes under the Hill Country sky. Whether you’ve seen them before or it’s your first time\, Checkmate never disappoints!
URL:https://kerrcalendar.com/event/live-music-with-checkmate/
LOCATION:The Ridge Marketplace\, 13439 S. Ranch Road 783\, Kerrville\, 78028\, United States
CATEGORIES:Arts and Entertainment
ATTACH;FMTTYPE=image/jpeg:https://kerrcalendar.com/wp-content/uploads/2025/08/Checkmate.jpg
ORGANIZER;CN="The Ridge Marketplace":MAILTO:marcustheridge@gmail.com
END:VEVENT
BEGIN:VEVENT
DTSTART;TZID=America/Chicago:20250823T193000
DTEND;TZID=America/Chicago:20250823T223000
DTSTAMP:20260419T214812
CREATED:20250822T155013Z
LAST-MODIFIED:20250822T155013Z
UID:10002134-1755977400-1755988200@kerrcalendar.com
SUMMARY:Shipwrecked! @ HCAF
DESCRIPTION:Shipwrecked! An Entertainment—The Amazing Adventures of Louis de Rougemont (as Told by Himself) Theadventurous Louis de Rougemont invites you to hear his amazing story of bravery\, survival and celebrity that left nineteenth-century England spellbound. Dare to be whisked away in a story of the high seas\, populated by exotic islanders\, flying wombats\, giant sea turtles and a monstrous man-eating octopus. SHIPWRECKED examines how far we’re willing to blur the line between fact and fiction in order to leave our mark on the world.
URL:https://kerrcalendar.com/event/shipwrecked-hcaf/2025-08-23/
LOCATION:Hill Country Arts Foundation\, 120 Point Theater Rd\, Ingram\, 78025\, United States
CATEGORIES:Arts and Entertainment
ATTACH;FMTTYPE=image/jpeg:https://kerrcalendar.com/wp-content/uploads/2025/08/qtq80-wmObWm.jpeg
END:VEVENT
END:VCALENDAR