BEGIN:VCALENDAR
VERSION:2.0
PRODID:-//Kerr Calendar - ECPv6.15.20//NONSGML v1.0//EN
CALSCALE:GREGORIAN
METHOD:PUBLISH
X-WR-CALNAME:Kerr Calendar
X-ORIGINAL-URL:https://kerrcalendar.com
X-WR-CALDESC:Events for Kerr Calendar
REFRESH-INTERVAL;VALUE=DURATION:PT1H
X-Robots-Tag:noindex
X-PUBLISHED-TTL:PT1H
BEGIN:VTIMEZONE
TZID:America/Chicago
BEGIN:DAYLIGHT
TZOFFSETFROM:-0600
TZOFFSETTO:-0500
TZNAME:CDT
DTSTART:20240310T080000
END:DAYLIGHT
BEGIN:STANDARD
TZOFFSETFROM:-0500
TZOFFSETTO:-0600
TZNAME:CST
DTSTART:20241103T070000
END:STANDARD
BEGIN:DAYLIGHT
TZOFFSETFROM:-0600
TZOFFSETTO:-0500
TZNAME:CDT
DTSTART:20250309T080000
END:DAYLIGHT
BEGIN:STANDARD
TZOFFSETFROM:-0500
TZOFFSETTO:-0600
TZNAME:CST
DTSTART:20251102T070000
END:STANDARD
BEGIN:DAYLIGHT
TZOFFSETFROM:-0600
TZOFFSETTO:-0500
TZNAME:CDT
DTSTART:20260308T080000
END:DAYLIGHT
BEGIN:STANDARD
TZOFFSETFROM:-0500
TZOFFSETTO:-0600
TZNAME:CST
DTSTART:20261101T070000
END:STANDARD
END:VTIMEZONE
BEGIN:VEVENT
DTSTART;TZID=America/Chicago:20250830T090000
DTEND;TZID=America/Chicago:20250830T130000
DTSTAMP:20260419T214816
CREATED:20250721T120128Z
LAST-MODIFIED:20250728T163814Z
UID:10000790-1756544400-1756558800@kerrcalendar.com
SUMMARY:Heart of the Hills Farmers Market
DESCRIPTION:Supporting local producers\, fostering community\, promoting sustainability in our growing practices.
URL:https://kerrcalendar.com/event/heart-of-the-hills-farmers-market/2025-08-30/
LOCATION:Dallas Daughtry Boardwalk Pavilion\, 805 Water St\, Kerrville\, TX\, 78028\, United States
CATEGORIES:Nonprofits and Fundraisers
ATTACH;FMTTYPE=image/jpeg:https://kerrcalendar.com/wp-content/uploads/2025/07/qtq80-taw4Rz.jpeg
END:VEVENT
BEGIN:VEVENT
DTSTART;TZID=America/Chicago:20250830T170000
DTEND;TZID=America/Chicago:20250830T210000
DTSTAMP:20260419T214816
CREATED:20250822T152635Z
LAST-MODIFIED:20250822T153728Z
UID:10002128-1756573200-1756587600@kerrcalendar.com
SUMMARY:Hearts For The Hudsons: Flood Relief Benefit Concert and Silent Auction
DESCRIPTION:Join us on Saturday\, August 30th\, from 5–9 PM at Ridge Rock Amphitheater in Kerrville\, Texas\, for Hearts for the Hudsons\, a special night of live music\, community\, and giving back. \nThis benefit concert supports Jack and Jennifer Hudson\, beloved members of the Kerr County community and owners of Quality Patio Furniture. The Hudsons lost all of their tools\, supplies\, and equipment when their workshop was devastated in the recent flood. Jack is the skilled craftsman behind the handmade picnic tables and benches that fill The Ridge Marketplace\, the Gardens\, and the Amphitheater. \nThe evening will feature live performances by Lone Star 118\, Callie Ann Stelter\, Aaron LaCombe\, and more. Guests can also participate in a Silent Auction with incredible items donated by local businesses\, organizations\, and artists\, including contributions from the Randy Rogers Band and the San Antonio Spurs. \nEvent Details:\n📅 Date: Saturday\, August 30\, 2025\n🕔 Time: 5 PM – 9 PM\n📍 Location: Ridge Rock Amphitheater\, 13439 S Ranch Road 783\, Kerrville\, TX 78028\n🎟 All proceeds go directly to Jack and Jennifer Hudson to help rebuild their business \nCome enjoy great music\, bid on amazing auction items\, and help us raise the funds needed to rebuild the Hudsons’ workshop and give their small business the chance to thrive again.
URL:https://kerrcalendar.com/event/hearts-for-the-hudsons-flood-relief-benefit-concert-silent-auction/
LOCATION:The Ridge Marketplace\, 13439 S. Ranch Road 783\, Kerrville\, 78028\, United States
CATEGORIES:Arts and Entertainment
ATTACH;FMTTYPE=image/png:https://kerrcalendar.com/wp-content/uploads/2025/08/Hearts-for-the-Hudsons-8.png
ORGANIZER;CN="The Ridge Marketplace":MAILTO:marcustheridge@gmail.com
END:VEVENT
BEGIN:VEVENT
DTSTART;VALUE=DATE:20250830
DTEND;VALUE=DATE:20250831
DTSTAMP:20260419T214816
CREATED:20250803T183818Z
LAST-MODIFIED:20250803T183818Z
UID:10001734-1756575000-1756589400@kerrcalendar.com
SUMMARY:Rise and Rebuild presented by Arcadia Live and Kerrville Folk Fest
DESCRIPTION:Our region has faced significant challenges recently\, and in response\, Arcadia is launching the Rise and Rebuild Concert Series—a tribute to the first responders\, volunteers\, and community members who have shown extraordinary resilience during these challenging times. Our focus is simple—we’re bringing our local community together through the healing power of music and entertainment.\n\nFrom August 1- October 31st\, we will hold a number of concerts and events dedicated to our focus. Many well known and critically acclaimed artists have stepped forward to contribute to the healing process through their art. In order to keep this series strictly for locals\, we will not reveal the performing artist’s names until one week in advance with special invitations first to those who have been impacted.\n\nConfirmed dates with more programming on the horizon\nMonday\, August 25th\nSaturday\, August 30th\nFriday\, September 12th\nWednesday October 8th\n\nWe would like to thank our Kerrville’s 4th on the River sponsors for shifting focus along with us so we could host this restorative series.\n\nWe are honored to walk hand in hand with our neighbors as we begin the healing process.
URL:https://kerrcalendar.com/event/rise-and-rebuild-presented-by-arcadia-live-and-kerrville-folk-fest/2025-08-30/
LOCATION:Arcadia Live\, 717 Water Street\, Kerrville\, TX\, 78028\, United States
CATEGORIES:Arts and Entertainment
ATTACH;FMTTYPE=image/png:https://kerrcalendar.com/wp-content/uploads/2025/08/rise.png
END:VEVENT
BEGIN:VEVENT
DTSTART;VALUE=DATE:20250830
DTEND;VALUE=DATE:20250831
DTSTAMP:20260419T214816
CREATED:20250724T132321Z
LAST-MODIFIED:20250822T154432Z
UID:10001371-1756582200-1756591200@kerrcalendar.com
SUMMARY:Into the Woods
DESCRIPTION:Playhouse 2000 presents the hit musical Into the Woods\, August 22-Sept 7\, 2025\, Fridays and Saturdays at 7:30 pm and Sundays\, August 31 and September 7 at 2:30 pm in the Cailloux Theater.\nWe want to make a “big splash” when The Cailloux Theater re-opens after the construction to replace the roof and Heating/Air Conditioning system. We think Stephen Sondheim and Joseph Lapine’s Into The Woods is just the show to do it!\nInto the Woods starts with a mashup of multiple stories from the world of fairy tales – Jack and The Beanstalk\, Little Red Riding Hood\, Cinderella\, Rapunzel and The Baker’s Wife\, to name a few. Then\, in Act II – after the “Happily Ever After” – it explores the very real consequences those characters might have to face. Remember\, “no one is alone.”\n\nOn Broadway\, Into the Woods was nominated for 10 Tony Awards and earned 3\, plus 5 Drama Desk Awards\, including Outstanding Book\, Lyrics\, and Musical. Revivals have won 21 Tony\, Olivier\, Drama Desk and Audience Choice Awards\, and it’s 2014 film version \, starring Meryl Streep\, Anna Kendrick\, Chris Pine\, Johnny Depp\, and more\, broke box office records.
URL:https://kerrcalendar.com/event/into-the-woods/2025-08-30/
LOCATION:Cailloux Theater\, 910 Main Street\, Kerrville\, TX\, 78028\, United States
CATEGORIES:Arts and Entertainment
ATTACH;FMTTYPE=image/jpeg:https://kerrcalendar.com/wp-content/uploads/2025/07/into-the-woods.jpg
END:VEVENT
END:VCALENDAR