BEGIN:VCALENDAR
VERSION:2.0
PRODID:-//Kerr Calendar - ECPv6.15.20//NONSGML v1.0//EN
CALSCALE:GREGORIAN
METHOD:PUBLISH
X-ORIGINAL-URL:https://kerrcalendar.com
X-WR-CALDESC:Events for Kerr Calendar
REFRESH-INTERVAL;VALUE=DURATION:PT1H
X-Robots-Tag:noindex
X-PUBLISHED-TTL:PT1H
BEGIN:VTIMEZONE
TZID:America/Chicago
BEGIN:DAYLIGHT
TZOFFSETFROM:-0600
TZOFFSETTO:-0500
TZNAME:CDT
DTSTART:20240310T080000
END:DAYLIGHT
BEGIN:STANDARD
TZOFFSETFROM:-0500
TZOFFSETTO:-0600
TZNAME:CST
DTSTART:20241103T070000
END:STANDARD
BEGIN:DAYLIGHT
TZOFFSETFROM:-0600
TZOFFSETTO:-0500
TZNAME:CDT
DTSTART:20250309T080000
END:DAYLIGHT
BEGIN:STANDARD
TZOFFSETFROM:-0500
TZOFFSETTO:-0600
TZNAME:CST
DTSTART:20251102T070000
END:STANDARD
BEGIN:DAYLIGHT
TZOFFSETFROM:-0600
TZOFFSETTO:-0500
TZNAME:CDT
DTSTART:20260308T080000
END:DAYLIGHT
BEGIN:STANDARD
TZOFFSETFROM:-0500
TZOFFSETTO:-0600
TZNAME:CST
DTSTART:20261101T070000
END:STANDARD
END:VTIMEZONE
BEGIN:VEVENT
DTSTART;VALUE=DATE:20250907
DTEND;VALUE=DATE:20250908
DTSTAMP:20260419T213840
CREATED:20250724T132321Z
LAST-MODIFIED:20250822T154432Z
UID:10002132-1757273400-1757282400@kerrcalendar.com
SUMMARY:Into the Woods
DESCRIPTION:Playhouse 2000 presents the hit musical Into the Woods\, August 22-Sept 7\, 2025\, Fridays and Saturdays at 7:30 pm and Sundays\, August 31 and September 7 at 2:30 pm in the Cailloux Theater.\nWe want to make a “big splash” when The Cailloux Theater re-opens after the construction to replace the roof and Heating/Air Conditioning system. We think Stephen Sondheim and Joseph Lapine’s Into The Woods is just the show to do it!\nInto the Woods starts with a mashup of multiple stories from the world of fairy tales – Jack and The Beanstalk\, Little Red Riding Hood\, Cinderella\, Rapunzel and The Baker’s Wife\, to name a few. Then\, in Act II – after the “Happily Ever After” – it explores the very real consequences those characters might have to face. Remember\, “no one is alone.”\n\nOn Broadway\, Into the Woods was nominated for 10 Tony Awards and earned 3\, plus 5 Drama Desk Awards\, including Outstanding Book\, Lyrics\, and Musical. Revivals have won 21 Tony\, Olivier\, Drama Desk and Audience Choice Awards\, and it’s 2014 film version \, starring Meryl Streep\, Anna Kendrick\, Chris Pine\, Johnny Depp\, and more\, broke box office records.
URL:https://kerrcalendar.com/event/into-the-woods/2025-09-07/
LOCATION:Cailloux Theater\, 910 Main Street\, Kerrville\, TX\, 78028\, United States
CATEGORIES:Arts and Entertainment
ATTACH;FMTTYPE=image/jpeg:https://kerrcalendar.com/wp-content/uploads/2025/07/into-the-woods.jpg
END:VEVENT
END:VCALENDAR