BEGIN:VCALENDAR
VERSION:2.0
PRODID:-//Kerr Calendar - ECPv6.15.20//NONSGML v1.0//EN
CALSCALE:GREGORIAN
METHOD:PUBLISH
X-ORIGINAL-URL:https://kerrcalendar.com
X-WR-CALDESC:Events for Kerr Calendar
REFRESH-INTERVAL;VALUE=DURATION:PT1H
X-Robots-Tag:noindex
X-PUBLISHED-TTL:PT1H
BEGIN:VTIMEZONE
TZID:America/Chicago
BEGIN:DAYLIGHT
TZOFFSETFROM:-0600
TZOFFSETTO:-0500
TZNAME:CDT
DTSTART:20240310T080000
END:DAYLIGHT
BEGIN:STANDARD
TZOFFSETFROM:-0500
TZOFFSETTO:-0600
TZNAME:CST
DTSTART:20241103T070000
END:STANDARD
BEGIN:DAYLIGHT
TZOFFSETFROM:-0600
TZOFFSETTO:-0500
TZNAME:CDT
DTSTART:20250309T080000
END:DAYLIGHT
BEGIN:STANDARD
TZOFFSETFROM:-0500
TZOFFSETTO:-0600
TZNAME:CST
DTSTART:20251102T070000
END:STANDARD
BEGIN:DAYLIGHT
TZOFFSETFROM:-0600
TZOFFSETTO:-0500
TZNAME:CDT
DTSTART:20260308T080000
END:DAYLIGHT
BEGIN:STANDARD
TZOFFSETFROM:-0500
TZOFFSETTO:-0600
TZNAME:CST
DTSTART:20261101T070000
END:STANDARD
END:VTIMEZONE
BEGIN:VEVENT
DTSTART;VALUE=DATE:20250912
DTEND;VALUE=DATE:20250914
DTSTAMP:20260419T213854
CREATED:20250908T153247Z
LAST-MODIFIED:20250908T153247Z
UID:10002152-1757635200-1757807999@kerrcalendar.com
SUMMARY:2025 Annual Arts & Crafts Show
DESCRIPTION:Explore unique art\, jewelry\, gifts\, and mixed-media creations lovingly crafted by talented artisans and independent vendors.\nFor More Information\nCall\n830-895-0100\nVisit Their Website \nHome
URL:https://kerrcalendar.com/event/2025-annual-arts-crafts-show/
CATEGORIES:Arts and Entertainment
ATTACH;FMTTYPE=image/png:https://kerrcalendar.com/wp-content/uploads/2025/09/trinity_arts_and_crafts.png
END:VEVENT
BEGIN:VEVENT
DTSTART;TZID=America/Chicago:20250912T170000
DTEND;TZID=America/Chicago:20250912T200000
DTSTAMP:20260419T213854
CREATED:20250908T153822Z
LAST-MODIFIED:20250908T153822Z
UID:10002154-1757696400-1757707200@kerrcalendar.com
SUMMARY:After Hours at Turtle Creek Vineyard
DESCRIPTION:Kick off the weekend with us at Turtle Creek for After Hours at the Vineyard. Enjoy a glass of one of our award winning wines and the sounds of local musicians while surrounded by our vineyards and waterfront views of the creek.
URL:https://kerrcalendar.com/event/after-hours-at-turtle-creek-vineyard/2025-09-12/
LOCATION:Turtle Creek Vineyard\, 183 Fall Creek Road\, Kerrville\, 78028\, United States
CATEGORIES:Arts and Entertainment
ATTACH;FMTTYPE=image/png:https://kerrcalendar.com/wp-content/uploads/2025/09/After_Hours_plain1.png
END:VEVENT
BEGIN:VEVENT
DTSTART;VALUE=DATE:20250912
DTEND;VALUE=DATE:20250913
DTSTAMP:20260419T213854
CREATED:20250803T183818Z
LAST-MODIFIED:20250803T183818Z
UID:10001735-1757698200-1757712600@kerrcalendar.com
SUMMARY:Rise and Rebuild presented by Arcadia Live and Kerrville Folk Fest
DESCRIPTION:Our region has faced significant challenges recently\, and in response\, Arcadia is launching the Rise and Rebuild Concert Series—a tribute to the first responders\, volunteers\, and community members who have shown extraordinary resilience during these challenging times. Our focus is simple—we’re bringing our local community together through the healing power of music and entertainment.\n\nFrom August 1- October 31st\, we will hold a number of concerts and events dedicated to our focus. Many well known and critically acclaimed artists have stepped forward to contribute to the healing process through their art. In order to keep this series strictly for locals\, we will not reveal the performing artist’s names until one week in advance with special invitations first to those who have been impacted.\n\nConfirmed dates with more programming on the horizon\nMonday\, August 25th\nSaturday\, August 30th\nFriday\, September 12th\nWednesday October 8th\n\nWe would like to thank our Kerrville’s 4th on the River sponsors for shifting focus along with us so we could host this restorative series.\n\nWe are honored to walk hand in hand with our neighbors as we begin the healing process.
URL:https://kerrcalendar.com/event/rise-and-rebuild-presented-by-arcadia-live-and-kerrville-folk-fest/2025-09-12/
LOCATION:Arcadia Live\, 717 Water Street\, Kerrville\, TX\, 78028\, United States
CATEGORIES:Arts and Entertainment
ATTACH;FMTTYPE=image/png:https://kerrcalendar.com/wp-content/uploads/2025/08/rise.png
END:VEVENT
BEGIN:VEVENT
DTSTART;TZID=America/Chicago:20250912T180000
DTEND;TZID=America/Chicago:20250912T210000
DTSTAMP:20260419T213854
CREATED:20250904T201042Z
LAST-MODIFIED:20250904T201042Z
UID:10002141-1757700000-1757710800@kerrcalendar.com
SUMMARY:Live Music with Stan Morris!
DESCRIPTION:Join us for an unforgettable evening with Stan Morris\, delivering his signature blend of country and folk tunes live at Cafe at the Ridge! As Stan’s captivating performance fills the room\, savor our delicious menu offerings that perfectly complement the musical vibes. It’s the ideal night out for enjoying great food\, refreshing drinks\, and fantastic live music in a cozy and inviting setting. \nDon’t miss this incredible combination of culinary delight and musical talent!
URL:https://kerrcalendar.com/event/live-music-with-stan-morris-2/
LOCATION:The Ridge Marketplace\, 13439 S. Ranch Road 783\, Kerrville\, 78028\, United States
CATEGORIES:Arts and Entertainment
ATTACH;FMTTYPE=image/jpeg:https://kerrcalendar.com/wp-content/uploads/2025/09/Live-Music-with-Stan-Morris.jpg
ORGANIZER;CN="The Ridge Marketplace":MAILTO:marcustheridge@gmail.com
END:VEVENT
BEGIN:VEVENT
DTSTART;TZID=America/Chicago:20250912T190000
DTEND;TZID=America/Chicago:20250912T220000
DTSTAMP:20260419T213854
CREATED:20250725T121506Z
LAST-MODIFIED:20250725T121506Z
UID:10001308-1757703600-1757714400@kerrcalendar.com
SUMMARY:Schreiner University Karaoke & Line Dancing
DESCRIPTION:
URL:https://kerrcalendar.com/event/schreiner-university-karaoke-line-dancing-4/
LOCATION:Trailhead Beer Garden @ Schreiner University\, 2100 Memorial Blvd #11\, Kerrville\, 78028\, United States
CATEGORIES:Arts and Entertainment
END:VEVENT
BEGIN:VEVENT
DTSTART;TZID=America/Chicago:20250912T190000
DTEND;TZID=America/Chicago:20250912T223000
DTSTAMP:20260419T213854
CREATED:20250719T234636Z
LAST-MODIFIED:20250720T123748Z
UID:10000505-1757703600-1757716200@kerrcalendar.com
SUMMARY:Tivy Football vs. Fredericksburg
DESCRIPTION:Band Night at Antler Stadium in Kerrville\, Texas.
URL:https://kerrcalendar.com/event/tivy-football-vs-fredericksburg/
CATEGORIES:Sports
ATTACH;FMTTYPE=image/png:https://kerrcalendar.com/wp-content/uploads/2025/07/Tivy-Logo-yellow.png
END:VEVENT
BEGIN:VEVENT
DTSTART;TZID=America/Chicago:20250912T190000
DTEND;TZID=America/Chicago:20250912T223000
DTSTAMP:20260419T213854
CREATED:20250719T234636Z
LAST-MODIFIED:20250722T211834Z
UID:10000506-1757703600-1757716200@kerrcalendar.com
SUMMARY:Ingram Warriors Football vs. Comfort
DESCRIPTION:ITM varsity football hosts Comfort in Ingram\, Texas.
URL:https://kerrcalendar.com/event/ingram-warriors-vs-comfort/
CATEGORIES:Sports
ATTACH;FMTTYPE=image/png:https://kerrcalendar.com/wp-content/uploads/2025/07/Ingram-TM-Logo-New-2024-scaled.png
END:VEVENT
BEGIN:VEVENT
DTSTART;TZID=America/Chicago:20250912T190000
DTEND;TZID=America/Chicago:20250912T230000
DTSTAMP:20260419T213854
CREATED:20250908T153433Z
LAST-MODIFIED:20250908T153433Z
UID:10002153-1757703600-1757718000@kerrcalendar.com
SUMMARY:Game Night @ Doyle
DESCRIPTION:A night of fun\, laughter\, and friendly competition. Bring your own snacks and drinks.
URL:https://kerrcalendar.com/event/game-night-doyle/
LOCATION:Doyle Community Center\, 110 W Barnett St\, Kerrville\, 78028\, United States
CATEGORIES:Arts and Entertainment
ATTACH;FMTTYPE=image/png:https://kerrcalendar.com/wp-content/uploads/2025/09/game-night-doyle.png
END:VEVENT
END:VCALENDAR