BEGIN:VCALENDAR
VERSION:2.0
PRODID:-//Kerr Calendar - ECPv6.15.20//NONSGML v1.0//EN
CALSCALE:GREGORIAN
METHOD:PUBLISH
X-ORIGINAL-URL:https://kerrcalendar.com
X-WR-CALDESC:Events for Kerr Calendar
REFRESH-INTERVAL;VALUE=DURATION:PT1H
X-Robots-Tag:noindex
X-PUBLISHED-TTL:PT1H
BEGIN:VTIMEZONE
TZID:America/Chicago
BEGIN:DAYLIGHT
TZOFFSETFROM:-0600
TZOFFSETTO:-0500
TZNAME:CDT
DTSTART:20240310T080000
END:DAYLIGHT
BEGIN:STANDARD
TZOFFSETFROM:-0500
TZOFFSETTO:-0600
TZNAME:CST
DTSTART:20241103T070000
END:STANDARD
BEGIN:DAYLIGHT
TZOFFSETFROM:-0600
TZOFFSETTO:-0500
TZNAME:CDT
DTSTART:20250309T080000
END:DAYLIGHT
BEGIN:STANDARD
TZOFFSETFROM:-0500
TZOFFSETTO:-0600
TZNAME:CST
DTSTART:20251102T070000
END:STANDARD
BEGIN:DAYLIGHT
TZOFFSETFROM:-0600
TZOFFSETTO:-0500
TZNAME:CDT
DTSTART:20260308T080000
END:DAYLIGHT
BEGIN:STANDARD
TZOFFSETFROM:-0500
TZOFFSETTO:-0600
TZNAME:CST
DTSTART:20261101T070000
END:STANDARD
END:VTIMEZONE
BEGIN:VEVENT
DTSTART;VALUE=DATE:20250918
DTEND;VALUE=DATE:20250919
DTSTAMP:20260419T195239
CREATED:20250725T121506Z
LAST-MODIFIED:20250725T121506Z
UID:10001311-1758153600-1758239999@kerrcalendar.com
SUMMARY:Schreiner University HCCF Dinner Weir
DESCRIPTION:
URL:https://kerrcalendar.com/event/schreiner-university-hccf-dinner-weir/
LOCATION:Schreiner University\, 2100 Memorial Blvd\, Kerrville\, TX\, 78028\, United States
CATEGORIES:Nonprofits and Fundraisers
END:VEVENT
BEGIN:VEVENT
DTSTART;TZID=America/Chicago:20250918T090000
DTEND;TZID=America/Chicago:20250918T140000
DTSTAMP:20260419T195239
CREATED:20250722T205006Z
LAST-MODIFIED:20250722T205006Z
UID:10001172-1758186000-1758204000@kerrcalendar.com
SUMMARY:KPUB Community Blood Drive
DESCRIPTION:Blood supply is critically low in South Texas. Sign up today for our KPUB Community Blood Drive & help save lives! The blood drive will be by appointment only—walk-ups will only be accepted for no-show appointments.\nTo sign-up\, please visit:https://donor.southtexasblood.org/…/drive_schedule/147385\nPrior sign-up is REQUIRED for donation. The entire process takes about one hour total\, including paperwork. Don’t forget to hydrate well & eat a full meal before your donation\, too!\nIn addition to the rewarding and feel-good feeling of helping others\, blood donors will receive a special gift from South Texas Blood and Tissue Center as a thank you for your lifesaving contribution.\nQuestions? We are happy to help! Contact KPUB at 830.257.3050.
URL:https://kerrcalendar.com/event/kpub-community-blood-drive/
LOCATION:Kerrville Public Utility Board\, 340 Clearwater Paseo\, Kerrville\, 78028\, United States
CATEGORIES:Nonprofits and Fundraisers
ATTACH;FMTTYPE=image/jpeg:https://kerrcalendar.com/wp-content/uploads/2025/07/kpub-blood.jpg
END:VEVENT
BEGIN:VEVENT
DTSTART;TZID=America/Chicago:20250918T100000
DTEND;TZID=America/Chicago:20250918T140000
DTSTAMP:20260419T195239
CREATED:20250730T132415Z
LAST-MODIFIED:20250730T132415Z
UID:10001474-1758189600-1758204000@kerrcalendar.com
SUMMARY:Schreiner Mansion Tours
DESCRIPTION:The Schreiner Mansion\, built in 1879 and listed on the National Register of Historic Places\, is a historic site in downtown Kerrville. \nNOTE – The Mansion will be Closed Thursday\, July 10th \nTours will be offered on Thursdays from 10am – 2 pm\, beginning on the half-hour; the last tour begins at 1:30 pm.  \nAdmission Fees: \nAdult: $10.00 \nStudents: $5.00 \nMilitary with ID: $5.00 \nGroup Tours (10 or more): $8.00 with reservations
URL:https://kerrcalendar.com/event/schreiner-mansion-tours/2025-09-18/
LOCATION:Schreiner Mansion\, 226 Earl Garrett\, Kerrville\, 78028\, United States
CATEGORIES:Classes and Workshops
ATTACH;FMTTYPE=image/jpeg:https://kerrcalendar.com/wp-content/uploads/2025/07/schreiner-mansion.jpg
END:VEVENT
BEGIN:VEVENT
DTSTART;TZID=America/Chicago:20250918T171500
DTEND;TZID=America/Chicago:20250918T183000
DTSTAMP:20260419T195239
CREATED:20250818T134241Z
LAST-MODIFIED:20250818T134241Z
UID:10002125-1758215700-1758220200@kerrcalendar.com
SUMMARY:Chamber After-Hours Mixer
DESCRIPTION:KACOC members\, you’re invited to the Kerrville Area Chamber of Commerce Business After Hours Mixer! Date: Thursday\, September 18th\, 2025Time: 5:15pm-6:30pm Location: Peterson Regional Ambulatory Care Center260 Cully Drive – Kerrville\nConnect with fellow KACOC members for an afternoon of networking\, mingling\, and fun! Enjoy delicious snacks\, exciting door prizes\, and our jackpot drawing. Don’t miss this fantastic opportunity to build relationships and grow your business. BRING YOUR BUSINESS CARDS! You MUST have a business card in order to enter the door prize drawing!! And if you would like to donate a door prize\, please bring that to the Chamber office the Tuesday before the event. We can’t wait to see you there!
URL:https://kerrcalendar.com/event/chamber-after-hours-mixer/
CATEGORIES:Government and Civic
ATTACH;FMTTYPE=image/png:https://kerrcalendar.com/wp-content/uploads/2025/08/chamber.png
END:VEVENT
BEGIN:VEVENT
DTSTART;TZID=America/Chicago:20250918T183000
DTEND;TZID=America/Chicago:20250918T210000
DTSTAMP:20260419T195239
CREATED:20250719T224728Z
LAST-MODIFIED:20250719T225656Z
UID:10000009-1758220200-1758229200@kerrcalendar.com
SUMMARY:T4: Third Thirsty Thursday Trivia
DESCRIPTION:Open for Arcadia Live members 9.1.25 at 11am CST nnnnOpen to public 9.3.25 at 11am CST nnnnnnnnJoin us for another trivia night and\, perhaps\, become the new reigning Trivia Champ Team! Beyond bragging rights\, winning teams will receive drink tokens\, and the #1 winner will be awarded complimentary tickets for an upcoming Arcadia Live event. nnnn*Teams of up to 6 people nnnn*Full bar nnnn*Prizes and laughs included nnnn*Fun team name required nnnnYou can have your favorite Pint&Plow Brewing Co. pizza plus two appetizers waiting for your team here at Arcadia Live the night of trivia by placing your order when you RSVP! Dinner orders will arrive at 5:45pm. nnnnFor large parties\, please call the Box Office to reserve additional tables. nnnnNO Outside Beverages Permitted
URL:https://kerrcalendar.com/event/t4-third-thirsty-thursday-trivia-2/
LOCATION:Arcadia Live\, 717 Water Street\, Kerrville\, TX\, 78028\, United States
CATEGORIES:Arts and Entertainment
END:VEVENT
END:VCALENDAR