BEGIN:VCALENDAR
VERSION:2.0
PRODID:-//Kerr Calendar - ECPv6.15.20//NONSGML v1.0//EN
CALSCALE:GREGORIAN
METHOD:PUBLISH
X-ORIGINAL-URL:https://kerrcalendar.com
X-WR-CALDESC:Events for Kerr Calendar
REFRESH-INTERVAL;VALUE=DURATION:PT1H
X-Robots-Tag:noindex
X-PUBLISHED-TTL:PT1H
BEGIN:VTIMEZONE
TZID:America/Chicago
BEGIN:DAYLIGHT
TZOFFSETFROM:-0600
TZOFFSETTO:-0500
TZNAME:CDT
DTSTART:20240310T080000
END:DAYLIGHT
BEGIN:STANDARD
TZOFFSETFROM:-0500
TZOFFSETTO:-0600
TZNAME:CST
DTSTART:20241103T070000
END:STANDARD
BEGIN:DAYLIGHT
TZOFFSETFROM:-0600
TZOFFSETTO:-0500
TZNAME:CDT
DTSTART:20250309T080000
END:DAYLIGHT
BEGIN:STANDARD
TZOFFSETFROM:-0500
TZOFFSETTO:-0600
TZNAME:CST
DTSTART:20251102T070000
END:STANDARD
BEGIN:DAYLIGHT
TZOFFSETFROM:-0600
TZOFFSETTO:-0500
TZNAME:CDT
DTSTART:20260308T080000
END:DAYLIGHT
BEGIN:STANDARD
TZOFFSETFROM:-0500
TZOFFSETTO:-0600
TZNAME:CST
DTSTART:20261101T070000
END:STANDARD
END:VTIMEZONE
BEGIN:VEVENT
DTSTART;TZID=America/Chicago:20250925T100000
DTEND;TZID=America/Chicago:20250925T140000
DTSTAMP:20260419T213855
CREATED:20250730T132415Z
LAST-MODIFIED:20250730T132415Z
UID:10001475-1758794400-1758808800@kerrcalendar.com
SUMMARY:Schreiner Mansion Tours
DESCRIPTION:The Schreiner Mansion\, built in 1879 and listed on the National Register of Historic Places\, is a historic site in downtown Kerrville. \nNOTE – The Mansion will be Closed Thursday\, July 10th \nTours will be offered on Thursdays from 10am – 2 pm\, beginning on the half-hour; the last tour begins at 1:30 pm.  \nAdmission Fees: \nAdult: $10.00 \nStudents: $5.00 \nMilitary with ID: $5.00 \nGroup Tours (10 or more): $8.00 with reservations
URL:https://kerrcalendar.com/event/schreiner-mansion-tours/2025-09-25/
LOCATION:Schreiner Mansion\, 226 Earl Garrett\, Kerrville\, 78028\, United States
CATEGORIES:Classes and Workshops
ATTACH;FMTTYPE=image/jpeg:https://kerrcalendar.com/wp-content/uploads/2025/07/schreiner-mansion.jpg
END:VEVENT
BEGIN:VEVENT
DTSTART;TZID=America/Chicago:20250925T110000
DTEND;TZID=America/Chicago:20250925T130000
DTSTAMP:20260419T213855
CREATED:20250725T121540Z
LAST-MODIFIED:20250725T121540Z
UID:10001319-1758798000-1758805200@kerrcalendar.com
SUMMARY:Schreiner University Schreiner Alliance
DESCRIPTION:
URL:https://kerrcalendar.com/event/schreiner-university-schreiner-alliance-3/
LOCATION:Schreiner University\, 2100 Memorial Blvd\, Kerrville\, TX\, 78028\, United States
CATEGORIES:Education and Schools
END:VEVENT
BEGIN:VEVENT
DTSTART;TZID=America/Chicago:20250925T190000
DTEND;TZID=America/Chicago:20250925T213000
DTSTAMP:20260419T213855
CREATED:20250719T224728Z
LAST-MODIFIED:20250719T225656Z
UID:10000010-1758826800-1758835800@kerrcalendar.com
SUMMARY:Not Your Granny's Bingo
DESCRIPTION:Open for Arcadia Live members 9.1.25 at 11am CST nnnnOpen to public 9.3.25 at 11am CST nnnnnnnnDoors and bar — 6:00 PM nnnnBingo — 7:00 PM nnnnnnnnRemember\, this is NOT your granny’s bingo! A live DJ will be playing your favorite hits all night long on stage and air horns will be placed on each table so you can call BINGO! Expect a compulsory 10 second dance on stage as penalty for any “premature honking.” nnnnnnnnFREE entry—bingo cards to cover all 10 games & dobbers both available for sale at the theatre prior to the event nnnn$10 for book of bingo cards (covers all 10 games) nnnn$2 for dobbers (but feel free bring your own!) nnnnMake sure to bring dollar bills! Extra cards will be available for sale for $1 in between rounds to increase your odds! nnnnnnnnSeveral winning prizes\, including local gift cards\, tickets to an Arcadia event\, and one cash prize! nnnnIn case of a tie\, we will settle the tie in the most civilized manner we know of…Rock\, Paper\, Scissors
URL:https://kerrcalendar.com/event/not-your-grannys-bingo-3/
LOCATION:Arcadia Live\, 717 Water Street\, Kerrville\, TX\, 78028\, United States
CATEGORIES:Arts and Entertainment
END:VEVENT
END:VCALENDAR