BEGIN:VCALENDAR
VERSION:2.0
PRODID:-//Kerr Calendar - ECPv6.15.20//NONSGML v1.0//EN
CALSCALE:GREGORIAN
METHOD:PUBLISH
X-WR-CALNAME:Kerr Calendar
X-ORIGINAL-URL:https://kerrcalendar.com
X-WR-CALDESC:Events for Kerr Calendar
REFRESH-INTERVAL;VALUE=DURATION:PT1H
X-Robots-Tag:noindex
X-PUBLISHED-TTL:PT1H
BEGIN:VTIMEZONE
TZID:America/Chicago
BEGIN:DAYLIGHT
TZOFFSETFROM:-0600
TZOFFSETTO:-0500
TZNAME:CDT
DTSTART:20240310T080000
END:DAYLIGHT
BEGIN:STANDARD
TZOFFSETFROM:-0500
TZOFFSETTO:-0600
TZNAME:CST
DTSTART:20241103T070000
END:STANDARD
BEGIN:DAYLIGHT
TZOFFSETFROM:-0600
TZOFFSETTO:-0500
TZNAME:CDT
DTSTART:20250309T080000
END:DAYLIGHT
BEGIN:STANDARD
TZOFFSETFROM:-0500
TZOFFSETTO:-0600
TZNAME:CST
DTSTART:20251102T070000
END:STANDARD
BEGIN:DAYLIGHT
TZOFFSETFROM:-0600
TZOFFSETTO:-0500
TZNAME:CDT
DTSTART:20260308T080000
END:DAYLIGHT
BEGIN:STANDARD
TZOFFSETFROM:-0500
TZOFFSETTO:-0600
TZNAME:CST
DTSTART:20261101T070000
END:STANDARD
END:VTIMEZONE
BEGIN:VEVENT
DTSTART;VALUE=DATE:20251003
DTEND;VALUE=DATE:20251006
DTSTAMP:20260419T213533
CREATED:20250725T121540Z
LAST-MODIFIED:20250725T121540Z
UID:10001329-1759449600-1759708799@kerrcalendar.com
SUMMARY:Schreiner University Flag is Up Productions-Macbeth
DESCRIPTION:
URL:https://kerrcalendar.com/event/schreiner-university-flag-is-up-productions-macbeth/
LOCATION:Schreiner University\, 2100 Memorial Blvd\, Kerrville\, TX\, 78028\, United States
CATEGORIES:Arts and Entertainment
END:VEVENT
BEGIN:VEVENT
DTSTART;TZID=America/Chicago:20251003T170000
DTEND;TZID=America/Chicago:20251003T190000
DTSTAMP:20260419T213533
CREATED:20250725T121540Z
LAST-MODIFIED:20250725T121540Z
UID:10001327-1759510800-1759518000@kerrcalendar.com
SUMMARY:Schreiner University Womens Soccer-LeTourneau
DESCRIPTION:
URL:https://kerrcalendar.com/event/schreiner-university-womens-soccer-letourneau-2/
CATEGORIES:Sports
END:VEVENT
BEGIN:VEVENT
DTSTART;TZID=America/Chicago:20251003T170000
DTEND;TZID=America/Chicago:20251003T200000
DTSTAMP:20260419T213533
CREATED:20250908T153822Z
LAST-MODIFIED:20250908T153822Z
UID:10002157-1759510800-1759521600@kerrcalendar.com
SUMMARY:After Hours at Turtle Creek Vineyard
DESCRIPTION:Kick off the weekend with us at Turtle Creek for After Hours at the Vineyard. Enjoy a glass of one of our award winning wines and the sounds of local musicians while surrounded by our vineyards and waterfront views of the creek.
URL:https://kerrcalendar.com/event/after-hours-at-turtle-creek-vineyard/2025-10-03/
LOCATION:Turtle Creek Vineyard\, 183 Fall Creek Road\, Kerrville\, 78028\, United States
CATEGORIES:Arts and Entertainment
ATTACH;FMTTYPE=image/png:https://kerrcalendar.com/wp-content/uploads/2025/09/After_Hours_plain1.png
END:VEVENT
BEGIN:VEVENT
DTSTART;TZID=America/Chicago:20251003T180000
DTEND;TZID=America/Chicago:20251003T193000
DTSTAMP:20260419T213533
CREATED:20250927T183339Z
LAST-MODIFIED:20250927T183339Z
UID:10002220-1759514400-1759519800@kerrcalendar.com
SUMMARY:First Friday Wine Share
DESCRIPTION:Unwind with friends and neighbors at our monthly Wine Share! Bring a bottle of your favorite wine (or two!) and enjoy an evening of good company\, laughter\, and conversation. It’s the perfect way to kick off the weekend and celebrate community. \nWhether you’re a wine enthusiast or love a casual night out\, you’ll feel right at home. Pair it with delicious bites\, music\, and the warm\, welcoming atmosphere of The Ridge.
URL:https://kerrcalendar.com/event/first-friday-wine-share/
LOCATION:The Ridge Marketplace\, 13439 S. Ranch Road 783\, Kerrville\, 78028\, United States
CATEGORIES:Arts and Entertainment
ATTACH;FMTTYPE=image/jpeg:https://kerrcalendar.com/wp-content/uploads/2025/09/First-Friday.jpg
ORGANIZER;CN="The Ridge Marketplace":MAILTO:marcustheridge@gmail.com
END:VEVENT
BEGIN:VEVENT
DTSTART;TZID=America/Chicago:20251003T180000
DTEND;TZID=America/Chicago:20251003T210000
DTSTAMP:20260419T213533
CREATED:20250927T183339Z
LAST-MODIFIED:20250927T183339Z
UID:10002219-1759514400-1759525200@kerrcalendar.com
SUMMARY:Live Music with Susan Herndon!
DESCRIPTION:Come and enjoy an evening of live music and great food with the talented Susan Herndon at Cafe at the Ridge! With her soulful voice and heartfelt lyrics\, Susan will serenade you with a blend of Americana\, folk\, and country tunes. It’s the perfect backdrop for a cozy night out with friends and family. Don’t miss this opportunity to experience Susan’s captivating performance in our inviting restaurant you’ll want to come back to again and again.
URL:https://kerrcalendar.com/event/live-music-with-susan-herndon-2/
LOCATION:The Ridge Marketplace\, 13439 S. Ranch Road 783\, Kerrville\, 78028\, United States
CATEGORIES:Arts and Entertainment
ATTACH;FMTTYPE=image/jpeg:https://kerrcalendar.com/wp-content/uploads/2025/09/Live-Music-with-Susan-Herndon-1.jpg
ORGANIZER;CN="The Ridge Marketplace":MAILTO:marcustheridge@gmail.com
END:VEVENT
BEGIN:VEVENT
DTSTART;TZID=America/Chicago:20251003T190000
DTEND;TZID=America/Chicago:20251003T210000
DTSTAMP:20260419T213533
CREATED:20250725T121541Z
LAST-MODIFIED:20250725T121541Z
UID:10001328-1759518000-1759525200@kerrcalendar.com
SUMMARY:Schreiner University Mens Soccer-LeTourneau
DESCRIPTION:
URL:https://kerrcalendar.com/event/schreiner-university-mens-soccer-letourneau-2/
CATEGORIES:Sports
END:VEVENT
BEGIN:VEVENT
DTSTART;TZID=America/Chicago:20251003T190000
DTEND;TZID=America/Chicago:20251003T223000
DTSTAMP:20260419T213533
CREATED:20250719T234640Z
LAST-MODIFIED:20250722T212052Z
UID:10000511-1759518000-1759530600@kerrcalendar.com
SUMMARY:Tivy Football vs. Victoria West
DESCRIPTION:Homecoming at Antler Stadium in Kerrville\, Texas
URL:https://kerrcalendar.com/event/tivy-football-vs-victoria-west/
CATEGORIES:Sports
ATTACH;FMTTYPE=image/png:https://kerrcalendar.com/wp-content/uploads/2025/07/Tivy-Logo-yellow.png
END:VEVENT
END:VCALENDAR