BEGIN:VCALENDAR
VERSION:2.0
PRODID:-//Kerr Calendar - ECPv6.15.20//NONSGML v1.0//EN
CALSCALE:GREGORIAN
METHOD:PUBLISH
X-ORIGINAL-URL:https://kerrcalendar.com
X-WR-CALDESC:Events for Kerr Calendar
REFRESH-INTERVAL;VALUE=DURATION:PT1H
X-Robots-Tag:noindex
X-PUBLISHED-TTL:PT1H
BEGIN:VTIMEZONE
TZID:America/Chicago
BEGIN:DAYLIGHT
TZOFFSETFROM:-0600
TZOFFSETTO:-0500
TZNAME:CDT
DTSTART:20240310T080000
END:DAYLIGHT
BEGIN:STANDARD
TZOFFSETFROM:-0500
TZOFFSETTO:-0600
TZNAME:CST
DTSTART:20241103T070000
END:STANDARD
BEGIN:DAYLIGHT
TZOFFSETFROM:-0600
TZOFFSETTO:-0500
TZNAME:CDT
DTSTART:20250309T080000
END:DAYLIGHT
BEGIN:STANDARD
TZOFFSETFROM:-0500
TZOFFSETTO:-0600
TZNAME:CST
DTSTART:20251102T070000
END:STANDARD
BEGIN:DAYLIGHT
TZOFFSETFROM:-0600
TZOFFSETTO:-0500
TZNAME:CDT
DTSTART:20260308T080000
END:DAYLIGHT
BEGIN:STANDARD
TZOFFSETFROM:-0500
TZOFFSETTO:-0600
TZNAME:CST
DTSTART:20261101T070000
END:STANDARD
END:VTIMEZONE
BEGIN:VEVENT
DTSTART;TZID=America/Chicago:20251009T100000
DTEND;TZID=America/Chicago:20251009T140000
DTSTAMP:20260419T213838
CREATED:20250730T132415Z
LAST-MODIFIED:20250730T132415Z
UID:10001477-1760004000-1760018400@kerrcalendar.com
SUMMARY:Schreiner Mansion Tours
DESCRIPTION:The Schreiner Mansion\, built in 1879 and listed on the National Register of Historic Places\, is a historic site in downtown Kerrville. \nNOTE – The Mansion will be Closed Thursday\, July 10th \nTours will be offered on Thursdays from 10am – 2 pm\, beginning on the half-hour; the last tour begins at 1:30 pm.  \nAdmission Fees: \nAdult: $10.00 \nStudents: $5.00 \nMilitary with ID: $5.00 \nGroup Tours (10 or more): $8.00 with reservations
URL:https://kerrcalendar.com/event/schreiner-mansion-tours/2025-10-09/
LOCATION:Schreiner Mansion\, 226 Earl Garrett\, Kerrville\, 78028\, United States
CATEGORIES:Classes and Workshops
ATTACH;FMTTYPE=image/jpeg:https://kerrcalendar.com/wp-content/uploads/2025/07/schreiner-mansion.jpg
END:VEVENT
BEGIN:VEVENT
DTSTART;TZID=America/Chicago:20251009T190000
DTEND;TZID=America/Chicago:20251009T213000
DTSTAMP:20260419T213838
CREATED:20250719T224728Z
LAST-MODIFIED:20250719T225656Z
UID:10000012-1760036400-1760045400@kerrcalendar.com
SUMMARY:Scary Movie
DESCRIPTION:Graciously sponsored by Art2Heartnnnn nnnnTickets on sale 9.9.25 at 11am CST
URL:https://kerrcalendar.com/event/scary-movie/
LOCATION:Arcadia Live\, 717 Water Street\, Kerrville\, TX\, 78028\, United States
CATEGORIES:Arts and Entertainment
END:VEVENT
BEGIN:VEVENT
DTSTART;TZID=America/Chicago:20251009T190000
DTEND;TZID=America/Chicago:20251009T223000
DTSTAMP:20260419T213838
CREATED:20250719T234640Z
LAST-MODIFIED:20250722T212113Z
UID:10000512-1760036400-1760049000@kerrcalendar.com
SUMMARY:Tivy Football @ SA Veterans Memorial
DESCRIPTION:Antlers travel to San Antonio for a varsity football game
URL:https://kerrcalendar.com/event/tivy-football-sa-veterans-memorial/
CATEGORIES:Sports
ATTACH;FMTTYPE=image/png:https://kerrcalendar.com/wp-content/uploads/2025/07/Tivy-Logo-yellow.png
END:VEVENT
END:VCALENDAR