BEGIN:VCALENDAR
VERSION:2.0
PRODID:-//Kerr Calendar - ECPv6.15.20//NONSGML v1.0//EN
CALSCALE:GREGORIAN
METHOD:PUBLISH
X-ORIGINAL-URL:https://kerrcalendar.com
X-WR-CALDESC:Events for Kerr Calendar
REFRESH-INTERVAL;VALUE=DURATION:PT1H
X-Robots-Tag:noindex
X-PUBLISHED-TTL:PT1H
BEGIN:VTIMEZONE
TZID:America/Chicago
BEGIN:DAYLIGHT
TZOFFSETFROM:-0600
TZOFFSETTO:-0500
TZNAME:CDT
DTSTART:20240310T080000
END:DAYLIGHT
BEGIN:STANDARD
TZOFFSETFROM:-0500
TZOFFSETTO:-0600
TZNAME:CST
DTSTART:20241103T070000
END:STANDARD
BEGIN:DAYLIGHT
TZOFFSETFROM:-0600
TZOFFSETTO:-0500
TZNAME:CDT
DTSTART:20250309T080000
END:DAYLIGHT
BEGIN:STANDARD
TZOFFSETFROM:-0500
TZOFFSETTO:-0600
TZNAME:CST
DTSTART:20251102T070000
END:STANDARD
BEGIN:DAYLIGHT
TZOFFSETFROM:-0600
TZOFFSETTO:-0500
TZNAME:CDT
DTSTART:20260308T080000
END:DAYLIGHT
BEGIN:STANDARD
TZOFFSETFROM:-0500
TZOFFSETTO:-0600
TZNAME:CST
DTSTART:20261101T070000
END:STANDARD
END:VTIMEZONE
BEGIN:VEVENT
DTSTART;TZID=America/Chicago:20251025T090000
DTEND;TZID=America/Chicago:20251025T130000
DTSTAMP:20260419T181159
CREATED:20250721T120128Z
LAST-MODIFIED:20250728T163814Z
UID:10000798-1761382800-1761397200@kerrcalendar.com
SUMMARY:Heart of the Hills Farmers Market
DESCRIPTION:Supporting local producers\, fostering community\, promoting sustainability in our growing practices.
URL:https://kerrcalendar.com/event/heart-of-the-hills-farmers-market/2025-10-25/
LOCATION:Dallas Daughtry Boardwalk Pavilion\, 805 Water St\, Kerrville\, TX\, 78028\, United States
CATEGORIES:Nonprofits and Fundraisers
ATTACH;FMTTYPE=image/jpeg:https://kerrcalendar.com/wp-content/uploads/2025/07/qtq80-taw4Rz.jpeg
END:VEVENT
BEGIN:VEVENT
DTSTART;TZID=America/Chicago:20251025T100000
DTEND;TZID=America/Chicago:20251025T170000
DTSTAMP:20260419T181159
CREATED:20250722T203140Z
LAST-MODIFIED:20250722T203140Z
UID:10001165-1761386400-1761411600@kerrcalendar.com
SUMMARY:Water Street Festival
DESCRIPTION:Water Street Festival to Bring Art\, Music\, and Community Spirit toKerrville Historic Downtown Business Alliance\nKERRVILLE\, TEXAS – The Water Street Festival is a celebration of art\, music\, heritage and local culture\, set to take place in downtown Kerrville on October 25\, 2025. The new Festival is designedto bring people together and activate the historic Main Street district.\n“The Water Street Festival is more than a street fair — it’s a downtown block party celebrating Kerrville’s cultural heartbeat\,” said Delayne Sigerman\, Event Chair. “It connects local business\, artists\, neighbors\, and families for a shared experience of community pride.”\nSet in historic downtown and adjacent to shops and galleries\, the Festival offers a walkable and welcoming setting for all ages. Storefronts will extend their spaces into the streets for a curated day of pop-up shops\, music\, kid’s activities\, open-air food and drink tastings\, all full of local flavor and small-town charm.\nOne of the Festival’s attractions will be interactive plein air art. This 4-day painting competition begins with 50 talented artists from over the United States. Artists will paint within the constraints of time and sunlight. On the last day\, Saturday October 25th\, the public will be welcomed into the Kerr Arts & Cultural Center to see the results while the paintings are very fresh.\n“Lending a hand or sponsoring is a great way to support and be part of something meaningful.” remarked Lanza Teague\, Executive Director for Kerr Arts & Cultural Center and Festival Committee Member.\nThe Festival is powered by local volunteers\, and organizers are currently recruiting for support with the children’s parade and activities. Water Street Antiques is set to be the 2025 headline supporter. For sponsorship inquiries\, volunteer sign-up\, and vendor applications\, please contact waterstreetfestival@gmail.com. For event updates follow @downtownkerrville on Facebook and Instagram.
URL:https://kerrcalendar.com/event/water-street-festival/
LOCATION:Downtown Kerrville\, 201 Earl Garrett\, Kerrville\, 78028\, United States
CATEGORIES:Arts and Entertainment
ATTACH;FMTTYPE=image/jpeg:https://kerrcalendar.com/wp-content/uploads/2025/07/water-st-festival.jpg
END:VEVENT
BEGIN:VEVENT
DTSTART;TZID=America/Chicago:20251025T170000
DTEND;TZID=America/Chicago:20251025T200000
DTSTAMP:20260419T181159
CREATED:20250904T201042Z
LAST-MODIFIED:20250904T201042Z
UID:10002148-1761411600-1761422400@kerrcalendar.com
SUMMARY:Fall Fest at The Ridge Marketplace!
DESCRIPTION:Mark your calendars for Saturday\, October 25th from 5–8 PM and join us for one of our favorite family traditions — the Annual Fall Festival at The Ridge Marketplace in Kerrville\, TX!\nBring the whole family out for an evening packed with fall fun\, including:\n🎃 Delicious food & sweet treats (yes\, caramel apples included!)\n🐴 Petting zoo & pony rides\n👻 Haunted house thrills\n🎨 Sparkle bar & face painting\n🎲 Games\, prizes\, and crafts\n🍁 Pumpkin decorating & so much more!\nWith the perfect Texas Hill Country atmosphere\, this is an event you won’t want to miss. Celebrate the season with friends\, neighbors\, and plenty of fall magic right here at The Ridge Marketplace.
URL:https://kerrcalendar.com/event/fall-fest-at-the-ridge-marketplace/
LOCATION:The Ridge Marketplace\, 13439 S. Ranch Road 783\, Kerrville\, 78028\, United States
CATEGORIES:Arts and Entertainment
ATTACH;FMTTYPE=image/jpeg:https://kerrcalendar.com/wp-content/uploads/2025/09/Fall-Fest-Board-2025-01-scaled.jpg
ORGANIZER;CN="The Ridge Marketplace":MAILTO:marcustheridge@gmail.com
END:VEVENT
BEGIN:VEVENT
DTSTART;TZID=America/Chicago:20251025T170000
DTEND;TZID=America/Chicago:20251025T200000
DTSTAMP:20260419T181159
CREATED:20250927T183338Z
LAST-MODIFIED:20250927T183338Z
UID:10002229-1761411600-1761422400@kerrcalendar.com
SUMMARY:Fall Fest
DESCRIPTION:Mark your calendars for Saturday\, October 25th from 5–8 PM and join us for one of our favorite family traditions — the Annual Fall Festival at The Ridge Marketplace in Kerrville\, TX!\nBring the whole family out for an evening packed with fall fun\, including:\n🎃 Delicious food & sweet treats (yes\, caramel apples included!)\n🐴 Petting zoo & pony rides\n👻 Haunted house thrills\n🎨 Sparkle bar & face painting\n🎲 Games\, prizes\, and crafts\n🍁 Pumpkin decorating & so much more!\nWith the perfect Texas Hill Country atmosphere\, this is an event you won’t want to miss. Celebrate the season with friends\, neighbors\, and plenty of fall magic right here at The Ridge Marketplace.
URL:https://kerrcalendar.com/event/fall-fest/
LOCATION:The Ridge Marketplace\, 13439 S. Ranch Road 783\, Kerrville\, 78028\, United States
CATEGORIES:Arts and Entertainment
ATTACH;FMTTYPE=image/jpeg:https://kerrcalendar.com/wp-content/uploads/2025/09/Untitled-design-7.jpg
ORGANIZER;CN="The Ridge Marketplace":MAILTO:marcustheridge@gmail.com
END:VEVENT
BEGIN:VEVENT
DTSTART;TZID=America/Chicago:20251025T180000
DTEND;TZID=America/Chicago:20251025T210000
DTSTAMP:20260419T181159
CREATED:20250927T183338Z
LAST-MODIFIED:20250927T183338Z
UID:10002230-1761415200-1761426000@kerrcalendar.com
SUMMARY:Live Music with Kyle Broll!
DESCRIPTION:Get ready for a night of great music with Kyle Broll at Cafe at the Ridge! A local favorite\, Kyle delivers a mix of country\, rock\, and Americana with an energy that keeps the crowd engaged. His smooth vocals and skilled guitar playing make for the perfect backdrop to a relaxing evening in the Texas Hill Country.
URL:https://kerrcalendar.com/event/live-music-with-kyle-broll-2/
LOCATION:The Ridge Marketplace\, 13439 S. Ranch Road 783\, Kerrville\, 78028\, United States
CATEGORIES:Arts and Entertainment
ATTACH;FMTTYPE=image/jpeg:https://kerrcalendar.com/wp-content/uploads/2025/09/Live-Music-with-Kyle-Broll.jpg
ORGANIZER;CN="The Ridge Marketplace":MAILTO:marcustheridge@gmail.com
END:VEVENT
END:VCALENDAR