BEGIN:VCALENDAR
VERSION:2.0
PRODID:-//Kerr Calendar - ECPv6.15.20//NONSGML v1.0//EN
CALSCALE:GREGORIAN
METHOD:PUBLISH
X-ORIGINAL-URL:https://kerrcalendar.com
X-WR-CALDESC:Events for Kerr Calendar
REFRESH-INTERVAL;VALUE=DURATION:PT1H
X-Robots-Tag:noindex
X-PUBLISHED-TTL:PT1H
BEGIN:VTIMEZONE
TZID:America/Chicago
BEGIN:DAYLIGHT
TZOFFSETFROM:-0600
TZOFFSETTO:-0500
TZNAME:CDT
DTSTART:20240310T080000
END:DAYLIGHT
BEGIN:STANDARD
TZOFFSETFROM:-0500
TZOFFSETTO:-0600
TZNAME:CST
DTSTART:20241103T070000
END:STANDARD
BEGIN:DAYLIGHT
TZOFFSETFROM:-0600
TZOFFSETTO:-0500
TZNAME:CDT
DTSTART:20250309T080000
END:DAYLIGHT
BEGIN:STANDARD
TZOFFSETFROM:-0500
TZOFFSETTO:-0600
TZNAME:CST
DTSTART:20251102T070000
END:STANDARD
BEGIN:DAYLIGHT
TZOFFSETFROM:-0600
TZOFFSETTO:-0500
TZNAME:CDT
DTSTART:20260308T080000
END:DAYLIGHT
BEGIN:STANDARD
TZOFFSETFROM:-0500
TZOFFSETTO:-0600
TZNAME:CST
DTSTART:20261101T070000
END:STANDARD
END:VTIMEZONE
BEGIN:VEVENT
DTSTART;TZID=America/Chicago:20251027T090000
DTEND;TZID=America/Chicago:20251027T120000
DTSTAMP:20260421T185341
CREATED:20250719T232918Z
LAST-MODIFIED:20250719T232918Z
UID:10000324-1761555600-1761566400@kerrcalendar.com
SUMMARY:Kerr County Commissioners Court Meeting
DESCRIPTION:The Kerr County Commissioners’ Court\, which is composed of the county judge and four commissioners\, is the overall managing/governing body of Kerr County. The judge serves as the presiding officer of the court as well as the spokesperson and ceremonial head of the county government. \nCommissioners’ court is responsible for budgetary\, tax and revenue decisions. It also appoints and monitors the actions of all county department heads other than the county auditor and those offices headed by elected officials. \nCourt meets the 2nd and 4th Mondays of each month at 9 a.m. at the Kerr County Courthouse. Meetings are open to the public\, and sometimes seating is limited.
URL:https://kerrcalendar.com/event/kerr-county-commissioners-court-meeting/2025-10-27/
LOCATION:Kerr County Courthouse\, 700 Main St\, Kerrville\, TX\, 78028\, United States
CATEGORIES:Government and Civic
ATTACH;FMTTYPE=image/jpeg:https://kerrcalendar.com/wp-content/uploads/2025/07/courthouse-scaled.jpg
END:VEVENT
BEGIN:VEVENT
DTSTART;TZID=America/Chicago:20251027T190000
DTEND;TZID=America/Chicago:20251027T200000
DTSTAMP:20260421T185341
CREATED:20250725T121602Z
LAST-MODIFIED:20250725T121602Z
UID:10001343-1761591600-1761595200@kerrcalendar.com
SUMMARY:Schreiner University Monday Night Fiction
DESCRIPTION:
URL:https://kerrcalendar.com/event/schreiner-university-monday-night-fiction-5/
LOCATION:Schreiner University\, 2100 Memorial Blvd\, Kerrville\, TX\, 78028\, United States
CATEGORIES:Education and Schools
END:VEVENT
END:VCALENDAR