BEGIN:VCALENDAR
VERSION:2.0
PRODID:-//Kerr Calendar - ECPv6.15.20//NONSGML v1.0//EN
CALSCALE:GREGORIAN
METHOD:PUBLISH
X-ORIGINAL-URL:https://kerrcalendar.com
X-WR-CALDESC:Events for Kerr Calendar
REFRESH-INTERVAL;VALUE=DURATION:PT1H
X-Robots-Tag:noindex
X-PUBLISHED-TTL:PT1H
BEGIN:VTIMEZONE
TZID:America/Chicago
BEGIN:DAYLIGHT
TZOFFSETFROM:-0600
TZOFFSETTO:-0500
TZNAME:CDT
DTSTART:20240310T080000
END:DAYLIGHT
BEGIN:STANDARD
TZOFFSETFROM:-0500
TZOFFSETTO:-0600
TZNAME:CST
DTSTART:20241103T070000
END:STANDARD
BEGIN:DAYLIGHT
TZOFFSETFROM:-0600
TZOFFSETTO:-0500
TZNAME:CDT
DTSTART:20250309T080000
END:DAYLIGHT
BEGIN:STANDARD
TZOFFSETFROM:-0500
TZOFFSETTO:-0600
TZNAME:CST
DTSTART:20251102T070000
END:STANDARD
BEGIN:DAYLIGHT
TZOFFSETFROM:-0600
TZOFFSETTO:-0500
TZNAME:CDT
DTSTART:20260308T080000
END:DAYLIGHT
BEGIN:STANDARD
TZOFFSETFROM:-0500
TZOFFSETTO:-0600
TZNAME:CST
DTSTART:20261101T070000
END:STANDARD
END:VTIMEZONE
BEGIN:VEVENT
DTSTART;TZID=America/Chicago:20251212T170000
DTEND;TZID=America/Chicago:20251212T200000
DTSTAMP:20260421T150053
CREATED:20250908T153822Z
LAST-MODIFIED:20250908T153822Z
UID:10002167-1765558800-1765569600@kerrcalendar.com
SUMMARY:After Hours at Turtle Creek Vineyard
DESCRIPTION:Kick off the weekend with us at Turtle Creek for After Hours at the Vineyard. Enjoy a glass of one of our award winning wines and the sounds of local musicians while surrounded by our vineyards and waterfront views of the creek.
URL:https://kerrcalendar.com/event/after-hours-at-turtle-creek-vineyard/2025-12-12/
LOCATION:Turtle Creek Vineyard\, 183 Fall Creek Road\, Kerrville\, 78028\, United States
CATEGORIES:Arts and Entertainment
ATTACH;FMTTYPE=image/png:https://kerrcalendar.com/wp-content/uploads/2025/09/After_Hours_plain1.png
END:VEVENT
BEGIN:VEVENT
DTSTART;TZID=America/Chicago:20251212T180000
DTEND;TZID=America/Chicago:20251212T210000
DTSTAMP:20260421T150053
CREATED:20250724T131534Z
LAST-MODIFIED:20250724T131534Z
UID:10001365-1765562400-1765573200@kerrcalendar.com
SUMMARY:Schreiner University Star Party
DESCRIPTION:
URL:https://kerrcalendar.com/event/schreiner-university-star-party-4/
CATEGORIES:Education and Schools
END:VEVENT
BEGIN:VEVENT
DTSTART;TZID=America/Chicago:20251212T190000
DTEND;TZID=America/Chicago:20251212T210000
DTSTAMP:20260421T150053
CREATED:20250724T131534Z
LAST-MODIFIED:20250724T131534Z
UID:10001366-1765566000-1765573200@kerrcalendar.com
SUMMARY:Schreiner University Karaoke & Line Dancing
DESCRIPTION:
URL:https://kerrcalendar.com/event/schreiner-university-karaoke-line-dancing-2/
LOCATION:Trailhead Beer Garden @ Schreiner University\, 2100 Memorial Blvd #11\, Kerrville\, 78028\, United States
CATEGORIES:Arts and Entertainment
END:VEVENT
END:VCALENDAR