BEGIN:VCALENDAR
VERSION:2.0
PRODID:-//Kerr Calendar - ECPv6.15.20//NONSGML v1.0//EN
CALSCALE:GREGORIAN
METHOD:PUBLISH
X-ORIGINAL-URL:https://kerrcalendar.com
X-WR-CALDESC:Events for Kerr Calendar
REFRESH-INTERVAL;VALUE=DURATION:PT1H
X-Robots-Tag:noindex
X-PUBLISHED-TTL:PT1H
BEGIN:VTIMEZONE
TZID:America/Chicago
BEGIN:DAYLIGHT
TZOFFSETFROM:-0600
TZOFFSETTO:-0500
TZNAME:CDT
DTSTART:20240310T080000
END:DAYLIGHT
BEGIN:STANDARD
TZOFFSETFROM:-0500
TZOFFSETTO:-0600
TZNAME:CST
DTSTART:20241103T070000
END:STANDARD
BEGIN:DAYLIGHT
TZOFFSETFROM:-0600
TZOFFSETTO:-0500
TZNAME:CDT
DTSTART:20250309T080000
END:DAYLIGHT
BEGIN:STANDARD
TZOFFSETFROM:-0500
TZOFFSETTO:-0600
TZNAME:CST
DTSTART:20251102T070000
END:STANDARD
BEGIN:DAYLIGHT
TZOFFSETFROM:-0600
TZOFFSETTO:-0500
TZNAME:CDT
DTSTART:20260308T080000
END:DAYLIGHT
BEGIN:STANDARD
TZOFFSETFROM:-0500
TZOFFSETTO:-0600
TZNAME:CST
DTSTART:20261101T070000
END:STANDARD
BEGIN:DAYLIGHT
TZOFFSETFROM:-0600
TZOFFSETTO:-0500
TZNAME:CDT
DTSTART:20270314T080000
END:DAYLIGHT
BEGIN:STANDARD
TZOFFSETFROM:-0500
TZOFFSETTO:-0600
TZNAME:CST
DTSTART:20271107T070000
END:STANDARD
END:VTIMEZONE
BEGIN:VEVENT
DTSTART;VALUE=DATE:20251219
DTEND;VALUE=DATE:20251220
DTSTAMP:20260421T185339
CREATED:20250724T131534Z
LAST-MODIFIED:20250724T131534Z
UID:10001367-1766102400-1766188799@kerrcalendar.com
SUMMARY:Schreiner University Commencement
DESCRIPTION:
URL:https://kerrcalendar.com/event/schreiner-university-commencement/
CATEGORIES:Education and Schools
END:VEVENT
BEGIN:VEVENT
DTSTART;VALUE=DATE:20251219
DTEND;VALUE=DATE:20251221
DTSTAMP:20260421T185339
CREATED:20250722T124832Z
LAST-MODIFIED:20250722T124832Z
UID:10001154-1766102400-1766275199@kerrcalendar.com
SUMMARY:KISD Early Release Day
DESCRIPTION:KISD will dismiss midday. Your child’s campus will share early release times. 
URL:https://kerrcalendar.com/event/kisd-early-release-day/
LOCATION:Kerrville ISD\, 1009 Barnett St\, Kerrville\, TX\, 78028\, United States
CATEGORIES:Education and Schools
END:VEVENT
BEGIN:VEVENT
DTSTART;VALUE=DATE:20251219
DTEND;VALUE=DATE:20260107
DTSTAMP:20260421T185339
CREATED:20250722T121042Z
LAST-MODIFIED:20250722T121042Z
UID:10001139-1766102400-1767743999@kerrcalendar.com
SUMMARY:Christmas Break for Ingram ISD
DESCRIPTION:Holiday time for the Warriors. Break includes a “wellness day” on December 19 and a staff workday on January 6. But the holiday\, for parents and students\, is effectively December 19 through January 6. School begins again on January 7.
URL:https://kerrcalendar.com/event/christmas-break-for-ingram-isd/
LOCATION:Ingram ISD\, 64 Hwy 39\, Ingram\, TX\, 78025\, United States
CATEGORIES:Education and Schools
ATTACH;FMTTYPE=image/png:https://kerrcalendar.com/wp-content/uploads/2025/07/Ingram-TM-Logo-New-2024-scaled.png
END:VEVENT
BEGIN:VEVENT
DTSTART;VALUE=DATE:20251219
DTEND;VALUE=DATE:20251220
DTSTAMP:20260421T185339
CREATED:20250722T120210Z
LAST-MODIFIED:20250722T122934Z
UID:10001141-1766131200-1766163600@kerrcalendar.com
SUMMARY:Ingram ISD Schools Closed - Wellness Day
DESCRIPTION:No school for students. According to Ingram’s calendar\,”IISD values our employees and recognizes the important role that employee well-being plays in improving student learning. These “work days” are self-care days provided to you to do what you need to do to take care of you so that you can continue taking great care of our students. School is closed on these days.” \nWellness dates include: \n\nSeptember 1\nOctober 13\nDecember 19\nJanuary 19\nFebruary 16
URL:https://kerrcalendar.com/event/ingram-isd-schools-closed-wellness/2025-12-19/
LOCATION:Ingram ISD\, 64 Hwy 39\, Ingram\, TX\, 78025\, United States
CATEGORIES:Education and Schools
ATTACH;FMTTYPE=image/png:https://kerrcalendar.com/wp-content/uploads/2025/07/no-school-today.png
END:VEVENT
BEGIN:VEVENT
DTSTART;TZID=America/Chicago:20251219T090000
DTEND;TZID=America/Chicago:20251221T160000
DTSTAMP:20260421T185339
CREATED:20250724T231425Z
LAST-MODIFIED:20250724T231425Z
UID:10001385-1766134800-1766332800@kerrcalendar.com
SUMMARY:Fredericksburg Trade Days
DESCRIPTION:Fredericksburg Trade Days is a Texas Hill Country shopping experience like no other. Held the third weekend of each month\, you’ll find acres of shopping\, food\, drinks\, and live music. They include 7 barns & acres of antiques\, collectibles\, tools\, crafts\, shabby chic\, primitives\, ranch furniture\, hunting accessories\, candles\, unique clothing\, jewelry\, food and so much more.
URL:https://kerrcalendar.com/event/fredericksburg-trade-days/2025-12-19/
LOCATION:Fredericksburg Trade Days\, 355 Sunday Farms Rd\, Fredericksburg\, United States
CATEGORIES:Arts and Entertainment
ATTACH;FMTTYPE=image/jpeg:https://kerrcalendar.com/wp-content/uploads/2025/07/logobw.jpg
END:VEVENT
BEGIN:VEVENT
DTSTART;TZID=America/Chicago:20251219T170000
DTEND;TZID=America/Chicago:20251219T200000
DTSTAMP:20260421T185339
CREATED:20250908T153822Z
LAST-MODIFIED:20250908T153822Z
UID:10002168-1766163600-1766174400@kerrcalendar.com
SUMMARY:After Hours at Turtle Creek Vineyard
DESCRIPTION:Kick off the weekend with us at Turtle Creek for After Hours at the Vineyard. Enjoy a glass of one of our award winning wines and the sounds of local musicians while surrounded by our vineyards and waterfront views of the creek.
URL:https://kerrcalendar.com/event/after-hours-at-turtle-creek-vineyard/2025-12-19/
LOCATION:Turtle Creek Vineyard\, 183 Fall Creek Road\, Kerrville\, 78028\, United States
CATEGORIES:Arts and Entertainment
ATTACH;FMTTYPE=image/png:https://kerrcalendar.com/wp-content/uploads/2025/09/After_Hours_plain1.png
END:VEVENT
END:VCALENDAR