BEGIN:VCALENDAR
VERSION:2.0
PRODID:-//Kerr Calendar - ECPv6.15.20//NONSGML v1.0//EN
CALSCALE:GREGORIAN
METHOD:PUBLISH
X-WR-CALNAME:Kerr Calendar
X-ORIGINAL-URL:https://kerrcalendar.com
X-WR-CALDESC:Events for Kerr Calendar
REFRESH-INTERVAL;VALUE=DURATION:PT1H
X-Robots-Tag:noindex
X-PUBLISHED-TTL:PT1H
BEGIN:VTIMEZONE
TZID:America/Chicago
BEGIN:DAYLIGHT
TZOFFSETFROM:-0600
TZOFFSETTO:-0500
TZNAME:CDT
DTSTART:20240310T080000
END:DAYLIGHT
BEGIN:STANDARD
TZOFFSETFROM:-0500
TZOFFSETTO:-0600
TZNAME:CST
DTSTART:20241103T070000
END:STANDARD
BEGIN:DAYLIGHT
TZOFFSETFROM:-0600
TZOFFSETTO:-0500
TZNAME:CDT
DTSTART:20250309T080000
END:DAYLIGHT
BEGIN:STANDARD
TZOFFSETFROM:-0500
TZOFFSETTO:-0600
TZNAME:CST
DTSTART:20251102T070000
END:STANDARD
BEGIN:DAYLIGHT
TZOFFSETFROM:-0600
TZOFFSETTO:-0500
TZNAME:CDT
DTSTART:20260308T080000
END:DAYLIGHT
BEGIN:STANDARD
TZOFFSETFROM:-0500
TZOFFSETTO:-0600
TZNAME:CST
DTSTART:20261101T070000
END:STANDARD
BEGIN:DAYLIGHT
TZOFFSETFROM:-0600
TZOFFSETTO:-0500
TZNAME:CDT
DTSTART:20270314T080000
END:DAYLIGHT
BEGIN:STANDARD
TZOFFSETFROM:-0500
TZOFFSETTO:-0600
TZNAME:CST
DTSTART:20271107T070000
END:STANDARD
END:VTIMEZONE
BEGIN:VEVENT
DTSTART;TZID=America/Chicago:20251011T090000
DTEND;TZID=America/Chicago:20251011T130000
DTSTAMP:20260422T165222
CREATED:20250721T120128Z
LAST-MODIFIED:20250728T163814Z
UID:10000796-1760173200-1760187600@kerrcalendar.com
SUMMARY:Heart of the Hills Farmers Market
DESCRIPTION:Supporting local producers\, fostering community\, promoting sustainability in our growing practices.
URL:https://kerrcalendar.com/event/heart-of-the-hills-farmers-market/2025-10-11/
LOCATION:Dallas Daughtry Boardwalk Pavilion\, 805 Water St\, Kerrville\, TX\, 78028\, United States
CATEGORIES:Nonprofits and Fundraisers
ATTACH;FMTTYPE=image/jpeg:https://kerrcalendar.com/wp-content/uploads/2025/07/qtq80-taw4Rz.jpeg
END:VEVENT
BEGIN:VEVENT
DTSTART;TZID=America/Chicago:20251018T090000
DTEND;TZID=America/Chicago:20251018T130000
DTSTAMP:20260422T165222
CREATED:20250721T120128Z
LAST-MODIFIED:20250728T163814Z
UID:10000797-1760778000-1760792400@kerrcalendar.com
SUMMARY:Heart of the Hills Farmers Market
DESCRIPTION:Supporting local producers\, fostering community\, promoting sustainability in our growing practices.
URL:https://kerrcalendar.com/event/heart-of-the-hills-farmers-market/2025-10-18/
LOCATION:Dallas Daughtry Boardwalk Pavilion\, 805 Water St\, Kerrville\, TX\, 78028\, United States
CATEGORIES:Nonprofits and Fundraisers
ATTACH;FMTTYPE=image/jpeg:https://kerrcalendar.com/wp-content/uploads/2025/07/qtq80-taw4Rz.jpeg
END:VEVENT
BEGIN:VEVENT
DTSTART;TZID=America/Chicago:20251018T170000
DTEND;TZID=America/Chicago:20251018T210000
DTSTAMP:20260422T165222
CREATED:20250722T204403Z
LAST-MODIFIED:20250722T204403Z
UID:10001170-1760806800-1760821200@kerrcalendar.com
SUMMARY:Baubles & Beads
DESCRIPTION:We are thrilled to invite you to be part of the 2025 Baubles & Beads event\, hosted by the Executive Women’s Club of Kerrville. This year’s theme centers around early detection—our best defense in the fight against breast cancer.
URL:https://kerrcalendar.com/event/baubles-beads/
LOCATION:Hill Country Youth Event Center\, 3785 TX-27\, Kerrville\, TX\, 78028\, United States
CATEGORIES:Nonprofits and Fundraisers
ATTACH;FMTTYPE=image/jpeg:https://kerrcalendar.com/wp-content/uploads/2025/07/baubles.jpg
END:VEVENT
BEGIN:VEVENT
DTSTART;TZID=America/Chicago:20251025T090000
DTEND;TZID=America/Chicago:20251025T130000
DTSTAMP:20260422T165222
CREATED:20250721T120128Z
LAST-MODIFIED:20250728T163814Z
UID:10000798-1761382800-1761397200@kerrcalendar.com
SUMMARY:Heart of the Hills Farmers Market
DESCRIPTION:Supporting local producers\, fostering community\, promoting sustainability in our growing practices.
URL:https://kerrcalendar.com/event/heart-of-the-hills-farmers-market/2025-10-25/
LOCATION:Dallas Daughtry Boardwalk Pavilion\, 805 Water St\, Kerrville\, TX\, 78028\, United States
CATEGORIES:Nonprofits and Fundraisers
ATTACH;FMTTYPE=image/jpeg:https://kerrcalendar.com/wp-content/uploads/2025/07/qtq80-taw4Rz.jpeg
END:VEVENT
BEGIN:VEVENT
DTSTART;TZID=America/Chicago:20251031T173000
DTEND;TZID=America/Chicago:20251031T193000
DTSTAMP:20260422T165222
CREATED:20250722T204102Z
LAST-MODIFIED:20250730T131540Z
UID:10001168-1761931800-1761939000@kerrcalendar.com
SUMMARY:Friday Wine Share & Business Expo - Kerrville Area Chamber of Commerce
DESCRIPTION:The Kerrville Area Chamber of Commerce is proud to present the 2025 Business Expo in conjunction with the First Friday Wine Share\, taking place (these are the new dates) Friday\, October 31st and Saturday\, November 1st at the Happy State Bank Expo Hall\, located at the Hill Country Youth Event Center.\nThis FREE\, 2-day\, public event offers a fantastic opportunity to explore and connect with a wide range of Hill Country businesses—including local banks\, restaurants\, home service providers\, medical institutions like Peterson Health\, and many more. Whether you’re discovering new products or learning more about local services\, there’s something for everyone.\nJoin us Friday evening from 5:15 PM to 7:30 PM for our popular Wine Share hosted by the First Friday Wine Share Club\, where many vendors will also provide complimentary snacks and sweet treats at their booths. We also invite you to dress in Halloween attire for this fun Friday event!!\nThen\, come back Saturday from 10:00 AM to 3:00 PM for a full expo experience—visit booths\, chat with business owners\, and gain valuable insight into the many services and innovations available in our Hill Country community.
URL:https://kerrcalendar.com/event/friday-wine-share-expo/2025-10-31/
LOCATION:Hill Country Youth Event Center\, 3785 TX-27\, Kerrville\, TX\, 78028\, United States
CATEGORIES:Nonprofits and Fundraisers
ATTACH;FMTTYPE=image/jpeg:https://kerrcalendar.com/wp-content/uploads/2025/07/business-expo.jpg
END:VEVENT
BEGIN:VEVENT
DTSTART;TZID=America/Chicago:20251101T090000
DTEND;TZID=America/Chicago:20251101T130000
DTSTAMP:20260422T165222
CREATED:20250721T120128Z
LAST-MODIFIED:20250728T163814Z
UID:10000799-1761987600-1762002000@kerrcalendar.com
SUMMARY:Heart of the Hills Farmers Market
DESCRIPTION:Supporting local producers\, fostering community\, promoting sustainability in our growing practices.
URL:https://kerrcalendar.com/event/heart-of-the-hills-farmers-market/2025-11-01/
LOCATION:Dallas Daughtry Boardwalk Pavilion\, 805 Water St\, Kerrville\, TX\, 78028\, United States
CATEGORIES:Nonprofits and Fundraisers
ATTACH;FMTTYPE=image/jpeg:https://kerrcalendar.com/wp-content/uploads/2025/07/qtq80-taw4Rz.jpeg
END:VEVENT
BEGIN:VEVENT
DTSTART;TZID=America/Chicago:20251101T100000
DTEND;TZID=America/Chicago:20251101T150000
DTSTAMP:20260422T165222
CREATED:20250722T204102Z
LAST-MODIFIED:20250730T131540Z
UID:10001169-1761991200-1762009200@kerrcalendar.com
SUMMARY:Friday Wine Share & Business Expo - Kerrville Area Chamber of Commerce
DESCRIPTION:The Kerrville Area Chamber of Commerce is proud to present the 2025 Business Expo in conjunction with the First Friday Wine Share\, taking place (these are the new dates) Friday\, October 31st and Saturday\, November 1st at the Happy State Bank Expo Hall\, located at the Hill Country Youth Event Center.\nThis FREE\, 2-day\, public event offers a fantastic opportunity to explore and connect with a wide range of Hill Country businesses—including local banks\, restaurants\, home service providers\, medical institutions like Peterson Health\, and many more. Whether you’re discovering new products or learning more about local services\, there’s something for everyone.\nJoin us Friday evening from 5:15 PM to 7:30 PM for our popular Wine Share hosted by the First Friday Wine Share Club\, where many vendors will also provide complimentary snacks and sweet treats at their booths. We also invite you to dress in Halloween attire for this fun Friday event!!\nThen\, come back Saturday from 10:00 AM to 3:00 PM for a full expo experience—visit booths\, chat with business owners\, and gain valuable insight into the many services and innovations available in our Hill Country community.
URL:https://kerrcalendar.com/event/friday-wine-share-expo/2025-11-01/
LOCATION:Hill Country Youth Event Center\, 3785 TX-27\, Kerrville\, TX\, 78028\, United States
CATEGORIES:Nonprofits and Fundraisers
ATTACH;FMTTYPE=image/jpeg:https://kerrcalendar.com/wp-content/uploads/2025/07/business-expo.jpg
END:VEVENT
BEGIN:VEVENT
DTSTART;TZID=America/Chicago:20251108T090000
DTEND;TZID=America/Chicago:20251108T130000
DTSTAMP:20260422T165222
CREATED:20250721T120128Z
LAST-MODIFIED:20250728T163814Z
UID:10000800-1762592400-1762606800@kerrcalendar.com
SUMMARY:Heart of the Hills Farmers Market
DESCRIPTION:Supporting local producers\, fostering community\, promoting sustainability in our growing practices.
URL:https://kerrcalendar.com/event/heart-of-the-hills-farmers-market/2025-11-08/
LOCATION:Dallas Daughtry Boardwalk Pavilion\, 805 Water St\, Kerrville\, TX\, 78028\, United States
CATEGORIES:Nonprofits and Fundraisers
ATTACH;FMTTYPE=image/jpeg:https://kerrcalendar.com/wp-content/uploads/2025/07/qtq80-taw4Rz.jpeg
END:VEVENT
BEGIN:VEVENT
DTSTART;TZID=America/Chicago:20251115T090000
DTEND;TZID=America/Chicago:20251115T130000
DTSTAMP:20260422T165222
CREATED:20250721T120128Z
LAST-MODIFIED:20250728T163814Z
UID:10000801-1763197200-1763211600@kerrcalendar.com
SUMMARY:Heart of the Hills Farmers Market
DESCRIPTION:Supporting local producers\, fostering community\, promoting sustainability in our growing practices.
URL:https://kerrcalendar.com/event/heart-of-the-hills-farmers-market/2025-11-15/
LOCATION:Dallas Daughtry Boardwalk Pavilion\, 805 Water St\, Kerrville\, TX\, 78028\, United States
CATEGORIES:Nonprofits and Fundraisers
ATTACH;FMTTYPE=image/jpeg:https://kerrcalendar.com/wp-content/uploads/2025/07/qtq80-taw4Rz.jpeg
END:VEVENT
BEGIN:VEVENT
DTSTART;TZID=America/Chicago:20251122T090000
DTEND;TZID=America/Chicago:20251122T130000
DTSTAMP:20260422T165222
CREATED:20250721T120128Z
LAST-MODIFIED:20250728T163814Z
UID:10000802-1763802000-1763816400@kerrcalendar.com
SUMMARY:Heart of the Hills Farmers Market
DESCRIPTION:Supporting local producers\, fostering community\, promoting sustainability in our growing practices.
URL:https://kerrcalendar.com/event/heart-of-the-hills-farmers-market/2025-11-22/
LOCATION:Dallas Daughtry Boardwalk Pavilion\, 805 Water St\, Kerrville\, TX\, 78028\, United States
CATEGORIES:Nonprofits and Fundraisers
ATTACH;FMTTYPE=image/jpeg:https://kerrcalendar.com/wp-content/uploads/2025/07/qtq80-taw4Rz.jpeg
END:VEVENT
BEGIN:VEVENT
DTSTART;TZID=America/Chicago:20251129T090000
DTEND;TZID=America/Chicago:20251129T130000
DTSTAMP:20260422T165222
CREATED:20250721T120128Z
LAST-MODIFIED:20250728T163814Z
UID:10000803-1764406800-1764421200@kerrcalendar.com
SUMMARY:Heart of the Hills Farmers Market
DESCRIPTION:Supporting local producers\, fostering community\, promoting sustainability in our growing practices.
URL:https://kerrcalendar.com/event/heart-of-the-hills-farmers-market/2025-11-29/
LOCATION:Dallas Daughtry Boardwalk Pavilion\, 805 Water St\, Kerrville\, TX\, 78028\, United States
CATEGORIES:Nonprofits and Fundraisers
ATTACH;FMTTYPE=image/jpeg:https://kerrcalendar.com/wp-content/uploads/2025/07/qtq80-taw4Rz.jpeg
END:VEVENT
BEGIN:VEVENT
DTSTART;TZID=America/Chicago:20251206T090000
DTEND;TZID=America/Chicago:20251206T130000
DTSTAMP:20260422T165222
CREATED:20250721T120128Z
LAST-MODIFIED:20250728T163814Z
UID:10000804-1765011600-1765026000@kerrcalendar.com
SUMMARY:Heart of the Hills Farmers Market
DESCRIPTION:Supporting local producers\, fostering community\, promoting sustainability in our growing practices.
URL:https://kerrcalendar.com/event/heart-of-the-hills-farmers-market/2025-12-06/
LOCATION:Dallas Daughtry Boardwalk Pavilion\, 805 Water St\, Kerrville\, TX\, 78028\, United States
CATEGORIES:Nonprofits and Fundraisers
ATTACH;FMTTYPE=image/jpeg:https://kerrcalendar.com/wp-content/uploads/2025/07/qtq80-taw4Rz.jpeg
END:VEVENT
BEGIN:VEVENT
DTSTART;TZID=America/Chicago:20251206T180000
DTEND;TZID=America/Chicago:20251206T230000
DTSTAMP:20260422T165222
CREATED:20250725T134918Z
LAST-MODIFIED:20250725T134918Z
UID:10001445-1765044000-1765062000@kerrcalendar.com
SUMMARY:KPA Fur Ball 2025
DESCRIPTION:Since Kerrville Pets Alive’s Formation in 2019\, the cats in Kerr County have suffered many challenges. During that time\, the majority of the cats that were impounded at Kerr County Animal Services were euthanized after 72 business hours. Many were cats that had been abandoned and found their way to porches looking for food. They were a victim of their circumstances. We called these cats the cats in the dark. No one ever saw them and they simply disappeared. \nKPA! worked with Kerr County officials to give these cats a chance at life. We were given access to the cats to evaluate and socialize them so that that we could find them homes or adopt them out as barn cats. We also funded their vaccines and spay/neuter surgeries. \nAs the result of our efforts\, thousands of cats have been saved. The Great Catsby will honor of all the cats and dogs who used to be in the dark and now see the light. We hope this event raises awareness and funds to support our continued efforts. Thank you for considering attendance or sponsorship of the 2025 Fur Ball.
URL:https://kerrcalendar.com/event/kpa-fur-ball-2025/
LOCATION:Hill Country Youth Event Center\, 3785 TX-27\, Kerrville\, TX\, 78028\, United States
CATEGORIES:Nonprofits and Fundraisers
ATTACH;FMTTYPE=image/png:https://kerrcalendar.com/wp-content/uploads/2025/07/furball-postcard.png
END:VEVENT
BEGIN:VEVENT
DTSTART;TZID=America/Chicago:20251213T090000
DTEND;TZID=America/Chicago:20251213T130000
DTSTAMP:20260422T165222
CREATED:20250721T120128Z
LAST-MODIFIED:20250728T163814Z
UID:10000805-1765616400-1765630800@kerrcalendar.com
SUMMARY:Heart of the Hills Farmers Market
DESCRIPTION:Supporting local producers\, fostering community\, promoting sustainability in our growing practices.
URL:https://kerrcalendar.com/event/heart-of-the-hills-farmers-market/2025-12-13/
LOCATION:Dallas Daughtry Boardwalk Pavilion\, 805 Water St\, Kerrville\, TX\, 78028\, United States
CATEGORIES:Nonprofits and Fundraisers
ATTACH;FMTTYPE=image/jpeg:https://kerrcalendar.com/wp-content/uploads/2025/07/qtq80-taw4Rz.jpeg
END:VEVENT
BEGIN:VEVENT
DTSTART;TZID=America/Chicago:20251220T090000
DTEND;TZID=America/Chicago:20251220T130000
DTSTAMP:20260422T165222
CREATED:20250721T120128Z
LAST-MODIFIED:20250728T163814Z
UID:10000806-1766221200-1766235600@kerrcalendar.com
SUMMARY:Heart of the Hills Farmers Market
DESCRIPTION:Supporting local producers\, fostering community\, promoting sustainability in our growing practices.
URL:https://kerrcalendar.com/event/heart-of-the-hills-farmers-market/2025-12-20/
LOCATION:Dallas Daughtry Boardwalk Pavilion\, 805 Water St\, Kerrville\, TX\, 78028\, United States
CATEGORIES:Nonprofits and Fundraisers
ATTACH;FMTTYPE=image/jpeg:https://kerrcalendar.com/wp-content/uploads/2025/07/qtq80-taw4Rz.jpeg
END:VEVENT
BEGIN:VEVENT
DTSTART;TZID=America/Chicago:20251227T090000
DTEND;TZID=America/Chicago:20251227T130000
DTSTAMP:20260422T165222
CREATED:20250721T120128Z
LAST-MODIFIED:20250728T163814Z
UID:10000807-1766826000-1766840400@kerrcalendar.com
SUMMARY:Heart of the Hills Farmers Market
DESCRIPTION:Supporting local producers\, fostering community\, promoting sustainability in our growing practices.
URL:https://kerrcalendar.com/event/heart-of-the-hills-farmers-market/2025-12-27/
LOCATION:Dallas Daughtry Boardwalk Pavilion\, 805 Water St\, Kerrville\, TX\, 78028\, United States
CATEGORIES:Nonprofits and Fundraisers
ATTACH;FMTTYPE=image/jpeg:https://kerrcalendar.com/wp-content/uploads/2025/07/qtq80-taw4Rz.jpeg
END:VEVENT
BEGIN:VEVENT
DTSTART;TZID=America/Chicago:20260103T090000
DTEND;TZID=America/Chicago:20260103T130000
DTSTAMP:20260422T165222
CREATED:20250721T120128Z
LAST-MODIFIED:20250728T163814Z
UID:10000808-1767430800-1767445200@kerrcalendar.com
SUMMARY:Heart of the Hills Farmers Market
DESCRIPTION:Supporting local producers\, fostering community\, promoting sustainability in our growing practices.
URL:https://kerrcalendar.com/event/heart-of-the-hills-farmers-market/2026-01-03/
LOCATION:Dallas Daughtry Boardwalk Pavilion\, 805 Water St\, Kerrville\, TX\, 78028\, United States
CATEGORIES:Nonprofits and Fundraisers
ATTACH;FMTTYPE=image/jpeg:https://kerrcalendar.com/wp-content/uploads/2025/07/qtq80-taw4Rz.jpeg
END:VEVENT
BEGIN:VEVENT
DTSTART;TZID=America/Chicago:20260110T090000
DTEND;TZID=America/Chicago:20260110T130000
DTSTAMP:20260422T165222
CREATED:20250721T120128Z
LAST-MODIFIED:20250728T163814Z
UID:10000809-1768035600-1768050000@kerrcalendar.com
SUMMARY:Heart of the Hills Farmers Market
DESCRIPTION:Supporting local producers\, fostering community\, promoting sustainability in our growing practices.
URL:https://kerrcalendar.com/event/heart-of-the-hills-farmers-market/2026-01-10/
LOCATION:Dallas Daughtry Boardwalk Pavilion\, 805 Water St\, Kerrville\, TX\, 78028\, United States
CATEGORIES:Nonprofits and Fundraisers
ATTACH;FMTTYPE=image/jpeg:https://kerrcalendar.com/wp-content/uploads/2025/07/qtq80-taw4Rz.jpeg
END:VEVENT
BEGIN:VEVENT
DTSTART;TZID=America/Chicago:20260117T090000
DTEND;TZID=America/Chicago:20260117T130000
DTSTAMP:20260422T165222
CREATED:20250721T120128Z
LAST-MODIFIED:20250728T163814Z
UID:10000810-1768640400-1768654800@kerrcalendar.com
SUMMARY:Heart of the Hills Farmers Market
DESCRIPTION:Supporting local producers\, fostering community\, promoting sustainability in our growing practices.
URL:https://kerrcalendar.com/event/heart-of-the-hills-farmers-market/2026-01-17/
LOCATION:Dallas Daughtry Boardwalk Pavilion\, 805 Water St\, Kerrville\, TX\, 78028\, United States
CATEGORIES:Nonprofits and Fundraisers
ATTACH;FMTTYPE=image/jpeg:https://kerrcalendar.com/wp-content/uploads/2025/07/qtq80-taw4Rz.jpeg
END:VEVENT
BEGIN:VEVENT
DTSTART;TZID=America/Chicago:20260124T090000
DTEND;TZID=America/Chicago:20260124T130000
DTSTAMP:20260422T165222
CREATED:20250721T120128Z
LAST-MODIFIED:20250728T163814Z
UID:10000811-1769245200-1769259600@kerrcalendar.com
SUMMARY:Heart of the Hills Farmers Market
DESCRIPTION:Supporting local producers\, fostering community\, promoting sustainability in our growing practices.
URL:https://kerrcalendar.com/event/heart-of-the-hills-farmers-market/2026-01-24/
LOCATION:Dallas Daughtry Boardwalk Pavilion\, 805 Water St\, Kerrville\, TX\, 78028\, United States
CATEGORIES:Nonprofits and Fundraisers
ATTACH;FMTTYPE=image/jpeg:https://kerrcalendar.com/wp-content/uploads/2025/07/qtq80-taw4Rz.jpeg
END:VEVENT
BEGIN:VEVENT
DTSTART;TZID=America/Chicago:20260131T090000
DTEND;TZID=America/Chicago:20260131T130000
DTSTAMP:20260422T165222
CREATED:20250721T120128Z
LAST-MODIFIED:20250728T163814Z
UID:10000812-1769850000-1769864400@kerrcalendar.com
SUMMARY:Heart of the Hills Farmers Market
DESCRIPTION:Supporting local producers\, fostering community\, promoting sustainability in our growing practices.
URL:https://kerrcalendar.com/event/heart-of-the-hills-farmers-market/2026-01-31/
LOCATION:Dallas Daughtry Boardwalk Pavilion\, 805 Water St\, Kerrville\, TX\, 78028\, United States
CATEGORIES:Nonprofits and Fundraisers
ATTACH;FMTTYPE=image/jpeg:https://kerrcalendar.com/wp-content/uploads/2025/07/qtq80-taw4Rz.jpeg
END:VEVENT
BEGIN:VEVENT
DTSTART;TZID=America/Chicago:20260207T090000
DTEND;TZID=America/Chicago:20260207T130000
DTSTAMP:20260422T165222
CREATED:20250721T120128Z
LAST-MODIFIED:20250728T163814Z
UID:10000813-1770454800-1770469200@kerrcalendar.com
SUMMARY:Heart of the Hills Farmers Market
DESCRIPTION:Supporting local producers\, fostering community\, promoting sustainability in our growing practices.
URL:https://kerrcalendar.com/event/heart-of-the-hills-farmers-market/2026-02-07/
LOCATION:Dallas Daughtry Boardwalk Pavilion\, 805 Water St\, Kerrville\, TX\, 78028\, United States
CATEGORIES:Nonprofits and Fundraisers
ATTACH;FMTTYPE=image/jpeg:https://kerrcalendar.com/wp-content/uploads/2025/07/qtq80-taw4Rz.jpeg
END:VEVENT
BEGIN:VEVENT
DTSTART;TZID=America/Chicago:20260214T090000
DTEND;TZID=America/Chicago:20260214T130000
DTSTAMP:20260422T165222
CREATED:20250721T120128Z
LAST-MODIFIED:20250728T163814Z
UID:10000814-1771059600-1771074000@kerrcalendar.com
SUMMARY:Heart of the Hills Farmers Market
DESCRIPTION:Supporting local producers\, fostering community\, promoting sustainability in our growing practices.
URL:https://kerrcalendar.com/event/heart-of-the-hills-farmers-market/2026-02-14/
LOCATION:Dallas Daughtry Boardwalk Pavilion\, 805 Water St\, Kerrville\, TX\, 78028\, United States
CATEGORIES:Nonprofits and Fundraisers
ATTACH;FMTTYPE=image/jpeg:https://kerrcalendar.com/wp-content/uploads/2025/07/qtq80-taw4Rz.jpeg
END:VEVENT
BEGIN:VEVENT
DTSTART;TZID=America/Chicago:20260221T090000
DTEND;TZID=America/Chicago:20260221T130000
DTSTAMP:20260422T165222
CREATED:20250721T120128Z
LAST-MODIFIED:20250728T163814Z
UID:10000815-1771664400-1771678800@kerrcalendar.com
SUMMARY:Heart of the Hills Farmers Market
DESCRIPTION:Supporting local producers\, fostering community\, promoting sustainability in our growing practices.
URL:https://kerrcalendar.com/event/heart-of-the-hills-farmers-market/2026-02-21/
LOCATION:Dallas Daughtry Boardwalk Pavilion\, 805 Water St\, Kerrville\, TX\, 78028\, United States
CATEGORIES:Nonprofits and Fundraisers
ATTACH;FMTTYPE=image/jpeg:https://kerrcalendar.com/wp-content/uploads/2025/07/qtq80-taw4Rz.jpeg
END:VEVENT
BEGIN:VEVENT
DTSTART;TZID=America/Chicago:20260228T090000
DTEND;TZID=America/Chicago:20260228T130000
DTSTAMP:20260422T165222
CREATED:20250721T120128Z
LAST-MODIFIED:20250728T163814Z
UID:10000816-1772269200-1772283600@kerrcalendar.com
SUMMARY:Heart of the Hills Farmers Market
DESCRIPTION:Supporting local producers\, fostering community\, promoting sustainability in our growing practices.
URL:https://kerrcalendar.com/event/heart-of-the-hills-farmers-market/2026-02-28/
LOCATION:Dallas Daughtry Boardwalk Pavilion\, 805 Water St\, Kerrville\, TX\, 78028\, United States
CATEGORIES:Nonprofits and Fundraisers
ATTACH;FMTTYPE=image/jpeg:https://kerrcalendar.com/wp-content/uploads/2025/07/qtq80-taw4Rz.jpeg
END:VEVENT
BEGIN:VEVENT
DTSTART;TZID=America/Chicago:20260307T090000
DTEND;TZID=America/Chicago:20260307T130000
DTSTAMP:20260422T165222
CREATED:20250721T120128Z
LAST-MODIFIED:20250728T163814Z
UID:10000817-1772874000-1772888400@kerrcalendar.com
SUMMARY:Heart of the Hills Farmers Market
DESCRIPTION:Supporting local producers\, fostering community\, promoting sustainability in our growing practices.
URL:https://kerrcalendar.com/event/heart-of-the-hills-farmers-market/2026-03-07/
LOCATION:Dallas Daughtry Boardwalk Pavilion\, 805 Water St\, Kerrville\, TX\, 78028\, United States
CATEGORIES:Nonprofits and Fundraisers
ATTACH;FMTTYPE=image/jpeg:https://kerrcalendar.com/wp-content/uploads/2025/07/qtq80-taw4Rz.jpeg
END:VEVENT
BEGIN:VEVENT
DTSTART;TZID=America/Chicago:20260314T090000
DTEND;TZID=America/Chicago:20260314T130000
DTSTAMP:20260422T165222
CREATED:20250721T120128Z
LAST-MODIFIED:20250728T163814Z
UID:10000818-1773478800-1773493200@kerrcalendar.com
SUMMARY:Heart of the Hills Farmers Market
DESCRIPTION:Supporting local producers\, fostering community\, promoting sustainability in our growing practices.
URL:https://kerrcalendar.com/event/heart-of-the-hills-farmers-market/2026-03-14/
LOCATION:Dallas Daughtry Boardwalk Pavilion\, 805 Water St\, Kerrville\, TX\, 78028\, United States
CATEGORIES:Nonprofits and Fundraisers
ATTACH;FMTTYPE=image/jpeg:https://kerrcalendar.com/wp-content/uploads/2025/07/qtq80-taw4Rz.jpeg
END:VEVENT
BEGIN:VEVENT
DTSTART;TZID=America/Chicago:20260321T090000
DTEND;TZID=America/Chicago:20260321T130000
DTSTAMP:20260422T165222
CREATED:20250721T120128Z
LAST-MODIFIED:20250728T163814Z
UID:10000819-1774083600-1774098000@kerrcalendar.com
SUMMARY:Heart of the Hills Farmers Market
DESCRIPTION:Supporting local producers\, fostering community\, promoting sustainability in our growing practices.
URL:https://kerrcalendar.com/event/heart-of-the-hills-farmers-market/2026-03-21/
LOCATION:Dallas Daughtry Boardwalk Pavilion\, 805 Water St\, Kerrville\, TX\, 78028\, United States
CATEGORIES:Nonprofits and Fundraisers
ATTACH;FMTTYPE=image/jpeg:https://kerrcalendar.com/wp-content/uploads/2025/07/qtq80-taw4Rz.jpeg
END:VEVENT
BEGIN:VEVENT
DTSTART;TZID=America/Chicago:20260328T090000
DTEND;TZID=America/Chicago:20260328T130000
DTSTAMP:20260422T165222
CREATED:20250721T120128Z
LAST-MODIFIED:20250728T163814Z
UID:10000820-1774688400-1774702800@kerrcalendar.com
SUMMARY:Heart of the Hills Farmers Market
DESCRIPTION:Supporting local producers\, fostering community\, promoting sustainability in our growing practices.
URL:https://kerrcalendar.com/event/heart-of-the-hills-farmers-market/2026-03-28/
LOCATION:Dallas Daughtry Boardwalk Pavilion\, 805 Water St\, Kerrville\, TX\, 78028\, United States
CATEGORIES:Nonprofits and Fundraisers
ATTACH;FMTTYPE=image/jpeg:https://kerrcalendar.com/wp-content/uploads/2025/07/qtq80-taw4Rz.jpeg
END:VEVENT
BEGIN:VEVENT
DTSTART;TZID=America/Chicago:20260404T090000
DTEND;TZID=America/Chicago:20260404T130000
DTSTAMP:20260422T165222
CREATED:20250721T120128Z
LAST-MODIFIED:20250728T163814Z
UID:10000821-1775293200-1775307600@kerrcalendar.com
SUMMARY:Heart of the Hills Farmers Market
DESCRIPTION:Supporting local producers\, fostering community\, promoting sustainability in our growing practices.
URL:https://kerrcalendar.com/event/heart-of-the-hills-farmers-market/2026-04-04/
LOCATION:Dallas Daughtry Boardwalk Pavilion\, 805 Water St\, Kerrville\, TX\, 78028\, United States
CATEGORIES:Nonprofits and Fundraisers
ATTACH;FMTTYPE=image/jpeg:https://kerrcalendar.com/wp-content/uploads/2025/07/qtq80-taw4Rz.jpeg
END:VEVENT
END:VCALENDAR