BEGIN:VCALENDAR
VERSION:2.0
PRODID:-//Kerr Calendar - ECPv6.15.20//NONSGML v1.0//EN
CALSCALE:GREGORIAN
METHOD:PUBLISH
X-ORIGINAL-URL:https://kerrcalendar.com
X-WR-CALDESC:Events for Kerr Calendar
REFRESH-INTERVAL;VALUE=DURATION:PT1H
X-Robots-Tag:noindex
X-PUBLISHED-TTL:PT1H
BEGIN:VTIMEZONE
TZID:America/Chicago
BEGIN:DAYLIGHT
TZOFFSETFROM:-0600
TZOFFSETTO:-0500
TZNAME:CDT
DTSTART:20240310T080000
END:DAYLIGHT
BEGIN:STANDARD
TZOFFSETFROM:-0500
TZOFFSETTO:-0600
TZNAME:CST
DTSTART:20241103T070000
END:STANDARD
BEGIN:DAYLIGHT
TZOFFSETFROM:-0600
TZOFFSETTO:-0500
TZNAME:CDT
DTSTART:20250309T080000
END:DAYLIGHT
BEGIN:STANDARD
TZOFFSETFROM:-0500
TZOFFSETTO:-0600
TZNAME:CST
DTSTART:20251102T070000
END:STANDARD
BEGIN:DAYLIGHT
TZOFFSETFROM:-0600
TZOFFSETTO:-0500
TZNAME:CDT
DTSTART:20260308T080000
END:DAYLIGHT
BEGIN:STANDARD
TZOFFSETFROM:-0500
TZOFFSETTO:-0600
TZNAME:CST
DTSTART:20261101T070000
END:STANDARD
END:VTIMEZONE
BEGIN:VEVENT
DTSTART;VALUE=DATE:20250804
DTEND;VALUE=DATE:20250805
DTSTAMP:20260420T092625
CREATED:20250727T204203Z
LAST-MODIFIED:20250727T204203Z
UID:10001449-1754265600-1754351999@kerrcalendar.com
SUMMARY:Schreiner University's Adult COED 3v3 Beach Volleyball Tournament
DESCRIPTION:Join us for our COED 3v3 Volleyball tournaments at Schreiner University. Teams must always have one male and one female on the court. Maximum roster of 4 people. This tournament will be run by our Campus Recreation department. Prizes will be awarded to 1st place. \nAges: 15+\nGame Times: 6:00pm – 9:00pm\nCost: $28 per player\n($25 + $3 Fee)
URL:https://kerrcalendar.com/event/schreiner-universitys-adult-coed-3v3-beach-volleyball-tournament/
LOCATION:Schreiner University\, 2100 Memorial Blvd\, Kerrville\, TX\, 78028\, United States
CATEGORIES:Sports
ATTACH;FMTTYPE=image/jpeg:https://kerrcalendar.com/wp-content/uploads/2025/07/qtq80-NhFXrT.jpeg
END:VEVENT
BEGIN:VEVENT
DTSTART;VALUE=DATE:20250806
DTEND;VALUE=DATE:20250807
DTSTAMP:20260420T092625
CREATED:20250727T204417Z
LAST-MODIFIED:20250727T204417Z
UID:10001450-1754438400-1754524799@kerrcalendar.com
SUMMARY:Schreiner University's COED Pickleball Tournament
DESCRIPTION:Join us for our summer 2v2 pickleball tournament at Schreiner University. This league will be run by our Campus Recreation department. Must be 15 years or older to participate. Open division can consist of any combination of players. Prizes will be awarded to 1st place. \nAges: 15+\nTime: 7:00pm – 9:00pm\nCost: $28 per player\n($25 + $3 Fee)
URL:https://kerrcalendar.com/event/schreiner-universitys-coed-pickleball-tournament/
LOCATION:Schreiner University\, 2100 Memorial Blvd\, Kerrville\, TX\, 78028\, United States
CATEGORIES:Sports
ATTACH;FMTTYPE=image/jpeg:https://kerrcalendar.com/wp-content/uploads/2025/07/pickleball-scaled.jpg
END:VEVENT
BEGIN:VEVENT
DTSTART;TZID=America/Chicago:20250806T073000
DTEND;TZID=America/Chicago:20250806T160000
DTSTAMP:20260420T092625
CREATED:20250723T122758Z
LAST-MODIFIED:20250723T122758Z
UID:10001177-1754465400-1754496000@kerrcalendar.com
SUMMARY:Ingram Tom Moore "Media Day"
DESCRIPTION:ITM Warriors will host media day at Ingram Tom Moore High School. Team and individual photos will be captured\, and the media is invited to meet the athletes ahead of the 2025 fall seasons. Volleyball\, football\, cross country\, cheer-leading\, and tennis will be involved. \nPhoto order details can be found at the link below.
URL:https://kerrcalendar.com/event/ingram-tom-moore-media-day/
LOCATION:Ingram ISD\, 64 Hwy 39\, Ingram\, TX\, 78025\, United States
CATEGORIES:Education and Schools,Sports
ATTACH;FMTTYPE=image/png:https://kerrcalendar.com/wp-content/uploads/2025/07/Ingram-TM-Logo-New-2024-scaled.png
END:VEVENT
BEGIN:VEVENT
DTSTART;TZID=America/Chicago:20250809T190000
DTEND;TZID=America/Chicago:20250809T220000
DTSTAMP:20260420T092625
CREATED:20250724T122253Z
LAST-MODIFIED:20250724T122410Z
UID:10001290-1754766000-1754776800@kerrcalendar.com
SUMMARY:Kerr County Flood Relief Night at the SA Missions
DESCRIPTION:Come together through the power of sport for a night of joy and community at Nelson Wolff Stadium in San Antonio as the Missions take on the Springfield Cardinals. The Missions will proudly wear Kerrville Tivy\, Ingram\, Center Point\, and Comfort jerseys as they take the field. These special jerseys will be autographed and auctioned off throughout the game to raise money for the Kerr Country Flood Relief Fund and support the field restoration of Ingram Little League through a partnership with the Round Rock Express\, Nolan Ryan Foundation\, & RS3 Turf. Missions Owner Manu Ginobili will wear one of these special jersey as he throws out a first pitch to a student-athlete. \nThe Missions would like to offer Kerr County families a special discounted ticket price via this link in hopes we can all come together and begin healing together. Fans will have the opportunity to bid on the jerseys throughout the game\, auction will end 10 minutes after the conclusion of the fireworks show. Jerseys can be paid for and picked up right after the auction ends. \n\nNelson Wolff Municipal Stadium\n5757 US-90\, San Antonio\, TX 78227\, US\nPurchase Deadline: Aug 08\, 2025 11:59 PM CDT
URL:https://kerrcalendar.com/event/kerr-county-flood-relief-night-at-the-sa-missions/
CATEGORIES:Sports
ATTACH;FMTTYPE=image/png:https://kerrcalendar.com/wp-content/uploads/2025/07/missions-kerr.png
END:VEVENT
BEGIN:VEVENT
DTSTART;TZID=America/Chicago:20250809T203000
DTEND;TZID=America/Chicago:20250809T213000
DTSTAMP:20260420T092625
CREATED:20250723T122512Z
LAST-MODIFIED:20250808T230534Z
UID:10001176-1754771400-1754775000@kerrcalendar.com
SUMMARY:Tivy Community Pep Rally
DESCRIPTION:Community pep rally for all sports at Antler Stadium! After the pep rally\, public football practice from 8:30 pm to 9:30 pm.
URL:https://kerrcalendar.com/event/tivy-moms-101-and-community-pep-rally/
LOCATION:Antler Stadium\, 1310 Sidney Baker St\, Kerrville\, 78028\, United States
CATEGORIES:Sports
ATTACH;FMTTYPE=image/png:https://kerrcalendar.com/wp-content/uploads/2025/07/Tivy-Logo-yellow.png
END:VEVENT
BEGIN:VEVENT
DTSTART;TZID=America/Chicago:20250814T193000
DTEND;TZID=America/Chicago:20250814T203000
DTSTAMP:20260420T092625
CREATED:20250725T123253Z
LAST-MODIFIED:20250725T123253Z
UID:10001444-1755199800-1755203400@kerrcalendar.com
SUMMARY:ITM Meet the Warrior
DESCRIPTION:Community introduction and pep rally featuring the fall sports at Ingram Tom Moore High School. Held at the Warrior Football Stadium.
URL:https://kerrcalendar.com/event/itm-meet-the-warrior/
LOCATION:Ingram Warrior Football Stadium\, Warrior Stadium\, Ingram\, 78025\, United States
CATEGORIES:Sports
ATTACH;FMTTYPE=image/png:https://kerrcalendar.com/wp-content/uploads/2025/07/Ingram-TM-Logo-New-2024-scaled.png
END:VEVENT
BEGIN:VEVENT
DTSTART;TZID=America/Chicago:20250820T130000
DTEND;TZID=America/Chicago:20250820T160000
DTSTAMP:20260420T092625
CREATED:20250725T121505Z
LAST-MODIFIED:20250725T124315Z
UID:10001294-1755694800-1755705600@kerrcalendar.com
SUMMARY:Schreiner University Women's Soccer-Houston-Victoria
DESCRIPTION:Schreiner University Women’s Soccer hosts Houston-Victoria at home at the “new field.”
URL:https://kerrcalendar.com/event/schreiner-university-womens-soccer-houston-victoria-2/
CATEGORIES:Sports
ATTACH;FMTTYPE=image/png:https://kerrcalendar.com/wp-content/uploads/2025/07/schreiner.png
END:VEVENT
BEGIN:VEVENT
DTSTART;TZID=America/Chicago:20250820T180000
DTEND;TZID=America/Chicago:20250820T210000
DTSTAMP:20260420T092625
CREATED:20250725T121505Z
LAST-MODIFIED:20250725T121505Z
UID:10001295-1755712800-1755723600@kerrcalendar.com
SUMMARY:Schreiner University Mens Soccer-Houston-Victoria
DESCRIPTION:
URL:https://kerrcalendar.com/event/schreiner-university-mens-soccer-houston-victoria-2/
CATEGORIES:Sports
END:VEVENT
BEGIN:VEVENT
DTSTART;TZID=America/Chicago:20250822T130000
DTEND;TZID=America/Chicago:20250822T150000
DTSTAMP:20260420T092625
CREATED:20250725T121505Z
LAST-MODIFIED:20250822T154054Z
UID:10001296-1755867600-1755874800@kerrcalendar.com
SUMMARY:Schreiner University Womens Soccer vs. OLLU
DESCRIPTION:
URL:https://kerrcalendar.com/event/schreiner-university-womens-soccer-ollu-2/
LOCATION:Schreiner University\, 2100 Memorial Blvd\, Kerrville\, TX\, 78028\, United States
CATEGORIES:Sports
ATTACH;FMTTYPE=image/png:https://kerrcalendar.com/wp-content/uploads/2025/07/schreiner.png
END:VEVENT
BEGIN:VEVENT
DTSTART;TZID=America/Chicago:20250822T150000
DTEND;TZID=America/Chicago:20250822T170000
DTSTAMP:20260420T092625
CREATED:20250725T121505Z
LAST-MODIFIED:20250822T154027Z
UID:10001297-1755874800-1755882000@kerrcalendar.com
SUMMARY:Schreiner University Mens Soccer vs. OLLU
DESCRIPTION:
URL:https://kerrcalendar.com/event/schreiner-university-mens-soccer-ollu-2/
LOCATION:Schreiner University\, 2100 Memorial Blvd\, Kerrville\, TX\, 78028\, United States
CATEGORIES:Sports
ATTACH;FMTTYPE=image/png:https://kerrcalendar.com/wp-content/uploads/2025/07/schreiner.png
END:VEVENT
BEGIN:VEVENT
DTSTART;TZID=America/Chicago:20250822T180000
DTEND;TZID=America/Chicago:20250822T210000
DTSTAMP:20260420T092625
CREATED:20250724T120746Z
LAST-MODIFIED:20250724T120746Z
UID:10001235-1755885600-1755896400@kerrcalendar.com
SUMMARY:Tivy Moms 101
DESCRIPTION:Antler players practice the game with their mothers.
URL:https://kerrcalendar.com/event/tivy-moms-101/
CATEGORIES:Sports
ATTACH;FMTTYPE=image/png:https://kerrcalendar.com/wp-content/uploads/2025/07/Tivy-Logo-yellow.png
END:VEVENT
BEGIN:VEVENT
DTSTART;TZID=America/Chicago:20250823T180000
DTEND;TZID=America/Chicago:20250823T210000
DTSTAMP:20260420T092625
CREATED:20250725T121505Z
LAST-MODIFIED:20250822T154153Z
UID:10001299-1755972000-1755982800@kerrcalendar.com
SUMMARY:Schreiner University Volleyball vs. Howard Payne
DESCRIPTION:
URL:https://kerrcalendar.com/event/schreiner-university-su-volleyball-howard-payne-2/
LOCATION:Schreiner Universty Event Center\, Schreiner Athletic and Event Center\, Kerrville\, TX\, 78028\, United States
CATEGORIES:Sports
ATTACH;FMTTYPE=image/png:https://kerrcalendar.com/wp-content/uploads/2025/07/schreiner.png
END:VEVENT
BEGIN:VEVENT
DTSTART;TZID=America/Chicago:20250827T100000
DTEND;TZID=America/Chicago:20250827T110000
DTSTAMP:20260420T092625
CREATED:20250821T142642Z
LAST-MODIFIED:20250821T142642Z
UID:10002127-1756288800-1756292400@kerrcalendar.com
SUMMARY:Scott Schreiner Golf Course Ribbon Cutting
DESCRIPTION:The Kerrville Parks and Recreation Department is excited to invite the community to a ribbon-cutting ceremony to recognize the improvements that have been completed at the Scott Schreiner Golf Course\, 1 Country Club Dr. The ceremony will be held at the course beginning at 10 a.m. on Wednesday\, Aug. 27. These enhancements promise a modern\, scenic\, and community-forward golfing experience while preserving the course’s cherished local charm. \nProject History \nBeginning in December 2024\, the Scott Schreiner Golf Course underwent a sweeping transformation\, including fully rebuilt greens\, revitalized sand bunkers\, improved cart paths and bridges\, building refurbishments\, and more. In addition to facade enhancements at the Pro Shop\, a newly expanded deck has been added\, perfect for post-round relaxation with scenic Hill Country views. \nThis $4 million project is aligned with Kerrville 2050\, the city’s Comprehensive Plan\, and the Parks and Recreation Master Plan. It was funded through a Quality-of-Life Sales Tax Revenue Bond issued by the City of Kerrville Economic Improvement Corporation and approved by the Kerrville City Council. This bond has no impact on property tax. \nCourse Operations \nBefore opening to the public\, the course will host the 79th annual Heart of the Hills Golf Tournament from Aug. 29-31. This tournament has been played at the Scott Schreiner Golf Course since its inception and attracts hundreds of amateur golfers from across the state to our community. \nThe course will open for public play on Sept. 1\, and we welcome guests to book tee-times and enjoy all that the new course has to offer. Tee times will be available starting Monday\, Aug. 25. To view rates and secure your tee time\, visit our website at  https://www.golfkerrvilletex.com/. \nFor additional information\, contact the Scott Schreiner Golf Course at (830) 257-4982\, SSgolf@kerrvilletx.gov\, visit the city’s website at https://www.golfkerrvilletex.com/\, or follow us on Facebook at City of Kerrville Parks and Recreation Department or Instagram at cityofkerrville.
URL:https://kerrcalendar.com/event/scott-schreiner-golf-course-ribbon-cutting/
LOCATION:Scott Schreiner Golf Course\, 1 Country Club Drive\, Kerrville\, 78028\, United States
CATEGORIES:Government and Civic,Outdoors and Nature,Sports
ATTACH;FMTTYPE=image/png:https://kerrcalendar.com/wp-content/uploads/2025/08/golf-ribbon.png
END:VEVENT
BEGIN:VEVENT
DTSTART;TZID=America/Chicago:20250829T190000
DTEND;TZID=America/Chicago:20250829T223000
DTSTAMP:20260420T092625
CREATED:20250719T234636Z
LAST-MODIFIED:20250720T010437Z
UID:10000503-1756494000-1756506600@kerrcalendar.com
SUMMARY:Tivy Football vs. Del Rio
DESCRIPTION:KPSF Night at Antler Stadium in Kerrville\, Texas.
URL:https://kerrcalendar.com/event/tivy-football-vs-del-rio/
CATEGORIES:Sports
ATTACH;FMTTYPE=image/png:https://kerrcalendar.com/wp-content/uploads/2025/07/Tivy-Logo-yellow.png
END:VEVENT
END:VCALENDAR