BEGIN:VCALENDAR
VERSION:2.0
PRODID:-//Kerr Calendar - ECPv6.15.20//NONSGML v1.0//EN
CALSCALE:GREGORIAN
METHOD:PUBLISH
X-ORIGINAL-URL:https://kerrcalendar.com
X-WR-CALDESC:Events for Kerr Calendar
REFRESH-INTERVAL;VALUE=DURATION:PT1H
X-Robots-Tag:noindex
X-PUBLISHED-TTL:PT1H
BEGIN:VTIMEZONE
TZID:America/Chicago
BEGIN:DAYLIGHT
TZOFFSETFROM:-0600
TZOFFSETTO:-0500
TZNAME:CDT
DTSTART:20240310T080000
END:DAYLIGHT
BEGIN:STANDARD
TZOFFSETFROM:-0500
TZOFFSETTO:-0600
TZNAME:CST
DTSTART:20241103T070000
END:STANDARD
BEGIN:DAYLIGHT
TZOFFSETFROM:-0600
TZOFFSETTO:-0500
TZNAME:CDT
DTSTART:20250309T080000
END:DAYLIGHT
BEGIN:STANDARD
TZOFFSETFROM:-0500
TZOFFSETTO:-0600
TZNAME:CST
DTSTART:20251102T070000
END:STANDARD
BEGIN:DAYLIGHT
TZOFFSETFROM:-0600
TZOFFSETTO:-0500
TZNAME:CDT
DTSTART:20260308T080000
END:DAYLIGHT
BEGIN:STANDARD
TZOFFSETFROM:-0500
TZOFFSETTO:-0600
TZNAME:CST
DTSTART:20261101T070000
END:STANDARD
END:VTIMEZONE
BEGIN:VEVENT
DTSTART;TZID=America/Chicago:20251021T180000
DTEND;TZID=America/Chicago:20251021T200000
DTSTAMP:20260420T093422
CREATED:20250725T121602Z
LAST-MODIFIED:20250725T121602Z
UID:10001337-1761069600-1761076800@kerrcalendar.com
SUMMARY:Schreiner University SU Volleyball-Huston Tillotson
DESCRIPTION:
URL:https://kerrcalendar.com/event/schreiner-university-su-volleyball-huston-tillotson-2/
CATEGORIES:Sports
END:VEVENT
BEGIN:VEVENT
DTSTART;TZID=America/Chicago:20251024T170000
DTEND;TZID=America/Chicago:20251024T190000
DTSTAMP:20260420T093422
CREATED:20250725T121602Z
LAST-MODIFIED:20250725T121602Z
UID:10001338-1761325200-1761332400@kerrcalendar.com
SUMMARY:Schreiner University Womens Soccer-U Dallas
DESCRIPTION:
URL:https://kerrcalendar.com/event/schreiner-university-womens-soccer-u-dallas-2/
CATEGORIES:Sports
END:VEVENT
BEGIN:VEVENT
DTSTART;TZID=America/Chicago:20251024T190000
DTEND;TZID=America/Chicago:20251024T210000
DTSTAMP:20260420T093422
CREATED:20250725T121602Z
LAST-MODIFIED:20250725T121602Z
UID:10001339-1761332400-1761339600@kerrcalendar.com
SUMMARY:Schreiner University Mens Soccer-U Dallas
DESCRIPTION:
URL:https://kerrcalendar.com/event/schreiner-university-mens-soccer-u-dallas-2/
CATEGORIES:Sports
END:VEVENT
BEGIN:VEVENT
DTSTART;VALUE=DATE:20251026
DTEND;VALUE=DATE:20251027
DTSTAMP:20260420T093422
CREATED:20250725T121602Z
LAST-MODIFIED:20250725T121602Z
UID:10001341-1761436800-1761523199@kerrcalendar.com
SUMMARY:Schreiner University Womens Soccer-??
DESCRIPTION:
URL:https://kerrcalendar.com/event/schreiner-university-womens-soccer/
CATEGORIES:Sports
END:VEVENT
BEGIN:VEVENT
DTSTART;TZID=America/Chicago:20251026T120000
DTEND;TZID=America/Chicago:20251026T140000
DTSTAMP:20260420T093422
CREATED:20250725T121602Z
LAST-MODIFIED:20250725T121602Z
UID:10001342-1761480000-1761487200@kerrcalendar.com
SUMMARY:Schreiner University Mens Soccer-Colorado
DESCRIPTION:
URL:https://kerrcalendar.com/event/schreiner-university-mens-soccer-colorado-2/
CATEGORIES:Sports
END:VEVENT
BEGIN:VEVENT
DTSTART;TZID=America/Chicago:20251031T180000
DTEND;TZID=America/Chicago:20251031T200000
DTSTAMP:20260420T093422
CREATED:20250725T121603Z
LAST-MODIFIED:20250725T121603Z
UID:10001344-1761933600-1761940800@kerrcalendar.com
SUMMARY:Schreiner University SU Volleyball-St Thomas
DESCRIPTION:
URL:https://kerrcalendar.com/event/schreiner-university-su-volleyball-st-thomas-2/
CATEGORIES:Sports
END:VEVENT
BEGIN:VEVENT
DTSTART;TZID=America/Chicago:20251031T190000
DTEND;TZID=America/Chicago:20251031T223000
DTSTAMP:20260420T093422
CREATED:20250719T234655Z
LAST-MODIFIED:20250722T212210Z
UID:10000515-1761937200-1761949800@kerrcalendar.com
SUMMARY:Tivy Football @ Alamo Heights
DESCRIPTION:Antlers travel to San Antonio for a varsity football game
URL:https://kerrcalendar.com/event/tivy-football-alamo-heights/
CATEGORIES:Sports
ATTACH;FMTTYPE=image/png:https://kerrcalendar.com/wp-content/uploads/2025/07/Tivy-Logo-yellow.png
END:VEVENT
BEGIN:VEVENT
DTSTART;TZID=America/Chicago:20251031T190000
DTEND;TZID=America/Chicago:20251031T223000
DTSTAMP:20260420T093422
CREATED:20250719T234655Z
LAST-MODIFIED:20250722T212017Z
UID:10000516-1761937200-1761949800@kerrcalendar.com
SUMMARY:Ingram Warriors Football vs. Luling
DESCRIPTION:Parents Night in Ingram\, Texas.
URL:https://kerrcalendar.com/event/ingram-warriors-vs-luling/
CATEGORIES:Sports
ATTACH;FMTTYPE=image/png:https://kerrcalendar.com/wp-content/uploads/2025/07/Ingram-TM-Logo-New-2024-scaled.png
END:VEVENT
BEGIN:VEVENT
DTSTART;TZID=America/Chicago:20251101T140000
DTEND;TZID=America/Chicago:20251101T160000
DTSTAMP:20260420T093422
CREATED:20250725T121603Z
LAST-MODIFIED:20250725T121603Z
UID:10001347-1762005600-1762012800@kerrcalendar.com
SUMMARY:Schreiner University SU Volleyball-Colorado College
DESCRIPTION:
URL:https://kerrcalendar.com/event/schreiner-university-su-volleyball-colorado-college-2/
CATEGORIES:Sports
END:VEVENT
BEGIN:VEVENT
DTSTART;TZID=America/Chicago:20251107T190000
DTEND;TZID=America/Chicago:20251107T223000
DTSTAMP:20260420T093422
CREATED:20250719T234655Z
LAST-MODIFIED:20250722T212243Z
UID:10000517-1762542000-1762554600@kerrcalendar.com
SUMMARY:Tivy Football vs. Boerne High
DESCRIPTION:Senior and Spike Night at Antler Stadium.
URL:https://kerrcalendar.com/event/tivy-football-vs-boerne-high/
CATEGORIES:Sports
ATTACH;FMTTYPE=image/png:https://kerrcalendar.com/wp-content/uploads/2025/07/Tivy-Logo-yellow.png
END:VEVENT
BEGIN:VEVENT
DTSTART;TZID=America/Chicago:20251114T113000
DTEND;TZID=America/Chicago:20251114T140000
DTSTAMP:20260420T093422
CREATED:20250724T131537Z
LAST-MODIFIED:20250724T131537Z
UID:10001350-1763119800-1763128800@kerrcalendar.com
SUMMARY:Schreiner University SU Volleyball-Conf Tourney Q-Final #1
DESCRIPTION:
URL:https://kerrcalendar.com/event/schreiner-university-su-volleyball-conf-tourney-q-final-1-2/
CATEGORIES:Sports
END:VEVENT
BEGIN:VEVENT
DTSTART;TZID=America/Chicago:20251114T140000
DTEND;TZID=America/Chicago:20251114T160000
DTSTAMP:20260420T093422
CREATED:20250724T131537Z
LAST-MODIFIED:20250724T131537Z
UID:10001351-1763128800-1763136000@kerrcalendar.com
SUMMARY:Schreiner University SU Volleyball-Conf Tourney Q-Final #2
DESCRIPTION:
URL:https://kerrcalendar.com/event/schreiner-university-su-volleyball-conf-tourney-q-final-2-2/
CATEGORIES:Sports
END:VEVENT
BEGIN:VEVENT
DTSTART;TZID=America/Chicago:20251114T170000
DTEND;TZID=America/Chicago:20251114T190000
DTSTAMP:20260420T093422
CREATED:20250724T131536Z
LAST-MODIFIED:20250724T131536Z
UID:10001352-1763139600-1763146800@kerrcalendar.com
SUMMARY:Schreiner University SU Volleyball-Conf Tourney Semi Final #1
DESCRIPTION:
URL:https://kerrcalendar.com/event/schreiner-university-su-volleyball-conf-tourney-semi-final-1-2/
CATEGORIES:Sports
END:VEVENT
BEGIN:VEVENT
DTSTART;TZID=America/Chicago:20251114T193000
DTEND;TZID=America/Chicago:20251114T210000
DTSTAMP:20260420T093422
CREATED:20250724T131536Z
LAST-MODIFIED:20250724T131536Z
UID:10001353-1763148600-1763154000@kerrcalendar.com
SUMMARY:Schreiner University SU Volleyball-Conf Tourney Semi Final #2
DESCRIPTION:
URL:https://kerrcalendar.com/event/schreiner-university-su-volleyball-conf-tourney-semi-final-2-2/
CATEGORIES:Sports
END:VEVENT
BEGIN:VEVENT
DTSTART;TZID=America/Chicago:20251115T150000
DTEND;TZID=America/Chicago:20251115T170000
DTSTAMP:20260420T093422
CREATED:20250724T131536Z
LAST-MODIFIED:20250724T131536Z
UID:10001354-1763218800-1763226000@kerrcalendar.com
SUMMARY:Schreiner University SU Volleyball-Conf final
DESCRIPTION:
URL:https://kerrcalendar.com/event/schreiner-university-su-volleyball-conf-final-2/
CATEGORIES:Sports
END:VEVENT
END:VCALENDAR