BEGIN:VCALENDAR
VERSION:2.0
PRODID:-//Kerr Calendar - ECPv6.15.20//NONSGML v1.0//EN
CALSCALE:GREGORIAN
METHOD:PUBLISH
X-ORIGINAL-URL:https://kerrcalendar.com
X-WR-CALDESC:Events for Kerr Calendar
REFRESH-INTERVAL;VALUE=DURATION:PT1H
X-Robots-Tag:noindex
X-PUBLISHED-TTL:PT1H
BEGIN:VTIMEZONE
TZID:America/Chicago
BEGIN:DAYLIGHT
TZOFFSETFROM:-0600
TZOFFSETTO:-0500
TZNAME:CDT
DTSTART:20240310T080000
END:DAYLIGHT
BEGIN:STANDARD
TZOFFSETFROM:-0500
TZOFFSETTO:-0600
TZNAME:CST
DTSTART:20241103T070000
END:STANDARD
BEGIN:DAYLIGHT
TZOFFSETFROM:-0600
TZOFFSETTO:-0500
TZNAME:CDT
DTSTART:20250309T080000
END:DAYLIGHT
BEGIN:STANDARD
TZOFFSETFROM:-0500
TZOFFSETTO:-0600
TZNAME:CST
DTSTART:20251102T070000
END:STANDARD
BEGIN:DAYLIGHT
TZOFFSETFROM:-0600
TZOFFSETTO:-0500
TZNAME:CDT
DTSTART:20260308T080000
END:DAYLIGHT
BEGIN:STANDARD
TZOFFSETFROM:-0500
TZOFFSETTO:-0600
TZNAME:CST
DTSTART:20261101T070000
END:STANDARD
END:VTIMEZONE
BEGIN:VEVENT
DTSTART;TZID=America/Chicago:20250905T150000
DTEND;TZID=America/Chicago:20250905T180000
DTSTAMP:20260420T150808
CREATED:20250725T121505Z
LAST-MODIFIED:20250725T121505Z
UID:10001303-1757084400-1757095200@kerrcalendar.com
SUMMARY:Schreiner University Womens Soccer-NAU
DESCRIPTION:
URL:https://kerrcalendar.com/event/schreiner-university-womens-soccer-nau-2/
CATEGORIES:Sports
END:VEVENT
BEGIN:VEVENT
DTSTART;TZID=America/Chicago:20250905T190000
DTEND;TZID=America/Chicago:20250905T223000
DTSTAMP:20260420T150808
CREATED:20250719T234636Z
LAST-MODIFIED:20250904T201132Z
UID:10000504-1757098800-1757111400@kerrcalendar.com
SUMMARY:Tivy Football @ Comal Davenport
DESCRIPTION:Antlers travel to Comal Davenport for a non-district game. Watch online at: https://antlersports.tv/
URL:https://kerrcalendar.com/event/tivy-football-comal-davenport/
CATEGORIES:Sports
ATTACH;FMTTYPE=image/png:https://kerrcalendar.com/wp-content/uploads/2025/07/Tivy-Logo-yellow.png
END:VEVENT
BEGIN:VEVENT
DTSTART;TZID=America/Chicago:20250908T113000
DTEND;TZID=America/Chicago:20250908T170000
DTSTAMP:20260420T150808
CREATED:20250908T153048Z
LAST-MODIFIED:20250908T153048Z
UID:10002151-1757331000-1757350800@kerrcalendar.com
SUMMARY:"A Round to Remember" Golf Tour
DESCRIPTION:This four-person scramble supports Dieter Center’s Dementia Care Advocates programs. There are multiple long drive prizes and a putting contest. \nFor More Information\nCall\n830-792-4044\nVisit Their Website\nhttp://www.dietertcenter.org\nE-Mail\npaigesumner@dietertcenter.org
URL:https://kerrcalendar.com/event/a-round-to-remember-golf-tour/
LOCATION:Riverhill Country Club\, 100 Riverhill Club Lane\, Kerrville\, Texas\, 78028\, United States
CATEGORIES:Nonprofits and Fundraisers,Sports
ATTACH;FMTTYPE=image/jpeg:https://kerrcalendar.com/wp-content/uploads/2025/09/qtq80-TIHGFx.jpeg
END:VEVENT
BEGIN:VEVENT
DTSTART;TZID=America/Chicago:20250908T120000
DTEND;TZID=America/Chicago:20250908T150000
DTSTAMP:20260420T150808
CREATED:20250725T121506Z
LAST-MODIFIED:20250908T152425Z
UID:10001305-1757332800-1757343600@kerrcalendar.com
SUMMARY:Schreiner University Mens Soccer vs. Marymount
DESCRIPTION:
URL:https://kerrcalendar.com/event/schreiner-university-mens-soccer-marymount-2/
CATEGORIES:Sports
ATTACH;FMTTYPE=image/png:https://kerrcalendar.com/wp-content/uploads/2025/07/schreiner.png
END:VEVENT
BEGIN:VEVENT
DTSTART;TZID=America/Chicago:20250912T190000
DTEND;TZID=America/Chicago:20250912T223000
DTSTAMP:20260420T150808
CREATED:20250719T234636Z
LAST-MODIFIED:20250720T123748Z
UID:10000505-1757703600-1757716200@kerrcalendar.com
SUMMARY:Tivy Football vs. Fredericksburg
DESCRIPTION:Band Night at Antler Stadium in Kerrville\, Texas.
URL:https://kerrcalendar.com/event/tivy-football-vs-fredericksburg/
CATEGORIES:Sports
ATTACH;FMTTYPE=image/png:https://kerrcalendar.com/wp-content/uploads/2025/07/Tivy-Logo-yellow.png
END:VEVENT
BEGIN:VEVENT
DTSTART;TZID=America/Chicago:20250912T190000
DTEND;TZID=America/Chicago:20250912T223000
DTSTAMP:20260420T150808
CREATED:20250719T234636Z
LAST-MODIFIED:20250722T211834Z
UID:10000506-1757703600-1757716200@kerrcalendar.com
SUMMARY:Ingram Warriors Football vs. Comfort
DESCRIPTION:ITM varsity football hosts Comfort in Ingram\, Texas.
URL:https://kerrcalendar.com/event/ingram-warriors-vs-comfort/
CATEGORIES:Sports
ATTACH;FMTTYPE=image/png:https://kerrcalendar.com/wp-content/uploads/2025/07/Ingram-TM-Logo-New-2024-scaled.png
END:VEVENT
BEGIN:VEVENT
DTSTART;TZID=America/Chicago:20250913T100000
DTEND;TZID=America/Chicago:20250913T170000
DTSTAMP:20260420T150808
CREATED:20250908T152735Z
LAST-MODIFIED:20250908T152753Z
UID:10002149-1757757600-1757782800@kerrcalendar.com
SUMMARY:Basketball Knock-Out Tournament
DESCRIPTION:Grab your friends and join us for the Kerrville Parks and Recreation Department’s Basketball Knock-Out Tournament. The tournament will be hosted at Carver Park. Prizes will be awarded to tournament winners\, to be determined. Groups will be separated by age. \nPre-Registration Deadline: September 11\, 2025 \nOn-Site Registration: Starting at 9:00 a.m. on September 13\, 2025 \nDate: September 13\, 2025 – 10:00 A.M. \nLocation: Carver Park\, 820 Webster Ave \nFee: $15 \nThe Tournament will be broken down into these age groups: \n\n7-9 year olds\n10-12 year olds\n13-15 year olds\n16 & Up
URL:https://kerrcalendar.com/event/basketball-knock-out-tournament/
CATEGORIES:Sports
ATTACH;FMTTYPE=image/png:https://kerrcalendar.com/wp-content/uploads/2025/09/carver.png
END:VEVENT
BEGIN:VEVENT
DTSTART;TZID=America/Chicago:20250913T153000
DTEND;TZID=America/Chicago:20250913T190000
DTSTAMP:20260420T150808
CREATED:20250725T121506Z
LAST-MODIFIED:20250725T121506Z
UID:10001309-1757777400-1757790000@kerrcalendar.com
SUMMARY:Schreiner University Mens Soccer-ETBU
DESCRIPTION:
URL:https://kerrcalendar.com/event/schreiner-university-mens-soccer-etbu-2/
CATEGORIES:Sports
END:VEVENT
BEGIN:VEVENT
DTSTART;TZID=America/Chicago:20250919T190000
DTEND;TZID=America/Chicago:20250919T223000
DTSTAMP:20260420T150808
CREATED:20250719T234637Z
LAST-MODIFIED:20250722T211853Z
UID:10000507-1758308400-1758321000@kerrcalendar.com
SUMMARY:Ingram Warriors Football vs. Blanco
DESCRIPTION:ITM varsity football hosts Blanco in Ingram\, Texas.
URL:https://kerrcalendar.com/event/ingram-warriors-vs-blanco/
CATEGORIES:Sports
ATTACH;FMTTYPE=image/png:https://kerrcalendar.com/wp-content/uploads/2025/07/Ingram-TM-Logo-New-2024-scaled.png
END:VEVENT
BEGIN:VEVENT
DTSTART;TZID=America/Chicago:20250919T190000
DTEND;TZID=America/Chicago:20250919T223000
DTSTAMP:20260420T150808
CREATED:20250719T234640Z
LAST-MODIFIED:20250720T124023Z
UID:10000508-1758308400-1758321000@kerrcalendar.com
SUMMARY:Tivy Football @ Sam Houston SA
DESCRIPTION:Antlers varsity football visits San Antonio
URL:https://kerrcalendar.com/event/tivy-football-sam-houston-sa/
CATEGORIES:Sports
ATTACH;FMTTYPE=image/png:https://kerrcalendar.com/wp-content/uploads/2025/07/Tivy-Logo-yellow.png
END:VEVENT
BEGIN:VEVENT
DTSTART;TZID=America/Chicago:20250920T090000
DTEND;TZID=America/Chicago:20250920T170000
DTSTAMP:20260420T150808
CREATED:20250908T152944Z
LAST-MODIFIED:20250908T152944Z
UID:10002150-1758358800-1758387600@kerrcalendar.com
SUMMARY:Lions Club 33rd Annual Golf Tournament
DESCRIPTION:All proceeds benefit the Texas Lions Camp in Kerrville for special needs children. Breakfast tacos and lunch provided. Prizes for team winners.\nFor More Information\nCall\n512-779.4166\nE-Mail\nroncurry312@gmail.com
URL:https://kerrcalendar.com/event/lions-club-33rd-annual-golf-tournament/
LOCATION:Scott Schreiner Golf Course\, 1 Country Club Drive\, Kerrville\, 78028\, United States
CATEGORIES:Nonprofits and Fundraisers,Sports
ATTACH;FMTTYPE=image/jpeg:https://kerrcalendar.com/wp-content/uploads/2025/09/qtq80-TIHGFx.jpeg
END:VEVENT
BEGIN:VEVENT
DTSTART;TZID=America/Chicago:20250920T140000
DTEND;TZID=America/Chicago:20250920T160000
DTSTAMP:20260420T150808
CREATED:20250725T121540Z
LAST-MODIFIED:20250725T121540Z
UID:10001314-1758376800-1758384000@kerrcalendar.com
SUMMARY:Schreiner University SU Volleyball-McMurry
DESCRIPTION:
URL:https://kerrcalendar.com/event/schreiner-university-su-volleyball-mcmurry-2/
CATEGORIES:Sports
END:VEVENT
BEGIN:VEVENT
DTSTART;VALUE=DATE:20250922
DTEND;VALUE=DATE:20250923
DTSTAMP:20260420T150808
CREATED:20250725T121540Z
LAST-MODIFIED:20250725T121540Z
UID:10001316-1758499200-1758585599@kerrcalendar.com
SUMMARY:Schreiner University Womens Soccer-Dallas Christian
DESCRIPTION:
URL:https://kerrcalendar.com/event/schreiner-university-womens-soccer-dallas-christian/
CATEGORIES:Sports
END:VEVENT
BEGIN:VEVENT
DTSTART;TZID=America/Chicago:20250922T170000
DTEND;TZID=America/Chicago:20250922T210000
DTSTAMP:20260420T150808
CREATED:20250725T121540Z
LAST-MODIFIED:20250725T121540Z
UID:10001317-1758560400-1758574800@kerrcalendar.com
SUMMARY:Schreiner University Mens Soccer-Dallas Christian
DESCRIPTION:
URL:https://kerrcalendar.com/event/schreiner-university-mens-soccer-dallas-christian-2/
CATEGORIES:Sports
END:VEVENT
BEGIN:VEVENT
DTSTART;TZID=America/Chicago:20250924T180000
DTEND;TZID=America/Chicago:20250924T210000
DTSTAMP:20260420T150808
CREATED:20250725T121540Z
LAST-MODIFIED:20250725T121540Z
UID:10001318-1758736800-1758747600@kerrcalendar.com
SUMMARY:Schreiner University SU Volleyball-TLU
DESCRIPTION:
URL:https://kerrcalendar.com/event/schreiner-university-su-volleyball-tlu-2/
CATEGORIES:Sports
END:VEVENT
BEGIN:VEVENT
DTSTART;TZID=America/Chicago:20250926T170000
DTEND;TZID=America/Chicago:20250926T190000
DTSTAMP:20260420T150808
CREATED:20250725T121540Z
LAST-MODIFIED:20250725T121540Z
UID:10001320-1758906000-1758913200@kerrcalendar.com
SUMMARY:Schreiner University Womens Soccer-St Thomas
DESCRIPTION:
URL:https://kerrcalendar.com/event/schreiner-university-womens-soccer-st-thomas-2/
CATEGORIES:Sports
END:VEVENT
BEGIN:VEVENT
DTSTART;TZID=America/Chicago:20250926T180000
DTEND;TZID=America/Chicago:20250926T200000
DTSTAMP:20260420T150808
CREATED:20250725T121540Z
LAST-MODIFIED:20250725T121540Z
UID:10001321-1758909600-1758916800@kerrcalendar.com
SUMMARY:Schreiner University Su Volleyball-Concordia
DESCRIPTION:
URL:https://kerrcalendar.com/event/schreiner-university-su-volleyball-concordia-2/
CATEGORIES:Sports
END:VEVENT
BEGIN:VEVENT
DTSTART;TZID=America/Chicago:20250926T190000
DTEND;TZID=America/Chicago:20250926T210000
DTSTAMP:20260420T150808
CREATED:20250725T121540Z
LAST-MODIFIED:20250725T121540Z
UID:10001322-1758913200-1758920400@kerrcalendar.com
SUMMARY:Schreiner University Mens Soccer-St Thomas
DESCRIPTION:
URL:https://kerrcalendar.com/event/schreiner-university-mens-soccer-st-thomas-2/
CATEGORIES:Sports
END:VEVENT
BEGIN:VEVENT
DTSTART;TZID=America/Chicago:20250926T190000
DTEND;TZID=America/Chicago:20250926T223000
DTSTAMP:20260420T150808
CREATED:20250719T234640Z
LAST-MODIFIED:20250722T211918Z
UID:10000510-1758913200-1758925800@kerrcalendar.com
SUMMARY:Ingram Warriors Football vs. Brady
DESCRIPTION:ITM varsity football hosts Brady in Ingram\, Texas.
URL:https://kerrcalendar.com/event/ingram-warriors-vs-brady/
CATEGORIES:Sports
ATTACH;FMTTYPE=image/png:https://kerrcalendar.com/wp-content/uploads/2025/07/Ingram-TM-Logo-New-2024-scaled.png
END:VEVENT
BEGIN:VEVENT
DTSTART;TZID=America/Chicago:20250926T190000
DTEND;TZID=America/Chicago:20250926T223000
DTSTAMP:20260420T150808
CREATED:20250719T234640Z
LAST-MODIFIED:20250722T211721Z
UID:10000509-1758913200-1758925800@kerrcalendar.com
SUMMARY:Tivy Football @ Harlandale
DESCRIPTION:Antlers visit Harlandale for a varsity matchup.
URL:https://kerrcalendar.com/event/tivy-football-harlandale/
CATEGORIES:Sports
ATTACH;FMTTYPE=image/png:https://kerrcalendar.com/wp-content/uploads/2025/07/Tivy-Logo-yellow.png
END:VEVENT
BEGIN:VEVENT
DTSTART;TZID=America/Chicago:20250928T120000
DTEND;TZID=America/Chicago:20250928T140000
DTSTAMP:20260420T150808
CREATED:20250725T121540Z
LAST-MODIFIED:20250725T121540Z
UID:10001323-1759060800-1759068000@kerrcalendar.com
SUMMARY:Schreiner University Womens Soccer-Centenary
DESCRIPTION:
URL:https://kerrcalendar.com/event/schreiner-university-womens-soccer-centenary-2/
CATEGORIES:Sports
END:VEVENT
BEGIN:VEVENT
DTSTART;TZID=America/Chicago:20250928T140000
DTEND;TZID=America/Chicago:20250928T160000
DTSTAMP:20260420T150808
CREATED:20250725T121540Z
LAST-MODIFIED:20250725T121540Z
UID:10001324-1759068000-1759075200@kerrcalendar.com
SUMMARY:Schreiner University Mens Soccer-Centenary
DESCRIPTION:
URL:https://kerrcalendar.com/event/schreiner-university-mens-soccer-centenary-2/
CATEGORIES:Sports
END:VEVENT
BEGIN:VEVENT
DTSTART;TZID=America/Chicago:20251003T170000
DTEND;TZID=America/Chicago:20251003T190000
DTSTAMP:20260420T150808
CREATED:20250725T121540Z
LAST-MODIFIED:20250725T121540Z
UID:10001327-1759510800-1759518000@kerrcalendar.com
SUMMARY:Schreiner University Womens Soccer-LeTourneau
DESCRIPTION:
URL:https://kerrcalendar.com/event/schreiner-university-womens-soccer-letourneau-2/
CATEGORIES:Sports
END:VEVENT
BEGIN:VEVENT
DTSTART;TZID=America/Chicago:20251003T190000
DTEND;TZID=America/Chicago:20251003T210000
DTSTAMP:20260420T150808
CREATED:20250725T121541Z
LAST-MODIFIED:20250725T121541Z
UID:10001328-1759518000-1759525200@kerrcalendar.com
SUMMARY:Schreiner University Mens Soccer-LeTourneau
DESCRIPTION:
URL:https://kerrcalendar.com/event/schreiner-university-mens-soccer-letourneau-2/
CATEGORIES:Sports
END:VEVENT
BEGIN:VEVENT
DTSTART;TZID=America/Chicago:20251003T190000
DTEND;TZID=America/Chicago:20251003T223000
DTSTAMP:20260420T150808
CREATED:20250719T234640Z
LAST-MODIFIED:20250722T212052Z
UID:10000511-1759518000-1759530600@kerrcalendar.com
SUMMARY:Tivy Football vs. Victoria West
DESCRIPTION:Homecoming at Antler Stadium in Kerrville\, Texas
URL:https://kerrcalendar.com/event/tivy-football-vs-victoria-west/
CATEGORIES:Sports
ATTACH;FMTTYPE=image/png:https://kerrcalendar.com/wp-content/uploads/2025/07/Tivy-Logo-yellow.png
END:VEVENT
BEGIN:VEVENT
DTSTART;TZID=America/Chicago:20251005T120000
DTEND;TZID=America/Chicago:20251005T140000
DTSTAMP:20260420T150808
CREATED:20250725T121541Z
LAST-MODIFIED:20250725T121541Z
UID:10001330-1759665600-1759672800@kerrcalendar.com
SUMMARY:Schreiner University Womens Soccer-Austin College
DESCRIPTION:
URL:https://kerrcalendar.com/event/schreiner-university-womens-soccer-austin-college-2/
CATEGORIES:Sports
END:VEVENT
BEGIN:VEVENT
DTSTART;TZID=America/Chicago:20251005T140000
DTEND;TZID=America/Chicago:20251005T160000
DTSTAMP:20260420T150808
CREATED:20250725T121541Z
LAST-MODIFIED:20250725T121541Z
UID:10001331-1759672800-1759680000@kerrcalendar.com
SUMMARY:Schreiner University Mens Soccer-Austin College
DESCRIPTION:
URL:https://kerrcalendar.com/event/schreiner-university-mens-soccer-austin-college-2/
CATEGORIES:Sports
END:VEVENT
BEGIN:VEVENT
DTSTART;TZID=America/Chicago:20251009T190000
DTEND;TZID=America/Chicago:20251009T223000
DTSTAMP:20260420T150808
CREATED:20250719T234640Z
LAST-MODIFIED:20250722T212113Z
UID:10000512-1760036400-1760049000@kerrcalendar.com
SUMMARY:Tivy Football @ SA Veterans Memorial
DESCRIPTION:Antlers travel to San Antonio for a varsity football game
URL:https://kerrcalendar.com/event/tivy-football-sa-veterans-memorial/
CATEGORIES:Sports
ATTACH;FMTTYPE=image/png:https://kerrcalendar.com/wp-content/uploads/2025/07/Tivy-Logo-yellow.png
END:VEVENT
BEGIN:VEVENT
DTSTART;TZID=America/Chicago:20251010T190000
DTEND;TZID=America/Chicago:20251010T223000
DTSTAMP:20260420T150808
CREATED:20250719T234655Z
LAST-MODIFIED:20250722T211950Z
UID:10000513-1760122800-1760135400@kerrcalendar.com
SUMMARY:Ingram Warriors Football vs. Florence
DESCRIPTION:Homecoming in Ingram\, Texas.
URL:https://kerrcalendar.com/event/ingram-warriors-vs-florence/
CATEGORIES:Sports
ATTACH;FMTTYPE=image/png:https://kerrcalendar.com/wp-content/uploads/2025/07/Ingram-TM-Logo-New-2024-scaled.png
END:VEVENT
BEGIN:VEVENT
DTSTART;TZID=America/Chicago:20251016T173000
DTEND;TZID=America/Chicago:20251016T203000
DTSTAMP:20260420T150808
CREATED:20250720T124735Z
LAST-MODIFIED:20250720T124735Z
UID:10000520-1760635800-1760646600@kerrcalendar.com
SUMMARY:Tivy Athletic Hall of Fame Banquet
DESCRIPTION:Tivy Booster Club will present Hall of Fame awards at a banquet. Winners and details TBD.
URL:https://kerrcalendar.com/event/tivy-athletic-hall-of-fame-banquet/
LOCATION:Hill Country Youth Event Center\, 3785 TX-27\, Kerrville\, TX\, 78028\, United States
CATEGORIES:Education and Schools,Sports
ATTACH;FMTTYPE=image/png:https://kerrcalendar.com/wp-content/uploads/2025/07/Tivy-Logo-yellow.png
END:VEVENT
END:VCALENDAR