BEGIN:VCALENDAR
VERSION:2.0
PRODID:-//Kerr Calendar - ECPv6.15.20//NONSGML v1.0//EN
CALSCALE:GREGORIAN
METHOD:PUBLISH
X-WR-CALNAME:Kerr Calendar
X-ORIGINAL-URL:https://kerrcalendar.com
X-WR-CALDESC:Events for Kerr Calendar
REFRESH-INTERVAL;VALUE=DURATION:PT1H
X-Robots-Tag:noindex
X-PUBLISHED-TTL:PT1H
BEGIN:VTIMEZONE
TZID:America/Chicago
BEGIN:DAYLIGHT
TZOFFSETFROM:-0600
TZOFFSETTO:-0500
TZNAME:CDT
DTSTART:20240310T080000
END:DAYLIGHT
BEGIN:STANDARD
TZOFFSETFROM:-0500
TZOFFSETTO:-0600
TZNAME:CST
DTSTART:20241103T070000
END:STANDARD
BEGIN:DAYLIGHT
TZOFFSETFROM:-0600
TZOFFSETTO:-0500
TZNAME:CDT
DTSTART:20250309T080000
END:DAYLIGHT
BEGIN:STANDARD
TZOFFSETFROM:-0500
TZOFFSETTO:-0600
TZNAME:CST
DTSTART:20251102T070000
END:STANDARD
BEGIN:DAYLIGHT
TZOFFSETFROM:-0600
TZOFFSETTO:-0500
TZNAME:CDT
DTSTART:20260308T080000
END:DAYLIGHT
BEGIN:STANDARD
TZOFFSETFROM:-0500
TZOFFSETTO:-0600
TZNAME:CST
DTSTART:20261101T070000
END:STANDARD
END:VTIMEZONE
BEGIN:VEVENT
DTSTART;TZID=America/Chicago:20250919T190000
DTEND;TZID=America/Chicago:20250919T223000
DTSTAMP:20260420T165805
CREATED:20250719T234637Z
LAST-MODIFIED:20250722T211853Z
UID:10000507-1758308400-1758321000@kerrcalendar.com
SUMMARY:Ingram Warriors Football vs. Blanco
DESCRIPTION:ITM varsity football hosts Blanco in Ingram\, Texas.
URL:https://kerrcalendar.com/event/ingram-warriors-vs-blanco/
CATEGORIES:Sports
ATTACH;FMTTYPE=image/png:https://kerrcalendar.com/wp-content/uploads/2025/07/Ingram-TM-Logo-New-2024-scaled.png
END:VEVENT
BEGIN:VEVENT
DTSTART;TZID=America/Chicago:20250919T190000
DTEND;TZID=America/Chicago:20250919T223000
DTSTAMP:20260420T165805
CREATED:20250719T234640Z
LAST-MODIFIED:20250720T124023Z
UID:10000508-1758308400-1758321000@kerrcalendar.com
SUMMARY:Tivy Football @ Sam Houston SA
DESCRIPTION:Antlers varsity football visits San Antonio
URL:https://kerrcalendar.com/event/tivy-football-sam-houston-sa/
CATEGORIES:Sports
ATTACH;FMTTYPE=image/png:https://kerrcalendar.com/wp-content/uploads/2025/07/Tivy-Logo-yellow.png
END:VEVENT
BEGIN:VEVENT
DTSTART;TZID=America/Chicago:20250920T090000
DTEND;TZID=America/Chicago:20250920T170000
DTSTAMP:20260420T165805
CREATED:20250908T152944Z
LAST-MODIFIED:20250908T152944Z
UID:10002150-1758358800-1758387600@kerrcalendar.com
SUMMARY:Lions Club 33rd Annual Golf Tournament
DESCRIPTION:All proceeds benefit the Texas Lions Camp in Kerrville for special needs children. Breakfast tacos and lunch provided. Prizes for team winners.\nFor More Information\nCall\n512-779.4166\nE-Mail\nroncurry312@gmail.com
URL:https://kerrcalendar.com/event/lions-club-33rd-annual-golf-tournament/
LOCATION:Scott Schreiner Golf Course\, 1 Country Club Drive\, Kerrville\, 78028\, United States
CATEGORIES:Nonprofits and Fundraisers,Sports
ATTACH;FMTTYPE=image/jpeg:https://kerrcalendar.com/wp-content/uploads/2025/09/qtq80-TIHGFx.jpeg
END:VEVENT
BEGIN:VEVENT
DTSTART;TZID=America/Chicago:20250920T140000
DTEND;TZID=America/Chicago:20250920T160000
DTSTAMP:20260420T165805
CREATED:20250725T121540Z
LAST-MODIFIED:20250725T121540Z
UID:10001314-1758376800-1758384000@kerrcalendar.com
SUMMARY:Schreiner University SU Volleyball-McMurry
DESCRIPTION:
URL:https://kerrcalendar.com/event/schreiner-university-su-volleyball-mcmurry-2/
CATEGORIES:Sports
END:VEVENT
END:VCALENDAR