BEGIN:VCALENDAR
VERSION:2.0
PRODID:-//Kerr Calendar - ECPv6.15.20//NONSGML v1.0//EN
CALSCALE:GREGORIAN
METHOD:PUBLISH
X-WR-CALNAME:Kerr Calendar
X-ORIGINAL-URL:https://kerrcalendar.com
X-WR-CALDESC:Events for Kerr Calendar
REFRESH-INTERVAL;VALUE=DURATION:PT1H
X-Robots-Tag:noindex
X-PUBLISHED-TTL:PT1H
BEGIN:VTIMEZONE
TZID:America/Chicago
BEGIN:DAYLIGHT
TZOFFSETFROM:-0600
TZOFFSETTO:-0500
TZNAME:CDT
DTSTART:20240310T080000
END:DAYLIGHT
BEGIN:STANDARD
TZOFFSETFROM:-0500
TZOFFSETTO:-0600
TZNAME:CST
DTSTART:20241103T070000
END:STANDARD
BEGIN:DAYLIGHT
TZOFFSETFROM:-0600
TZOFFSETTO:-0500
TZNAME:CDT
DTSTART:20250309T080000
END:DAYLIGHT
BEGIN:STANDARD
TZOFFSETFROM:-0500
TZOFFSETTO:-0600
TZNAME:CST
DTSTART:20251102T070000
END:STANDARD
BEGIN:DAYLIGHT
TZOFFSETFROM:-0600
TZOFFSETTO:-0500
TZNAME:CDT
DTSTART:20260308T080000
END:DAYLIGHT
BEGIN:STANDARD
TZOFFSETFROM:-0500
TZOFFSETTO:-0600
TZNAME:CST
DTSTART:20261101T070000
END:STANDARD
END:VTIMEZONE
BEGIN:VEVENT
DTSTART;TZID=America/Chicago:20250822T180000
DTEND;TZID=America/Chicago:20250822T210000
DTSTAMP:20260421T051455
CREATED:20250724T120746Z
LAST-MODIFIED:20250724T120746Z
UID:10001235-1755885600-1755896400@kerrcalendar.com
SUMMARY:Tivy Moms 101
DESCRIPTION:Antler players practice the game with their mothers.
URL:https://kerrcalendar.com/event/tivy-moms-101/
CATEGORIES:Sports
ATTACH;FMTTYPE=image/png:https://kerrcalendar.com/wp-content/uploads/2025/07/Tivy-Logo-yellow.png
END:VEVENT
BEGIN:VEVENT
DTSTART;TZID=America/Chicago:20250822T190000
DTEND;TZID=America/Chicago:20250822T210000
DTSTAMP:20260421T051455
CREATED:20250728T135637Z
LAST-MODIFIED:20250728T135812Z
UID:10001461-1755889200-1755896400@kerrcalendar.com
SUMMARY:Live Music on the Deck - Arcadia Live
DESCRIPTION:ON DECK LIVE MUSIC is back!Join us on our Happy State Bank Deck this July25th-September 5th and enjoy happy hour prices on beer\, wine\, and margaritas.\nEvery Friday from 7-9pm.Doors at 6:30pm\, Live Music starts at 7pm\nThis FREE community series is generously sponsored by JAM Broadcasting.\nOur Line up:July 25th- Boone HoldingAugust 1st- Carlos & DanAugust 8th- Aaron LaCombeAugust 15th- Bill MahkovtzAugust 22nd- Grant Wesley TrioAugust 29th- Mike KasbergSeptember 5th- Three of a Kind\nFeel free to bring the kids\, dinner\, pets\, and guests!\n\nFor more info\, email boxoffice@thearcadialive.org or call (830)-315-5483.
URL:https://kerrcalendar.com/event/live-music-on-the-deck-arcadia-live/2025-08-22/
LOCATION:Arcadia Live\, 717 Water Street\, Kerrville\, TX\, 78028\, United States
CATEGORIES:Arts and Entertainment
ATTACH;FMTTYPE=image/jpeg:https://kerrcalendar.com/wp-content/uploads/2025/07/music-deck-arcadia.jpg
END:VEVENT
BEGIN:VEVENT
DTSTART;TZID=America/Chicago:20250822T193000
DTEND;TZID=America/Chicago:20250822T223000
DTSTAMP:20260421T051455
CREATED:20250822T155013Z
LAST-MODIFIED:20250822T155013Z
UID:10002133-1755891000-1755901800@kerrcalendar.com
SUMMARY:Shipwrecked! @ HCAF
DESCRIPTION:Shipwrecked! An Entertainment—The Amazing Adventures of Louis de Rougemont (as Told by Himself) Theadventurous Louis de Rougemont invites you to hear his amazing story of bravery\, survival and celebrity that left nineteenth-century England spellbound. Dare to be whisked away in a story of the high seas\, populated by exotic islanders\, flying wombats\, giant sea turtles and a monstrous man-eating octopus. SHIPWRECKED examines how far we’re willing to blur the line between fact and fiction in order to leave our mark on the world.
URL:https://kerrcalendar.com/event/shipwrecked-hcaf/2025-08-22/
LOCATION:Hill Country Arts Foundation\, 120 Point Theater Rd\, Ingram\, 78025\, United States
CATEGORIES:Arts and Entertainment
ATTACH;FMTTYPE=image/jpeg:https://kerrcalendar.com/wp-content/uploads/2025/08/qtq80-wmObWm.jpeg
END:VEVENT
END:VCALENDAR