BEGIN:VCALENDAR
VERSION:2.0
PRODID:-//Kerr Calendar - ECPv6.15.20//NONSGML v1.0//EN
CALSCALE:GREGORIAN
METHOD:PUBLISH
X-WR-CALNAME:Kerr Calendar
X-ORIGINAL-URL:https://kerrcalendar.com
X-WR-CALDESC:Events for Kerr Calendar
REFRESH-INTERVAL;VALUE=DURATION:PT1H
X-Robots-Tag:noindex
X-PUBLISHED-TTL:PT1H
BEGIN:VTIMEZONE
TZID:America/Chicago
BEGIN:DAYLIGHT
TZOFFSETFROM:-0600
TZOFFSETTO:-0500
TZNAME:CDT
DTSTART:20240310T080000
END:DAYLIGHT
BEGIN:STANDARD
TZOFFSETFROM:-0500
TZOFFSETTO:-0600
TZNAME:CST
DTSTART:20241103T070000
END:STANDARD
BEGIN:DAYLIGHT
TZOFFSETFROM:-0600
TZOFFSETTO:-0500
TZNAME:CDT
DTSTART:20250309T080000
END:DAYLIGHT
BEGIN:STANDARD
TZOFFSETFROM:-0500
TZOFFSETTO:-0600
TZNAME:CST
DTSTART:20251102T070000
END:STANDARD
BEGIN:DAYLIGHT
TZOFFSETFROM:-0600
TZOFFSETTO:-0500
TZNAME:CDT
DTSTART:20260308T080000
END:DAYLIGHT
BEGIN:STANDARD
TZOFFSETFROM:-0500
TZOFFSETTO:-0600
TZNAME:CST
DTSTART:20261101T070000
END:STANDARD
END:VTIMEZONE
BEGIN:VEVENT
DTSTART;TZID=America/Chicago:20250801T193000
DTEND;TZID=America/Chicago:20250801T220000
DTSTAMP:20260420T221946
CREATED:20250721T160651Z
LAST-MODIFIED:20250721T160651Z
UID:10001052-1754076600-1754085600@kerrcalendar.com
SUMMARY:Lend Me a Tenor @ Playhouse 2000
DESCRIPTION:From the pen of Ken Ludwig\, the master of modern Farce and author of both Leading Ladies and Moon Over Buffalo comes Lend Me A Tenor\, another in his list of hits\, with award-winning productions in both New York and London. \nThrough an amazing series of mistakes and accidents\, hapless “wanna-be” Opera singer “Max” finds himself having to take the stage in place of the world-famous Tenor “Tito Merelli\,” whom Max and his boss\, Impresario “Saunders\,” have mistakenly thought was dead! \nWhen Merelli – who is far from deceased – recovers his senses and gets himself into his costume and makeup for the famous role of Pagliacci\, perfectly matching Max’s\, the confusion is just beginning. Add in an angry Italian wife\, an amorous leading lady\, and a domineering society doyenne\, and you’ve set the stage for a night of hilarity.
URL:https://kerrcalendar.com/event/lend-me-a-tenor-playhouse-2000/2025-08-01/
LOCATION:Cailloux Theater\, 910 Main Street\, Kerrville\, TX\, 78028\, United States
CATEGORIES:Arts and Entertainment
ATTACH;FMTTYPE=image/jpeg:https://kerrcalendar.com/wp-content/uploads/2025/07/tenor.jpg
END:VEVENT
BEGIN:VEVENT
DTSTART;TZID=America/Chicago:20250802T090000
DTEND;TZID=America/Chicago:20250802T130000
DTSTAMP:20260420T221946
CREATED:20250721T120128Z
LAST-MODIFIED:20250728T163814Z
UID:10000786-1754125200-1754139600@kerrcalendar.com
SUMMARY:Heart of the Hills Farmers Market
DESCRIPTION:Supporting local producers\, fostering community\, promoting sustainability in our growing practices.
URL:https://kerrcalendar.com/event/heart-of-the-hills-farmers-market/2025-08-02/
LOCATION:Dallas Daughtry Boardwalk Pavilion\, 805 Water St\, Kerrville\, TX\, 78028\, United States
CATEGORIES:Nonprofits and Fundraisers
ATTACH;FMTTYPE=image/jpeg:https://kerrcalendar.com/wp-content/uploads/2025/07/qtq80-taw4Rz.jpeg
END:VEVENT
BEGIN:VEVENT
DTSTART;TZID=America/Chicago:20250802T190000
DTEND;TZID=America/Chicago:20250802T210000
DTSTAMP:20260420T221946
CREATED:20250723T123337Z
LAST-MODIFIED:20250723T123337Z
UID:10001178-1754161200-1754168400@kerrcalendar.com
SUMMARY:Red McAdam
DESCRIPTION:Although he was born in the industrial heart of New Jersey\, Red’s mother Maggie made damn sure that he would be reared on folk and country music. She served up a steady diet of American songwriters from Karen Dalton to Shania Twain to Dwight Yoakam on the kitchen radio day after day. Red’s father\, a lifelong bass player\, took it from there\, teaching him mandolin\, banjo\, bass\, and guitar. Forever restless\, Red ventured through dozens of genres before returning to his Country roots. He ventured out West on the heels of heartbreak and made a home in the high desert of Northern Arizona where he now lives.\nSuggested Cover – $5\nFood Truck – Shim’s Be Blessed 12-9pm
URL:https://kerrcalendar.com/event/red-mcadam/
LOCATION:Trailhead Beer Garden @ Schreiner University\, 2100 Memorial Blvd #11\, Kerrville\, 78028\, United States
CATEGORIES:Arts and Entertainment
ATTACH;FMTTYPE=image/jpeg:https://kerrcalendar.com/wp-content/uploads/2025/07/trailhead.jpg
END:VEVENT
BEGIN:VEVENT
DTSTART;TZID=America/Chicago:20250802T193000
DTEND;TZID=America/Chicago:20250802T220000
DTSTAMP:20260420T221946
CREATED:20250721T160651Z
LAST-MODIFIED:20250721T160651Z
UID:10001053-1754163000-1754172000@kerrcalendar.com
SUMMARY:Lend Me a Tenor @ Playhouse 2000
DESCRIPTION:From the pen of Ken Ludwig\, the master of modern Farce and author of both Leading Ladies and Moon Over Buffalo comes Lend Me A Tenor\, another in his list of hits\, with award-winning productions in both New York and London. \nThrough an amazing series of mistakes and accidents\, hapless “wanna-be” Opera singer “Max” finds himself having to take the stage in place of the world-famous Tenor “Tito Merelli\,” whom Max and his boss\, Impresario “Saunders\,” have mistakenly thought was dead! \nWhen Merelli – who is far from deceased – recovers his senses and gets himself into his costume and makeup for the famous role of Pagliacci\, perfectly matching Max’s\, the confusion is just beginning. Add in an angry Italian wife\, an amorous leading lady\, and a domineering society doyenne\, and you’ve set the stage for a night of hilarity.
URL:https://kerrcalendar.com/event/lend-me-a-tenor-playhouse-2000/2025-08-02/
LOCATION:Cailloux Theater\, 910 Main Street\, Kerrville\, TX\, 78028\, United States
CATEGORIES:Arts and Entertainment
ATTACH;FMTTYPE=image/jpeg:https://kerrcalendar.com/wp-content/uploads/2025/07/tenor.jpg
END:VEVENT
BEGIN:VEVENT
DTSTART;TZID=America/Chicago:20250803T150000
DTEND;TZID=America/Chicago:20250803T170000
DTSTAMP:20260420T221946
CREATED:20250730T132942Z
LAST-MODIFIED:20250730T132942Z
UID:10001728-1754233200-1754240400@kerrcalendar.com
SUMMARY:Memorial Concert @ First Presbyterian Church
DESCRIPTION:Join us for a special concert next Sunday at 3:00 p.m. in partnership with thee Fredericksburg Community Orchestras.\nThis will be a time for remembering\, hoping\, and gathering as a beloved community.\nFree entrance. All donations will go towards flood-relief efforts in the Hill Country.
URL:https://kerrcalendar.com/event/memorial-concert-first-presbyterian-church/
LOCATION:First Presbyterian Church\, 800 Jefferson St\, Kerrville\, 78028\, United States
CATEGORIES:Arts and Entertainment
ATTACH;FMTTYPE=image/jpeg:https://kerrcalendar.com/wp-content/uploads/2025/07/fpc-concert.jpg
END:VEVENT
BEGIN:VEVENT
DTSTART;TZID=America/Chicago:20250803T193000
DTEND;TZID=America/Chicago:20250803T220000
DTSTAMP:20260420T221946
CREATED:20250721T160651Z
LAST-MODIFIED:20250721T160651Z
UID:10001054-1754249400-1754258400@kerrcalendar.com
SUMMARY:Lend Me a Tenor @ Playhouse 2000
DESCRIPTION:From the pen of Ken Ludwig\, the master of modern Farce and author of both Leading Ladies and Moon Over Buffalo comes Lend Me A Tenor\, another in his list of hits\, with award-winning productions in both New York and London. \nThrough an amazing series of mistakes and accidents\, hapless “wanna-be” Opera singer “Max” finds himself having to take the stage in place of the world-famous Tenor “Tito Merelli\,” whom Max and his boss\, Impresario “Saunders\,” have mistakenly thought was dead! \nWhen Merelli – who is far from deceased – recovers his senses and gets himself into his costume and makeup for the famous role of Pagliacci\, perfectly matching Max’s\, the confusion is just beginning. Add in an angry Italian wife\, an amorous leading lady\, and a domineering society doyenne\, and you’ve set the stage for a night of hilarity.
URL:https://kerrcalendar.com/event/lend-me-a-tenor-playhouse-2000/2025-08-03/
LOCATION:Cailloux Theater\, 910 Main Street\, Kerrville\, TX\, 78028\, United States
CATEGORIES:Arts and Entertainment
ATTACH;FMTTYPE=image/jpeg:https://kerrcalendar.com/wp-content/uploads/2025/07/tenor.jpg
END:VEVENT
BEGIN:VEVENT
DTSTART;VALUE=DATE:20250804
DTEND;VALUE=DATE:20250805
DTSTAMP:20260420T221946
CREATED:20250727T204203Z
LAST-MODIFIED:20250727T204203Z
UID:10001449-1754265600-1754351999@kerrcalendar.com
SUMMARY:Schreiner University's Adult COED 3v3 Beach Volleyball Tournament
DESCRIPTION:Join us for our COED 3v3 Volleyball tournaments at Schreiner University. Teams must always have one male and one female on the court. Maximum roster of 4 people. This tournament will be run by our Campus Recreation department. Prizes will be awarded to 1st place. \nAges: 15+\nGame Times: 6:00pm – 9:00pm\nCost: $28 per player\n($25 + $3 Fee)
URL:https://kerrcalendar.com/event/schreiner-universitys-adult-coed-3v3-beach-volleyball-tournament/
LOCATION:Schreiner University\, 2100 Memorial Blvd\, Kerrville\, TX\, 78028\, United States
CATEGORIES:Sports
ATTACH;FMTTYPE=image/jpeg:https://kerrcalendar.com/wp-content/uploads/2025/07/qtq80-NhFXrT.jpeg
END:VEVENT
BEGIN:VEVENT
DTSTART;TZID=America/Chicago:20250804T140000
DTEND;TZID=America/Chicago:20250804T160000
DTSTAMP:20260420T221946
CREATED:20250724T123445Z
LAST-MODIFIED:20250724T123445Z
UID:10001055-1754316000-1754323200@kerrcalendar.com
SUMMARY:Zunker Family Memorial Service
DESCRIPTION:Let’s remember Reece\, Paula\, Lyle & Holland Zunker: \nCELEBRATION OF LIFE\nAugust 4\, 2025\, at 2PM\nSchreiner University Event Center\n2100 Memorial Blvd.\nKerrville\, TX 78028 \nZunker Family Foundation: https://nbcommunityfoundation.org/community-betterment/#zunker \nhttps://grimesfuneralchapels.com/memorialpage.asp?id=26820 \nhttps://grimesfuneralchapels.com/memorialpage.asp?id=26820 \nhttps://grimesfuneralchapels.com/memorialpage.asp?id=26834 \nhttps://grimesfuneralchapels.com/memorialpage.asp?id=26833
URL:https://kerrcalendar.com/event/zunker-family-memorial-service/
LOCATION:Schreiner Universty Event Center\, Schreiner Athletic and Event Center\, Kerrville\, TX\, 78028\, United States
CATEGORIES:Faith and Spiritual
ATTACH;FMTTYPE=image/jpeg:https://kerrcalendar.com/wp-content/uploads/2025/07/qtq80-e1eAOO.jpeg
END:VEVENT
BEGIN:VEVENT
DTSTART;TZID=America/Chicago:20250805T160000
DTEND;TZID=America/Chicago:20250805T180000
DTSTAMP:20260420T221946
CREATED:20250803T191727Z
LAST-MODIFIED:20250803T191727Z
UID:10001737-1754409600-1754416800@kerrcalendar.com
SUMMARY:Future of Our River: A Community Conversation
DESCRIPTION:Explore our shared vision for the Guadalupe. Share stories\, learn about riparian stewardship practices\, and discuss the long-term strategy for restorartion of the River. \nMultiple dates and locations.
URL:https://kerrcalendar.com/event/future-of-our-river-a-community-conversation/
LOCATION:Central Provisions\, 223 RM 480\, Center Point\, 78025\, United States
CATEGORIES:Outdoors and Nature
ATTACH;FMTTYPE=image/jpeg:https://kerrcalendar.com/wp-content/uploads/2025/08/IMG_0229.jpg
END:VEVENT
BEGIN:VEVENT
DTSTART;TZID=America/Chicago:20250805T173000
DTEND;TZID=America/Chicago:20250805T190000
DTSTAMP:20260420T221946
CREATED:20250722T124814Z
LAST-MODIFIED:20250725T124011Z
UID:10001147-1754415000-1754420400@kerrcalendar.com
SUMMARY:KISD 6th Grade Spike Night
DESCRIPTION:6th Spike Night for all incoming 6th graders will be at Hal Peterson Middle School from 5:30 – 7 p.m. Students and parents can come pick up schedules\, meet teachers and walk the campus. For questions\, contact HPMS at 830-257-2204.
URL:https://kerrcalendar.com/event/kisd-6th-grade-spike-night/
LOCATION:Kerrville ISD\, 1009 Barnett St\, Kerrville\, TX\, 78028\, United States
CATEGORIES:Education and Schools
ATTACH;FMTTYPE=image/png:https://kerrcalendar.com/wp-content/uploads/2025/07/PetersonLogo_v2.png
END:VEVENT
END:VCALENDAR