BEGIN:VCALENDAR
VERSION:2.0
PRODID:-//Kerr Calendar - ECPv6.15.20//NONSGML v1.0//EN
CALSCALE:GREGORIAN
METHOD:PUBLISH
X-WR-CALNAME:Kerr Calendar
X-ORIGINAL-URL:https://kerrcalendar.com
X-WR-CALDESC:Events for Kerr Calendar
REFRESH-INTERVAL;VALUE=DURATION:PT1H
X-Robots-Tag:noindex
X-PUBLISHED-TTL:PT1H
BEGIN:VTIMEZONE
TZID:America/Chicago
BEGIN:DAYLIGHT
TZOFFSETFROM:-0600
TZOFFSETTO:-0500
TZNAME:CDT
DTSTART:20240310T080000
END:DAYLIGHT
BEGIN:STANDARD
TZOFFSETFROM:-0500
TZOFFSETTO:-0600
TZNAME:CST
DTSTART:20241103T070000
END:STANDARD
BEGIN:DAYLIGHT
TZOFFSETFROM:-0600
TZOFFSETTO:-0500
TZNAME:CDT
DTSTART:20250309T080000
END:DAYLIGHT
BEGIN:STANDARD
TZOFFSETFROM:-0500
TZOFFSETTO:-0600
TZNAME:CST
DTSTART:20251102T070000
END:STANDARD
BEGIN:DAYLIGHT
TZOFFSETFROM:-0600
TZOFFSETTO:-0500
TZNAME:CDT
DTSTART:20260308T080000
END:DAYLIGHT
BEGIN:STANDARD
TZOFFSETFROM:-0500
TZOFFSETTO:-0600
TZNAME:CST
DTSTART:20261101T070000
END:STANDARD
END:VTIMEZONE
BEGIN:VEVENT
DTSTART;TZID=America/Chicago:20250719T110000
DTEND;TZID=America/Chicago:20250719T160000
DTSTAMP:20260420T025022
CREATED:20250719T150931Z
LAST-MODIFIED:20250719T150931Z
UID:10000002-1752922800-1752940800@kerrcalendar.com
SUMMARY:Kid Fest
DESCRIPTION:DOORS (for ages 18 months- 5): 11am – 1pm\nDOORS (for ages 6 and up) 2pm – 4pm\nDue to the recent flooding events around Kerr County and the Texas Hill Country\, Kids Fest tickets are now complementary. RESERVATIONS REQUESTED. See ticket link for details.\nKids 2 and under get in FREE\nAdults and children both need a reservation.\nEach reservation includes face painting and a pizza lunch.\nKick off summer with the whole family at Arcadia\, with bounce houses\, live spins from DJ Michael with MBM Entertainment\, a pizza lunch provided with every ticket\, bubbles\, activities and games\, face painting\, and more!\nGenerously sponsored by BounceWorks See less
URL:https://kerrcalendar.com/event/kid-fest/
LOCATION:Arcadia Live\, 717 Water Street\, Kerrville\, TX\, 78028\, United States
CATEGORIES:Arts and Entertainment
ATTACH;FMTTYPE=image/jpeg:https://kerrcalendar.com/wp-content/uploads/2025/07/arcadia-porch-scaled.jpg
END:VEVENT
BEGIN:VEVENT
DTSTART;VALUE=DATE:20250630
DTEND;VALUE=DATE:20250706
DTSTAMP:20260420T025022
CREATED:20250722T124813Z
LAST-MODIFIED:20250722T124813Z
UID:10001145-1751241600-1751759999@kerrcalendar.com
SUMMARY:KISD District Closed
DESCRIPTION:Kerrville ISD Central Office will be closed the week of June 30 – July 4. We will return to summer hours on Monday\, July 7\, 7:30 a.m. – 5 p.m. 
URL:https://kerrcalendar.com/event/kisd-district-closed/
LOCATION:Kerrville ISD\, 1009 Barnett St\, Kerrville\, TX\, 78028\, United States
CATEGORIES:Education and Schools
END:VEVENT
BEGIN:VEVENT
DTSTART;TZID=America/Chicago:20250604T160000
DTEND;TZID=America/Chicago:20250604T170000
DTSTAMP:20260420T025022
CREATED:20250722T124813Z
LAST-MODIFIED:20250722T124813Z
UID:10001144-1749052800-1749056400@kerrcalendar.com
SUMMARY:KISD District Safety and Security Committee Meeting
DESCRIPTION:The KISD Safety and Security Committee will meet at the Central Office Board Room\, located at 1009 Barnett Street. \nAgendas will be posted on the door of the Central Office Administration Building prior to the meeting.  \nFor questions\, call Central Office at 830-257-2200. 
URL:https://kerrcalendar.com/event/kisd-district-safety-and-security-committee-meeting/
LOCATION:Kerrville ISD\, 1009 Barnett St\, Kerrville\, TX\, 78028\, United States
CATEGORIES:Education and Schools
END:VEVENT
END:VCALENDAR