BEGIN:VCALENDAR
VERSION:2.0
PRODID:-//Kerr Calendar - ECPv6.15.20//NONSGML v1.0//EN
CALSCALE:GREGORIAN
METHOD:PUBLISH
X-ORIGINAL-URL:https://kerrcalendar.com
X-WR-CALDESC:Events for Kerr Calendar
REFRESH-INTERVAL;VALUE=DURATION:PT1H
X-Robots-Tag:noindex
X-PUBLISHED-TTL:PT1H
BEGIN:VTIMEZONE
TZID:America/Chicago
BEGIN:DAYLIGHT
TZOFFSETFROM:-0600
TZOFFSETTO:-0500
TZNAME:CDT
DTSTART:20240310T080000
END:DAYLIGHT
BEGIN:STANDARD
TZOFFSETFROM:-0500
TZOFFSETTO:-0600
TZNAME:CST
DTSTART:20241103T070000
END:STANDARD
BEGIN:DAYLIGHT
TZOFFSETFROM:-0600
TZOFFSETTO:-0500
TZNAME:CDT
DTSTART:20250309T080000
END:DAYLIGHT
BEGIN:STANDARD
TZOFFSETFROM:-0500
TZOFFSETTO:-0600
TZNAME:CST
DTSTART:20251102T070000
END:STANDARD
BEGIN:DAYLIGHT
TZOFFSETFROM:-0600
TZOFFSETTO:-0500
TZNAME:CDT
DTSTART:20260308T080000
END:DAYLIGHT
BEGIN:STANDARD
TZOFFSETFROM:-0500
TZOFFSETTO:-0600
TZNAME:CST
DTSTART:20261101T070000
END:STANDARD
END:VTIMEZONE
BEGIN:VEVENT
DTSTART;TZID=America/Chicago:20251105T110000
DTEND;TZID=America/Chicago:20251105T140000
DTSTAMP:20260419T200141
CREATED:20250720T131228Z
LAST-MODIFIED:20250720T131228Z
UID:10000536-1762340400-1762351200@kerrcalendar.com
SUMMARY:Friends of the Library Book Sale
DESCRIPTION:Book sale with used books at $1-$3 with some exceptions. Also for sale: CDs\, DVDs\, children’s books\, and collectibles.
URL:https://kerrcalendar.com/event/friends-of-the-library-book-sale/2025-11-05/
LOCATION:Butt-Holdsworth Memorial Library\, 505 Water St\, Kerrville\, TX\, 78028\, United States
CATEGORIES:Arts and Entertainment,Government and Civic
ATTACH;FMTTYPE=image/jpeg:https://kerrcalendar.com/wp-content/uploads/2025/07/qtq80-aByGrC.jpeg
END:VEVENT
BEGIN:VEVENT
DTSTART;TZID=America/Chicago:20251106T100000
DTEND;TZID=America/Chicago:20251106T140000
DTSTAMP:20260419T200141
CREATED:20250730T132415Z
LAST-MODIFIED:20250730T132415Z
UID:10001481-1762423200-1762437600@kerrcalendar.com
SUMMARY:Schreiner Mansion Tours
DESCRIPTION:The Schreiner Mansion\, built in 1879 and listed on the National Register of Historic Places\, is a historic site in downtown Kerrville. \nNOTE – The Mansion will be Closed Thursday\, July 10th \nTours will be offered on Thursdays from 10am – 2 pm\, beginning on the half-hour; the last tour begins at 1:30 pm.  \nAdmission Fees: \nAdult: $10.00 \nStudents: $5.00 \nMilitary with ID: $5.00 \nGroup Tours (10 or more): $8.00 with reservations
URL:https://kerrcalendar.com/event/schreiner-mansion-tours/2025-11-06/
LOCATION:Schreiner Mansion\, 226 Earl Garrett\, Kerrville\, 78028\, United States
CATEGORIES:Classes and Workshops
ATTACH;FMTTYPE=image/jpeg:https://kerrcalendar.com/wp-content/uploads/2025/07/schreiner-mansion.jpg
END:VEVENT
BEGIN:VEVENT
DTSTART;TZID=America/Chicago:20251106T160000
DTEND;TZID=America/Chicago:20251106T180000
DTSTAMP:20260419T200141
CREATED:20250719T232330Z
LAST-MODIFIED:20250719T232330Z
UID:10000264-1762444800-1762452000@kerrcalendar.com
SUMMARY:City of Kerrville Planning & Zoning Commission Meeting
DESCRIPTION:P&Z meets the first Thursday each month in Council Chambers at City Hall. The meetings are open to the public. Their duties include: \n\nShall formulate and recommend to the city council for adoption a Comprehensive Plan for the orderly growth and development of the city and its environs. On a yearly basis the commission shall review and if necessary recommend such changes in the plan as it finds will facilitate the movement of people and goods\, and the health\, recreation\, safety and general welfare of the citizens of the city.\nShall formulate a zoning plan (ordinance) as may be deemed best to carry out the goals of the Comprehensive Plan; hold public hearings and make recommendations to the city council relating to the creation\, amendment\, and implementation of zoning regulations and districts as provided in state law.\nShall exercise all powers of a commission as to approval or disapproval of plans\, plats\, or replats as set out by state law and the city’s subdivision regulations.\nShall initiate for consideration at public hearings\, proposals for the original zoning of annexed areas or for the change of zoning district boundaries on an area wide basis.\nShall consider and take appropriate action\, upon written request\, variances as prescribed to the city’s subdivision and sign regulations.\nShall from time to time recommend such changes to the subdivision regulations\, sign regulations\, and any other ordinance the city council assigns to their review that will facilitate the general health\, safety and welfare of the citizens of the city.
URL:https://kerrcalendar.com/event/city-of-kerrville-planning-zoning-commission-meeting/2025-11-06/
LOCATION:City Hall\, 701 Main Street\, Kerrville\, TX\, 78028\, United States
CATEGORIES:Government and Civic
ATTACH;FMTTYPE=image/jpeg:https://kerrcalendar.com/wp-content/uploads/2025/07/cityhall-scaled.jpg
END:VEVENT
BEGIN:VEVENT
DTSTART;TZID=America/Chicago:20251106T190000
DTEND;TZID=America/Chicago:20251106T213000
DTSTAMP:20260419T200141
CREATED:20250719T224744Z
LAST-MODIFIED:20250719T225656Z
UID:10000015-1762455600-1762464600@kerrcalendar.com
SUMMARY:Not Your Granny's Bingo
DESCRIPTION:Open for Arcadia Live members 11.1.25 at 11am CST nnnnOpen to public 11.3.25 at 11am CST nnnnnnnnDoors and bar — 6:00 PM nnnnBingo — 7:00 PM nnnnnnnnRemember\, this is NOT your granny’s bingo! A live DJ will be playing your favorite hits all night long on stage and air horns will be placed on each table so you can call BINGO! Expect a compulsory 10 second dance on stage as penalty for any “premature honking.” nnnnnnnnFREE entry—bingo cards to cover all 10 games & dobbers both available for sale at the theatre prior to the event nnnn$10 for book of bingo cards (covers all 10 games) nnnn$2 for dobbers (but feel free bring your own!) nnnnMake sure to bring dollar bills! Extra cards will be available for sale for $1 in between rounds to increase your odds! nnnnnnnnSeveral winning prizes\, including local gift cards\, tickets to an Arcadia event\, and one cash prize! nnnnIn case of a tie\, we will settle the tie in the most civilized manner we know of…Rock\, Paper\, Scissors
URL:https://kerrcalendar.com/event/not-your-grannys-bingo-5/
LOCATION:Arcadia Live\, 717 Water Street\, Kerrville\, TX\, 78028\, United States
CATEGORIES:Arts and Entertainment
END:VEVENT
BEGIN:VEVENT
DTSTART;TZID=America/Chicago:20251107T170000
DTEND;TZID=America/Chicago:20251107T200000
DTSTAMP:20260419T200141
CREATED:20250908T153822Z
LAST-MODIFIED:20250908T153822Z
UID:10002162-1762534800-1762545600@kerrcalendar.com
SUMMARY:After Hours at Turtle Creek Vineyard
DESCRIPTION:Kick off the weekend with us at Turtle Creek for After Hours at the Vineyard. Enjoy a glass of one of our award winning wines and the sounds of local musicians while surrounded by our vineyards and waterfront views of the creek.
URL:https://kerrcalendar.com/event/after-hours-at-turtle-creek-vineyard/2025-11-07/
LOCATION:Turtle Creek Vineyard\, 183 Fall Creek Road\, Kerrville\, 78028\, United States
CATEGORIES:Arts and Entertainment
ATTACH;FMTTYPE=image/png:https://kerrcalendar.com/wp-content/uploads/2025/09/After_Hours_plain1.png
END:VEVENT
BEGIN:VEVENT
DTSTART;TZID=America/Chicago:20251107T190000
DTEND;TZID=America/Chicago:20251107T210000
DTSTAMP:20260419T200141
CREATED:20250724T131537Z
LAST-MODIFIED:20250724T131537Z
UID:10001348-1762542000-1762549200@kerrcalendar.com
SUMMARY:Schreiner University Karaoke & Line Dancing
DESCRIPTION:
URL:https://kerrcalendar.com/event/schreiner-university-karaoke-line-dancing-3/
LOCATION:Trailhead Beer Garden @ Schreiner University\, 2100 Memorial Blvd #11\, Kerrville\, 78028\, United States
CATEGORIES:Arts and Entertainment
END:VEVENT
BEGIN:VEVENT
DTSTART;TZID=America/Chicago:20251107T190000
DTEND;TZID=America/Chicago:20251107T223000
DTSTAMP:20260419T200141
CREATED:20250719T234655Z
LAST-MODIFIED:20250722T212243Z
UID:10000517-1762542000-1762554600@kerrcalendar.com
SUMMARY:Tivy Football vs. Boerne High
DESCRIPTION:Senior and Spike Night at Antler Stadium.
URL:https://kerrcalendar.com/event/tivy-football-vs-boerne-high/
CATEGORIES:Sports
ATTACH;FMTTYPE=image/png:https://kerrcalendar.com/wp-content/uploads/2025/07/Tivy-Logo-yellow.png
END:VEVENT
BEGIN:VEVENT
DTSTART;TZID=America/Chicago:20251108T090000
DTEND;TZID=America/Chicago:20251108T130000
DTSTAMP:20260419T200141
CREATED:20250721T120128Z
LAST-MODIFIED:20250728T163814Z
UID:10000800-1762592400-1762606800@kerrcalendar.com
SUMMARY:Heart of the Hills Farmers Market
DESCRIPTION:Supporting local producers\, fostering community\, promoting sustainability in our growing practices.
URL:https://kerrcalendar.com/event/heart-of-the-hills-farmers-market/2025-11-08/
LOCATION:Dallas Daughtry Boardwalk Pavilion\, 805 Water St\, Kerrville\, TX\, 78028\, United States
CATEGORIES:Nonprofits and Fundraisers
ATTACH;FMTTYPE=image/jpeg:https://kerrcalendar.com/wp-content/uploads/2025/07/qtq80-taw4Rz.jpeg
END:VEVENT
BEGIN:VEVENT
DTSTART;TZID=America/Chicago:20251110T090000
DTEND;TZID=America/Chicago:20251110T120000
DTSTAMP:20260419T200141
CREATED:20250719T233007Z
LAST-MODIFIED:20250719T233007Z
UID:10000444-1762765200-1762776000@kerrcalendar.com
SUMMARY:Kerr County Commissioners Court Meeting
DESCRIPTION:The Kerr County Commissioners’ Court\, which is composed of the county judge and four commissioners\, is the overall managing/governing body of Kerr County. The judge serves as the presiding officer of the court as well as the spokesperson and ceremonial head of the county government. \nCommissioners’ court is responsible for budgetary\, tax and revenue decisions. It also appoints and monitors the actions of all county department heads other than the county auditor and those offices headed by elected officials. \nCourt meets the 2nd and 4th Mondays of each month at 9 a.m. at the Kerr County Courthouse. Meetings are open to the public\, and sometimes seating is limited.
URL:https://kerrcalendar.com/event/kerr-county-commissioners-court-meeting-2/2025-11-10/
LOCATION:Kerr County Courthouse\, 700 Main St\, Kerrville\, TX\, 78028\, United States
CATEGORIES:Government and Civic
ATTACH;FMTTYPE=image/jpeg:https://kerrcalendar.com/wp-content/uploads/2025/07/courthouse-scaled.jpg
END:VEVENT
BEGIN:VEVENT
DTSTART;TZID=America/Chicago:20251111T180000
DTEND;TZID=America/Chicago:20251111T200000
DTSTAMP:20260419T200141
CREATED:20250719T230608Z
LAST-MODIFIED:20250719T230608Z
UID:10000202-1762884000-1762891200@kerrcalendar.com
SUMMARY:Kerrville City Council Meeting
DESCRIPTION:The Mayor and Councilmembers function as the policy-making body of the city\, determining the overall goals\, objectives and direction for city services and adopting the annual operating budgets for all City Departments. They meet regularly on the second and fourth Tuesday of each month at 6:00 PM (often preceded by a workshop at 4 PM on same date) in Council Chambers at City Hall. Meetings are open to the public. Agendas can be found at the link below.
URL:https://kerrcalendar.com/event/kerrville-city-council-meeting-2/2025-11-11/
LOCATION:City Hall\, 701 Main Street\, Kerrville\, TX\, 78028\, United States
CATEGORIES:Government and Civic
ATTACH;FMTTYPE=image/jpeg:https://kerrcalendar.com/wp-content/uploads/2025/07/cityhall-scaled.jpg
END:VEVENT
BEGIN:VEVENT
DTSTART;TZID=America/Chicago:20251112T110000
DTEND;TZID=America/Chicago:20251112T140000
DTSTAMP:20260419T200141
CREATED:20250720T131228Z
LAST-MODIFIED:20250720T131228Z
UID:10000537-1762945200-1762956000@kerrcalendar.com
SUMMARY:Friends of the Library Book Sale
DESCRIPTION:Book sale with used books at $1-$3 with some exceptions. Also for sale: CDs\, DVDs\, children’s books\, and collectibles.
URL:https://kerrcalendar.com/event/friends-of-the-library-book-sale/2025-11-12/
LOCATION:Butt-Holdsworth Memorial Library\, 505 Water St\, Kerrville\, TX\, 78028\, United States
CATEGORIES:Arts and Entertainment,Government and Civic
ATTACH;FMTTYPE=image/jpeg:https://kerrcalendar.com/wp-content/uploads/2025/07/qtq80-aByGrC.jpeg
END:VEVENT
BEGIN:VEVENT
DTSTART;TZID=America/Chicago:20251113T100000
DTEND;TZID=America/Chicago:20251113T140000
DTSTAMP:20260419T200141
CREATED:20250730T132415Z
LAST-MODIFIED:20250730T132415Z
UID:10001482-1763028000-1763042400@kerrcalendar.com
SUMMARY:Schreiner Mansion Tours
DESCRIPTION:The Schreiner Mansion\, built in 1879 and listed on the National Register of Historic Places\, is a historic site in downtown Kerrville. \nNOTE – The Mansion will be Closed Thursday\, July 10th \nTours will be offered on Thursdays from 10am – 2 pm\, beginning on the half-hour; the last tour begins at 1:30 pm.  \nAdmission Fees: \nAdult: $10.00 \nStudents: $5.00 \nMilitary with ID: $5.00 \nGroup Tours (10 or more): $8.00 with reservations
URL:https://kerrcalendar.com/event/schreiner-mansion-tours/2025-11-13/
LOCATION:Schreiner Mansion\, 226 Earl Garrett\, Kerrville\, 78028\, United States
CATEGORIES:Classes and Workshops
ATTACH;FMTTYPE=image/jpeg:https://kerrcalendar.com/wp-content/uploads/2025/07/schreiner-mansion.jpg
END:VEVENT
BEGIN:VEVENT
DTSTART;TZID=America/Chicago:20251113T110000
DTEND;TZID=America/Chicago:20251113T130000
DTSTAMP:20260419T200141
CREATED:20250724T131537Z
LAST-MODIFIED:20250724T131537Z
UID:10001349-1763031600-1763038800@kerrcalendar.com
SUMMARY:Schreiner University Schreiner Alliance
DESCRIPTION:
URL:https://kerrcalendar.com/event/schreiner-university-schreiner-alliance-2/
LOCATION:Schreiner University\, 2100 Memorial Blvd\, Kerrville\, TX\, 78028\, United States
CATEGORIES:Education and Schools
END:VEVENT
BEGIN:VEVENT
DTSTART;TZID=America/Chicago:20251113T190000
DTEND;TZID=America/Chicago:20251113T213000
DTSTAMP:20260419T200141
CREATED:20250719T224744Z
LAST-MODIFIED:20250719T225655Z
UID:10000016-1763060400-1763069400@kerrcalendar.com
SUMMARY:The Notebook
DESCRIPTION:Graciously sponsored by Art2Heartnnnn nnnnTickets on sale 10.13.25 at 11am CST
URL:https://kerrcalendar.com/event/the-notebook/
LOCATION:Arcadia Live\, 717 Water Street\, Kerrville\, TX\, 78028\, United States
CATEGORIES:Arts and Entertainment
END:VEVENT
BEGIN:VEVENT
DTSTART;TZID=America/Chicago:20251114T113000
DTEND;TZID=America/Chicago:20251114T140000
DTSTAMP:20260419T200141
CREATED:20250724T131537Z
LAST-MODIFIED:20250724T131537Z
UID:10001350-1763119800-1763128800@kerrcalendar.com
SUMMARY:Schreiner University SU Volleyball-Conf Tourney Q-Final #1
DESCRIPTION:
URL:https://kerrcalendar.com/event/schreiner-university-su-volleyball-conf-tourney-q-final-1-2/
CATEGORIES:Sports
END:VEVENT
BEGIN:VEVENT
DTSTART;TZID=America/Chicago:20251114T140000
DTEND;TZID=America/Chicago:20251114T160000
DTSTAMP:20260419T200141
CREATED:20250724T131537Z
LAST-MODIFIED:20250724T131537Z
UID:10001351-1763128800-1763136000@kerrcalendar.com
SUMMARY:Schreiner University SU Volleyball-Conf Tourney Q-Final #2
DESCRIPTION:
URL:https://kerrcalendar.com/event/schreiner-university-su-volleyball-conf-tourney-q-final-2-2/
CATEGORIES:Sports
END:VEVENT
BEGIN:VEVENT
DTSTART;TZID=America/Chicago:20251114T170000
DTEND;TZID=America/Chicago:20251114T190000
DTSTAMP:20260419T200141
CREATED:20250724T131536Z
LAST-MODIFIED:20250724T131536Z
UID:10001352-1763139600-1763146800@kerrcalendar.com
SUMMARY:Schreiner University SU Volleyball-Conf Tourney Semi Final #1
DESCRIPTION:
URL:https://kerrcalendar.com/event/schreiner-university-su-volleyball-conf-tourney-semi-final-1-2/
CATEGORIES:Sports
END:VEVENT
BEGIN:VEVENT
DTSTART;TZID=America/Chicago:20251114T170000
DTEND;TZID=America/Chicago:20251114T200000
DTSTAMP:20260419T200141
CREATED:20250908T153822Z
LAST-MODIFIED:20250908T153822Z
UID:10002163-1763139600-1763150400@kerrcalendar.com
SUMMARY:After Hours at Turtle Creek Vineyard
DESCRIPTION:Kick off the weekend with us at Turtle Creek for After Hours at the Vineyard. Enjoy a glass of one of our award winning wines and the sounds of local musicians while surrounded by our vineyards and waterfront views of the creek.
URL:https://kerrcalendar.com/event/after-hours-at-turtle-creek-vineyard/2025-11-14/
LOCATION:Turtle Creek Vineyard\, 183 Fall Creek Road\, Kerrville\, 78028\, United States
CATEGORIES:Arts and Entertainment
ATTACH;FMTTYPE=image/png:https://kerrcalendar.com/wp-content/uploads/2025/09/After_Hours_plain1.png
END:VEVENT
BEGIN:VEVENT
DTSTART;TZID=America/Chicago:20251114T180000
DTEND;TZID=America/Chicago:20251114T200000
DTSTAMP:20260419T200141
CREATED:20250724T131536Z
LAST-MODIFIED:20250724T131536Z
UID:10001355-1763143200-1763150400@kerrcalendar.com
SUMMARY:Schreiner University Star Party
DESCRIPTION:
URL:https://kerrcalendar.com/event/schreiner-university-star-party-5/
LOCATION:Schreiner University\, 2100 Memorial Blvd\, Kerrville\, TX\, 78028\, United States
CATEGORIES:Education and Schools
END:VEVENT
BEGIN:VEVENT
DTSTART;TZID=America/Chicago:20251114T190000
DTEND;TZID=America/Chicago:20251114T210000
DTSTAMP:20260419T200141
CREATED:20250724T131536Z
LAST-MODIFIED:20250724T131536Z
UID:10001356-1763146800-1763154000@kerrcalendar.com
SUMMARY:Schreiner University Trivia Night
DESCRIPTION:
URL:https://kerrcalendar.com/event/schreiner-university-trivia-night-2/
LOCATION:Trailhead Beer Garden @ Schreiner University\, 2100 Memorial Blvd #11\, Kerrville\, 78028\, United States
CATEGORIES:Arts and Entertainment
END:VEVENT
BEGIN:VEVENT
DTSTART;TZID=America/Chicago:20251114T193000
DTEND;TZID=America/Chicago:20251114T210000
DTSTAMP:20260419T200141
CREATED:20250724T131536Z
LAST-MODIFIED:20250724T131536Z
UID:10001353-1763148600-1763154000@kerrcalendar.com
SUMMARY:Schreiner University SU Volleyball-Conf Tourney Semi Final #2
DESCRIPTION:
URL:https://kerrcalendar.com/event/schreiner-university-su-volleyball-conf-tourney-semi-final-2-2/
CATEGORIES:Sports
END:VEVENT
BEGIN:VEVENT
DTSTART;TZID=America/Chicago:20251115T090000
DTEND;TZID=America/Chicago:20251115T130000
DTSTAMP:20260419T200141
CREATED:20250721T120128Z
LAST-MODIFIED:20250728T163814Z
UID:10000801-1763197200-1763211600@kerrcalendar.com
SUMMARY:Heart of the Hills Farmers Market
DESCRIPTION:Supporting local producers\, fostering community\, promoting sustainability in our growing practices.
URL:https://kerrcalendar.com/event/heart-of-the-hills-farmers-market/2025-11-15/
LOCATION:Dallas Daughtry Boardwalk Pavilion\, 805 Water St\, Kerrville\, TX\, 78028\, United States
CATEGORIES:Nonprofits and Fundraisers
ATTACH;FMTTYPE=image/jpeg:https://kerrcalendar.com/wp-content/uploads/2025/07/qtq80-taw4Rz.jpeg
END:VEVENT
BEGIN:VEVENT
DTSTART;TZID=America/Chicago:20251115T100000
DTEND;TZID=America/Chicago:20251115T140000
DTSTAMP:20260419T200141
CREATED:20250722T203453Z
LAST-MODIFIED:20250722T203453Z
UID:10001166-1763200800-1763215200@kerrcalendar.com
SUMMARY:Kerrville Cruise-In Car Show
DESCRIPTION:Stay-tuned for more details on the way! Hosted by the Kerrville Parks and Recreation Department.
URL:https://kerrcalendar.com/event/kerrville-cruise-in-car-show/
LOCATION:Kerrville Sports Complex\, 111 Home Run Drive\, Kerrville\, 78028\, United States
CATEGORIES:Arts and Entertainment
ATTACH;FMTTYPE=image/jpeg:https://kerrcalendar.com/wp-content/uploads/2025/07/car-show.jpg
END:VEVENT
BEGIN:VEVENT
DTSTART;TZID=America/Chicago:20251115T150000
DTEND;TZID=America/Chicago:20251115T170000
DTSTAMP:20260419T200141
CREATED:20250724T131536Z
LAST-MODIFIED:20250724T131536Z
UID:10001354-1763218800-1763226000@kerrcalendar.com
SUMMARY:Schreiner University SU Volleyball-Conf final
DESCRIPTION:
URL:https://kerrcalendar.com/event/schreiner-university-su-volleyball-conf-final-2/
CATEGORIES:Sports
END:VEVENT
BEGIN:VEVENT
DTSTART;VALUE=DATE:20251117
DTEND;VALUE=DATE:20251118
DTSTAMP:20260419T200141
CREATED:20250719T231445Z
LAST-MODIFIED:20250719T231445Z
UID:10000259-1763337600-1763423999@kerrcalendar.com
SUMMARY:Free Entrance to Kerrville-Schreiner Park for National Hiking Day
DESCRIPTION:Happy National Hiking Day!\nCome celebrate with us at Kerrville-Schriener Park where you can experience up to 14 miles of hiking trails for all skill levels!
URL:https://kerrcalendar.com/event/free-entrance-to-kerrville-schreiner-park-for-national-hiking-day/
LOCATION:Kerrville-Schreiner Park\, 2385 Bandera Hwy\, Kerrville\, TX\, 78028\, United States
CATEGORIES:Outdoors and Nature
ATTACH;FMTTYPE=image/jpeg:https://kerrcalendar.com/wp-content/uploads/2025/07/hiking-ksp.jpg
END:VEVENT
BEGIN:VEVENT
DTSTART;TZID=America/Chicago:20251117T160000
DTEND;TZID=America/Chicago:20251117T180000
DTSTAMP:20260419T200141
CREATED:20250719T230105Z
LAST-MODIFIED:20250719T230105Z
UID:10000022-1763395200-1763402400@kerrcalendar.com
SUMMARY:Economic Improvement Corporation Meeting
DESCRIPTION:The City of Kerrville’s EIC meets on the third Monday of each month at City Hall’s Council Chambers in downtown Kerrville\, Texas. The meetings are open to the public. Agendas can be found at the event link below.
URL:https://kerrcalendar.com/event/economic-improvement-corporation-meeting/2025-11-17/
LOCATION:City Hall\, 701 Main Street\, Kerrville\, TX\, 78028\, United States
CATEGORIES:Government and Civic
ATTACH;FMTTYPE=image/jpeg:https://kerrcalendar.com/wp-content/uploads/2025/07/cityhall-scaled.jpg
END:VEVENT
BEGIN:VEVENT
DTSTART;TZID=America/Chicago:20251117T180000
DTEND;TZID=America/Chicago:20251117T200000
DTSTAMP:20260419T200141
CREATED:20250721T181152Z
LAST-MODIFIED:20250721T181241Z
UID:10001059-1763402400-1763409600@kerrcalendar.com
SUMMARY:KISD Board of Trustees Meeting
DESCRIPTION:Kerrville Independent School District board meetings are typically held the third Monday of every month at 6:00 p.m. at the Joseph A. Tivy Building and meetings always begin with praise and recognition of students and staff.
URL:https://kerrcalendar.com/event/kisd-board-of-trustees-meeting-2/2025-11-17/
LOCATION:Kerrville ISD\, 1009 Barnett St\, Kerrville\, TX\, 78028\, United States
CATEGORIES:Education and Schools
ATTACH;FMTTYPE=image/png:https://kerrcalendar.com/wp-content/uploads/2025/07/KISDLogoFINAL.png
END:VEVENT
BEGIN:VEVENT
DTSTART;TZID=America/Chicago:20251119T110000
DTEND;TZID=America/Chicago:20251119T140000
DTSTAMP:20260419T200141
CREATED:20250720T131228Z
LAST-MODIFIED:20250720T131228Z
UID:10000538-1763550000-1763560800@kerrcalendar.com
SUMMARY:Friends of the Library Book Sale
DESCRIPTION:Book sale with used books at $1-$3 with some exceptions. Also for sale: CDs\, DVDs\, children’s books\, and collectibles.
URL:https://kerrcalendar.com/event/friends-of-the-library-book-sale/2025-11-19/
LOCATION:Butt-Holdsworth Memorial Library\, 505 Water St\, Kerrville\, TX\, 78028\, United States
CATEGORIES:Arts and Entertainment,Government and Civic
ATTACH;FMTTYPE=image/jpeg:https://kerrcalendar.com/wp-content/uploads/2025/07/qtq80-aByGrC.jpeg
END:VEVENT
BEGIN:VEVENT
DTSTART;VALUE=DATE:20251120
DTEND;VALUE=DATE:20251123
DTSTAMP:20260419T200141
CREATED:20250724T131536Z
LAST-MODIFIED:20250724T131536Z
UID:10001357-1763596800-1763855999@kerrcalendar.com
SUMMARY:Schreiner University Flag is Up Productions-Blood Wedding by Lorca
DESCRIPTION:
URL:https://kerrcalendar.com/event/schreiner-university-flag-is-up-productions-blood-wedding-by-lorca/
LOCATION:Schreiner University\, 2100 Memorial Blvd\, Kerrville\, TX\, 78028\, United States
CATEGORIES:Arts and Entertainment
END:VEVENT
BEGIN:VEVENT
DTSTART;TZID=America/Chicago:20251120T100000
DTEND;TZID=America/Chicago:20251120T140000
DTSTAMP:20260419T200141
CREATED:20250730T132415Z
LAST-MODIFIED:20250730T132415Z
UID:10001483-1763632800-1763647200@kerrcalendar.com
SUMMARY:Schreiner Mansion Tours
DESCRIPTION:The Schreiner Mansion\, built in 1879 and listed on the National Register of Historic Places\, is a historic site in downtown Kerrville. \nNOTE – The Mansion will be Closed Thursday\, July 10th \nTours will be offered on Thursdays from 10am – 2 pm\, beginning on the half-hour; the last tour begins at 1:30 pm.  \nAdmission Fees: \nAdult: $10.00 \nStudents: $5.00 \nMilitary with ID: $5.00 \nGroup Tours (10 or more): $8.00 with reservations
URL:https://kerrcalendar.com/event/schreiner-mansion-tours/2025-11-20/
LOCATION:Schreiner Mansion\, 226 Earl Garrett\, Kerrville\, 78028\, United States
CATEGORIES:Classes and Workshops
ATTACH;FMTTYPE=image/jpeg:https://kerrcalendar.com/wp-content/uploads/2025/07/schreiner-mansion.jpg
END:VEVENT
END:VCALENDAR