BEGIN:VCALENDAR
VERSION:2.0
PRODID:-//Kerr Calendar - ECPv6.15.20//NONSGML v1.0//EN
CALSCALE:GREGORIAN
METHOD:PUBLISH
X-WR-CALNAME:Kerr Calendar
X-ORIGINAL-URL:https://kerrcalendar.com
X-WR-CALDESC:Events for Kerr Calendar
REFRESH-INTERVAL;VALUE=DURATION:PT1H
X-Robots-Tag:noindex
X-PUBLISHED-TTL:PT1H
BEGIN:VTIMEZONE
TZID:America/Chicago
BEGIN:DAYLIGHT
TZOFFSETFROM:-0600
TZOFFSETTO:-0500
TZNAME:CDT
DTSTART:20240310T080000
END:DAYLIGHT
BEGIN:STANDARD
TZOFFSETFROM:-0500
TZOFFSETTO:-0600
TZNAME:CST
DTSTART:20241103T070000
END:STANDARD
BEGIN:DAYLIGHT
TZOFFSETFROM:-0600
TZOFFSETTO:-0500
TZNAME:CDT
DTSTART:20250309T080000
END:DAYLIGHT
BEGIN:STANDARD
TZOFFSETFROM:-0500
TZOFFSETTO:-0600
TZNAME:CST
DTSTART:20251102T070000
END:STANDARD
BEGIN:DAYLIGHT
TZOFFSETFROM:-0600
TZOFFSETTO:-0500
TZNAME:CDT
DTSTART:20260308T080000
END:DAYLIGHT
BEGIN:STANDARD
TZOFFSETFROM:-0500
TZOFFSETTO:-0600
TZNAME:CST
DTSTART:20261101T070000
END:STANDARD
END:VTIMEZONE
BEGIN:VEVENT
DTSTART;TZID=America/Chicago:20250728T080000
DTEND;TZID=America/Chicago:20250728T100000
DTSTAMP:20260420T062445
CREATED:20250721T155922Z
LAST-MODIFIED:20250721T155922Z
UID:10001048-1753689600-1753696800@kerrcalendar.com
SUMMARY:Mega Food Pantry
DESCRIPTION:Kerrville First United Methodist Church will host its monthly Mega Food Pantry with expanded services to support families recovering from recent floods. All are welcome.
URL:https://kerrcalendar.com/event/mega-food-pantry/
LOCATION:Mount Wesley\, 610 Methodist Encampment\, Kerrville\, TX\, 78028\, United States
CATEGORIES:Faith and Spiritual,Nonprofits and Fundraisers
ATTACH;FMTTYPE=image/jpeg:https://kerrcalendar.com/wp-content/uploads/2025/07/food-bank.jpg
END:VEVENT
END:VCALENDAR