BEGIN:VCALENDAR
VERSION:2.0
PRODID:-//Kerr Calendar - ECPv6.15.20//NONSGML v1.0//EN
CALSCALE:GREGORIAN
METHOD:PUBLISH
X-ORIGINAL-URL:https://kerrcalendar.com
X-WR-CALDESC:Events for Kerr Calendar
REFRESH-INTERVAL;VALUE=DURATION:PT1H
X-Robots-Tag:noindex
X-PUBLISHED-TTL:PT1H
BEGIN:VTIMEZONE
TZID:America/Chicago
BEGIN:DAYLIGHT
TZOFFSETFROM:-0600
TZOFFSETTO:-0500
TZNAME:CDT
DTSTART:20250309T080000
END:DAYLIGHT
BEGIN:STANDARD
TZOFFSETFROM:-0500
TZOFFSETTO:-0600
TZNAME:CST
DTSTART:20251102T070000
END:STANDARD
BEGIN:DAYLIGHT
TZOFFSETFROM:-0600
TZOFFSETTO:-0500
TZNAME:CDT
DTSTART:20260308T080000
END:DAYLIGHT
BEGIN:STANDARD
TZOFFSETFROM:-0500
TZOFFSETTO:-0600
TZNAME:CST
DTSTART:20261101T070000
END:STANDARD
BEGIN:DAYLIGHT
TZOFFSETFROM:-0600
TZOFFSETTO:-0500
TZNAME:CDT
DTSTART:20270314T080000
END:DAYLIGHT
BEGIN:STANDARD
TZOFFSETFROM:-0500
TZOFFSETTO:-0600
TZNAME:CST
DTSTART:20271107T070000
END:STANDARD
END:VTIMEZONE
BEGIN:VEVENT
DTSTART;TZID=America/Chicago:20260615T160000
DTEND;TZID=America/Chicago:20260615T180000
DTSTAMP:20260421T205230
CREATED:20250719T230105Z
LAST-MODIFIED:20250719T230105Z
UID:10000029-1781539200-1781546400@kerrcalendar.com
SUMMARY:Economic Improvement Corporation Meeting
DESCRIPTION:The City of Kerrville’s EIC meets on the third Monday of each month at City Hall’s Council Chambers in downtown Kerrville\, Texas. The meetings are open to the public. Agendas can be found at the event link below.
URL:https://kerrcalendar.com/event/economic-improvement-corporation-meeting/2026-06-15/
LOCATION:City Hall\, 701 Main Street\, Kerrville\, TX\, 78028\, United States
CATEGORIES:Government and Civic
ATTACH;FMTTYPE=image/jpeg:https://kerrcalendar.com/wp-content/uploads/2025/07/cityhall-scaled.jpg
END:VEVENT
END:VCALENDAR