BEGIN:VCALENDAR
VERSION:2.0
PRODID:-//Kerr Calendar - ECPv6.15.20//NONSGML v1.0//EN
CALSCALE:GREGORIAN
METHOD:PUBLISH
X-WR-CALNAME:Kerr Calendar
X-ORIGINAL-URL:https://kerrcalendar.com
X-WR-CALDESC:Events for Kerr Calendar
REFRESH-INTERVAL;VALUE=DURATION:PT1H
X-Robots-Tag:noindex
X-PUBLISHED-TTL:PT1H
BEGIN:VTIMEZONE
TZID:America/Chicago
BEGIN:DAYLIGHT
TZOFFSETFROM:-0600
TZOFFSETTO:-0500
TZNAME:CDT
DTSTART:20240310T080000
END:DAYLIGHT
BEGIN:STANDARD
TZOFFSETFROM:-0500
TZOFFSETTO:-0600
TZNAME:CST
DTSTART:20241103T070000
END:STANDARD
BEGIN:DAYLIGHT
TZOFFSETFROM:-0600
TZOFFSETTO:-0500
TZNAME:CDT
DTSTART:20250309T080000
END:DAYLIGHT
BEGIN:STANDARD
TZOFFSETFROM:-0500
TZOFFSETTO:-0600
TZNAME:CST
DTSTART:20251102T070000
END:STANDARD
BEGIN:DAYLIGHT
TZOFFSETFROM:-0600
TZOFFSETTO:-0500
TZNAME:CDT
DTSTART:20260308T080000
END:DAYLIGHT
BEGIN:STANDARD
TZOFFSETFROM:-0500
TZOFFSETTO:-0600
TZNAME:CST
DTSTART:20261101T070000
END:STANDARD
END:VTIMEZONE
BEGIN:VEVENT
DTSTART;TZID=America/Chicago:20250916T130000
DTEND;TZID=America/Chicago:20250916T140000
DTSTAMP:20260419T221331
CREATED:20250908T154618Z
LAST-MODIFIED:20250908T154618Z
UID:10002216-1758027600-1758031200@kerrcalendar.com
SUMMARY:NEd Talk: How to Become a Wildlife Photographer
DESCRIPTION:Tom Torget\, journalist and wildlife photographer\, will share his lifetime of interest in documenting wildlife.\nFor More Information\nCall\n830-257-4837\nVisit Their Website\nhttp://www.riversidenaturecenter.org
URL:https://kerrcalendar.com/event/ned-talk-how-to-become-a-wildlife-photographer/
LOCATION:Riverside Nature Center\, 150 Francisco Lemos St\, Kerrville\, 78028\, United States
CATEGORIES:Classes and Workshops
ATTACH;FMTTYPE=image/jpeg:https://kerrcalendar.com/wp-content/uploads/2025/09/NEd_Talk_09-16-25.jpg
END:VEVENT
BEGIN:VEVENT
DTSTART;TZID=America/Chicago:20251016T180000
DTEND;TZID=America/Chicago:20251016T190000
DTSTAMP:20260419T221331
CREATED:20250927T183339Z
LAST-MODIFIED:20250927T183339Z
UID:10002225-1760637600-1760641200@kerrcalendar.com
SUMMARY:Cider & Succulents
DESCRIPTION:Join us for one of our most-loved garden classes\, Cider and Succulents\, on Thursday\, October 16th at 6 PM at The Ridge Marketplace in Kerrville\, Texas. \nThis hands-on workshop is the perfect way to celebrate fall while creating your very own seasonal planter. Each ticket includes: \nA planter (your choice of a pumpkin or a pot)\nA succulent starter pack\nTwo glasses of cider\nChips and salsa to snack on while you create \nWhether you’re a seasoned plant lover or just starting your succulent journey\, this class is fun\, relaxed\, and beginner-friendly. Gather your friends\, sip some cider\, and take home a beautiful creation that’s perfect for the season. \n📅 Date: Thursday\, October 16th\n🕕 Time: 6 PM\n💲 Cost: $45 per person\n📍 Location: The Ridge Marketplace – 13439 S Ranch Road 783\, Kerrville\, TX \n🌿 Spots fill quickly for this staple garden class\, so don’t wait! Call 830-896-0430 today to reserve your spot.
URL:https://kerrcalendar.com/event/cider-succulents-2/
LOCATION:The Ridge Marketplace\, 13439 S. Ranch Road 783\, Kerrville\, 78028\, United States
CATEGORIES:Classes and Workshops
ATTACH;FMTTYPE=image/jpeg:https://kerrcalendar.com/wp-content/uploads/2025/09/Cider-and-Succulents-1920-x-1080-px-1920-x-1080-px-1-1.jpg
ORGANIZER;CN="The Ridge Marketplace":MAILTO:marcustheridge@gmail.com
END:VEVENT
END:VCALENDAR