BEGIN:VCALENDAR
VERSION:2.0
PRODID:-//Kerr Calendar - ECPv6.15.20//NONSGML v1.0//EN
CALSCALE:GREGORIAN
METHOD:PUBLISH
X-ORIGINAL-URL:https://kerrcalendar.com
X-WR-CALDESC:Events for Kerr Calendar
REFRESH-INTERVAL;VALUE=DURATION:PT1H
X-Robots-Tag:noindex
X-PUBLISHED-TTL:PT1H
BEGIN:VTIMEZONE
TZID:America/Chicago
BEGIN:DAYLIGHT
TZOFFSETFROM:-0600
TZOFFSETTO:-0500
TZNAME:CDT
DTSTART:20290311T080000
END:DAYLIGHT
BEGIN:STANDARD
TZOFFSETFROM:-0500
TZOFFSETTO:-0600
TZNAME:CST
DTSTART:20291104T070000
END:STANDARD
BEGIN:DAYLIGHT
TZOFFSETFROM:-0600
TZOFFSETTO:-0500
TZNAME:CDT
DTSTART:20300310T080000
END:DAYLIGHT
BEGIN:STANDARD
TZOFFSETFROM:-0500
TZOFFSETTO:-0600
TZNAME:CST
DTSTART:20301103T070000
END:STANDARD
BEGIN:DAYLIGHT
TZOFFSETFROM:-0600
TZOFFSETTO:-0500
TZNAME:CDT
DTSTART:20310309T080000
END:DAYLIGHT
BEGIN:STANDARD
TZOFFSETFROM:-0500
TZOFFSETTO:-0600
TZNAME:CST
DTSTART:20311102T070000
END:STANDARD
END:VTIMEZONE
BEGIN:VEVENT
DTSTART;TZID=America/Chicago:20300415T180000
DTEND;TZID=America/Chicago:20300415T200000
DTSTAMP:20260421T195335
CREATED:20250721T181152Z
LAST-MODIFIED:20250721T181241Z
UID:10001112-1902506400-1902513600@kerrcalendar.com
SUMMARY:KISD Board of Trustees Meeting
DESCRIPTION:Kerrville Independent School District board meetings are typically held the third Monday of every month at 6:00 p.m. at the Joseph A. Tivy Building and meetings always begin with praise and recognition of students and staff.
URL:https://kerrcalendar.com/event/kisd-board-of-trustees-meeting-2/2030-04-15/
LOCATION:Kerrville ISD\, 1009 Barnett St\, Kerrville\, TX\, 78028\, United States
CATEGORIES:Education and Schools
ATTACH;FMTTYPE=image/png:https://kerrcalendar.com/wp-content/uploads/2025/07/KISDLogoFINAL.png
END:VEVENT
BEGIN:VEVENT
DTSTART;TZID=America/Chicago:20300520T180000
DTEND;TZID=America/Chicago:20300520T200000
DTSTAMP:20260421T195335
CREATED:20250721T181152Z
LAST-MODIFIED:20250721T181241Z
UID:10001113-1905530400-1905537600@kerrcalendar.com
SUMMARY:KISD Board of Trustees Meeting
DESCRIPTION:Kerrville Independent School District board meetings are typically held the third Monday of every month at 6:00 p.m. at the Joseph A. Tivy Building and meetings always begin with praise and recognition of students and staff.
URL:https://kerrcalendar.com/event/kisd-board-of-trustees-meeting-2/2030-05-20/
LOCATION:Kerrville ISD\, 1009 Barnett St\, Kerrville\, TX\, 78028\, United States
CATEGORIES:Education and Schools
ATTACH;FMTTYPE=image/png:https://kerrcalendar.com/wp-content/uploads/2025/07/KISDLogoFINAL.png
END:VEVENT
BEGIN:VEVENT
DTSTART;TZID=America/Chicago:20300617T180000
DTEND;TZID=America/Chicago:20300617T200000
DTSTAMP:20260421T195335
CREATED:20250721T181152Z
LAST-MODIFIED:20250721T181241Z
UID:10001114-1907949600-1907956800@kerrcalendar.com
SUMMARY:KISD Board of Trustees Meeting
DESCRIPTION:Kerrville Independent School District board meetings are typically held the third Monday of every month at 6:00 p.m. at the Joseph A. Tivy Building and meetings always begin with praise and recognition of students and staff.
URL:https://kerrcalendar.com/event/kisd-board-of-trustees-meeting-2/2030-06-17/
LOCATION:Kerrville ISD\, 1009 Barnett St\, Kerrville\, TX\, 78028\, United States
CATEGORIES:Education and Schools
ATTACH;FMTTYPE=image/png:https://kerrcalendar.com/wp-content/uploads/2025/07/KISDLogoFINAL.png
END:VEVENT
BEGIN:VEVENT
DTSTART;TZID=America/Chicago:20300715T180000
DTEND;TZID=America/Chicago:20300715T200000
DTSTAMP:20260421T195335
CREATED:20250721T181152Z
LAST-MODIFIED:20250721T181241Z
UID:10001115-1910368800-1910376000@kerrcalendar.com
SUMMARY:KISD Board of Trustees Meeting
DESCRIPTION:Kerrville Independent School District board meetings are typically held the third Monday of every month at 6:00 p.m. at the Joseph A. Tivy Building and meetings always begin with praise and recognition of students and staff.
URL:https://kerrcalendar.com/event/kisd-board-of-trustees-meeting-2/2030-07-15/
LOCATION:Kerrville ISD\, 1009 Barnett St\, Kerrville\, TX\, 78028\, United States
CATEGORIES:Education and Schools
ATTACH;FMTTYPE=image/png:https://kerrcalendar.com/wp-content/uploads/2025/07/KISDLogoFINAL.png
END:VEVENT
END:VCALENDAR