BEGIN:VCALENDAR
VERSION:2.0
PRODID:-//Kerr Calendar - ECPv6.15.20//NONSGML v1.0//EN
CALSCALE:GREGORIAN
METHOD:PUBLISH
X-ORIGINAL-URL:https://kerrcalendar.com
X-WR-CALDESC:Events for Kerr Calendar
REFRESH-INTERVAL;VALUE=DURATION:PT1H
X-Robots-Tag:noindex
X-PUBLISHED-TTL:PT1H
BEGIN:VTIMEZONE
TZID:America/Chicago
BEGIN:DAYLIGHT
TZOFFSETFROM:-0600
TZOFFSETTO:-0500
TZNAME:CDT
DTSTART:20240310T080000
END:DAYLIGHT
BEGIN:STANDARD
TZOFFSETFROM:-0500
TZOFFSETTO:-0600
TZNAME:CST
DTSTART:20241103T070000
END:STANDARD
BEGIN:DAYLIGHT
TZOFFSETFROM:-0600
TZOFFSETTO:-0500
TZNAME:CDT
DTSTART:20250309T080000
END:DAYLIGHT
BEGIN:STANDARD
TZOFFSETFROM:-0500
TZOFFSETTO:-0600
TZNAME:CST
DTSTART:20251102T070000
END:STANDARD
BEGIN:DAYLIGHT
TZOFFSETFROM:-0600
TZOFFSETTO:-0500
TZNAME:CDT
DTSTART:20260308T080000
END:DAYLIGHT
BEGIN:STANDARD
TZOFFSETFROM:-0500
TZOFFSETTO:-0600
TZNAME:CST
DTSTART:20261101T070000
END:STANDARD
BEGIN:DAYLIGHT
TZOFFSETFROM:-0600
TZOFFSETTO:-0500
TZNAME:CDT
DTSTART:20270314T080000
END:DAYLIGHT
BEGIN:STANDARD
TZOFFSETFROM:-0500
TZOFFSETTO:-0600
TZNAME:CST
DTSTART:20271107T070000
END:STANDARD
END:VTIMEZONE
BEGIN:VEVENT
DTSTART;TZID=America/Chicago:20260420T180000
DTEND;TZID=America/Chicago:20260420T200000
DTSTAMP:20260421T123847
CREATED:20250721T181152Z
LAST-MODIFIED:20250721T181241Z
UID:10001064-1776708000-1776715200@kerrcalendar.com
SUMMARY:KISD Board of Trustees Meeting
DESCRIPTION:Kerrville Independent School District board meetings are typically held the third Monday of every month at 6:00 p.m. at the Joseph A. Tivy Building and meetings always begin with praise and recognition of students and staff.
URL:https://kerrcalendar.com/event/kisd-board-of-trustees-meeting-2/2026-04-20/
LOCATION:Kerrville ISD\, 1009 Barnett St\, Kerrville\, TX\, 78028\, United States
CATEGORIES:Education and Schools
ATTACH;FMTTYPE=image/png:https://kerrcalendar.com/wp-content/uploads/2025/07/KISDLogoFINAL.png
END:VEVENT
BEGIN:VEVENT
DTSTART;VALUE=DATE:20260406
DTEND;VALUE=DATE:20260407
DTSTAMP:20260421T123847
CREATED:20250722T115713Z
LAST-MODIFIED:20250722T115713Z
UID:10001124-1775433600-1775519999@kerrcalendar.com
SUMMARY:Ingram ISD Schools Closed - Staff Development Day
DESCRIPTION:No school for students.
URL:https://kerrcalendar.com/event/ingram-isd-schools-closed-staff-development-day-5/
LOCATION:Ingram ISD\, 64 Hwy 39\, Ingram\, TX\, 78025\, United States
CATEGORIES:Education and Schools
ATTACH;FMTTYPE=image/png:https://kerrcalendar.com/wp-content/uploads/2025/07/no-school-today.png
END:VEVENT
BEGIN:VEVENT
DTSTART;TZID=America/Chicago:20260316T180000
DTEND;TZID=America/Chicago:20260316T200000
DTSTAMP:20260421T123847
CREATED:20250721T181152Z
LAST-MODIFIED:20250721T181241Z
UID:10001063-1773684000-1773691200@kerrcalendar.com
SUMMARY:KISD Board of Trustees Meeting
DESCRIPTION:Kerrville Independent School District board meetings are typically held the third Monday of every month at 6:00 p.m. at the Joseph A. Tivy Building and meetings always begin with praise and recognition of students and staff.
URL:https://kerrcalendar.com/event/kisd-board-of-trustees-meeting-2/2026-03-16/
LOCATION:Kerrville ISD\, 1009 Barnett St\, Kerrville\, TX\, 78028\, United States
CATEGORIES:Education and Schools
ATTACH;FMTTYPE=image/png:https://kerrcalendar.com/wp-content/uploads/2025/07/KISDLogoFINAL.png
END:VEVENT
BEGIN:VEVENT
DTSTART;VALUE=DATE:20260309
DTEND;VALUE=DATE:20260314
DTSTAMP:20260421T123847
CREATED:20250722T121149Z
LAST-MODIFIED:20250722T121149Z
UID:10001140-1773014400-1773446399@kerrcalendar.com
SUMMARY:Spring Break for Ingram ISD
DESCRIPTION:Spring break for the Warriors!
URL:https://kerrcalendar.com/event/spring-break-iisd/
LOCATION:Ingram ISD\, 64 Hwy 39\, Ingram\, TX\, 78025\, United States
CATEGORIES:Education and Schools
ATTACH;FMTTYPE=image/png:https://kerrcalendar.com/wp-content/uploads/2025/07/Ingram-TM-Logo-New-2024-scaled.png
END:VEVENT
BEGIN:VEVENT
DTSTART;TZID=America/Chicago:20260216T180000
DTEND;TZID=America/Chicago:20260216T200000
DTSTAMP:20260421T123847
CREATED:20250721T181152Z
LAST-MODIFIED:20250721T181241Z
UID:10001062-1771264800-1771272000@kerrcalendar.com
SUMMARY:KISD Board of Trustees Meeting
DESCRIPTION:Kerrville Independent School District board meetings are typically held the third Monday of every month at 6:00 p.m. at the Joseph A. Tivy Building and meetings always begin with praise and recognition of students and staff.
URL:https://kerrcalendar.com/event/kisd-board-of-trustees-meeting-2/2026-02-16/
LOCATION:Kerrville ISD\, 1009 Barnett St\, Kerrville\, TX\, 78028\, United States
CATEGORIES:Education and Schools
ATTACH;FMTTYPE=image/png:https://kerrcalendar.com/wp-content/uploads/2025/07/KISDLogoFINAL.png
END:VEVENT
BEGIN:VEVENT
DTSTART;VALUE=DATE:20260213
DTEND;VALUE=DATE:20260214
DTSTAMP:20260421T123847
CREATED:20250722T115650Z
LAST-MODIFIED:20250722T115650Z
UID:10001123-1770940800-1771027199@kerrcalendar.com
SUMMARY:Ingram ISD Schools Closed - Staff Development Day
DESCRIPTION:No school for students.
URL:https://kerrcalendar.com/event/ingram-isd-schools-closed-staff-development-day-4/
LOCATION:Ingram ISD\, 64 Hwy 39\, Ingram\, TX\, 78025\, United States
CATEGORIES:Education and Schools
ATTACH;FMTTYPE=image/png:https://kerrcalendar.com/wp-content/uploads/2025/07/no-school-today.png
END:VEVENT
BEGIN:VEVENT
DTSTART;TZID=America/Chicago:20260119T180000
DTEND;TZID=America/Chicago:20260119T200000
DTSTAMP:20260421T123847
CREATED:20250721T181152Z
LAST-MODIFIED:20250721T181241Z
UID:10001061-1768845600-1768852800@kerrcalendar.com
SUMMARY:KISD Board of Trustees Meeting
DESCRIPTION:Kerrville Independent School District board meetings are typically held the third Monday of every month at 6:00 p.m. at the Joseph A. Tivy Building and meetings always begin with praise and recognition of students and staff.
URL:https://kerrcalendar.com/event/kisd-board-of-trustees-meeting-2/2026-01-19/
LOCATION:Kerrville ISD\, 1009 Barnett St\, Kerrville\, TX\, 78028\, United States
CATEGORIES:Education and Schools
ATTACH;FMTTYPE=image/png:https://kerrcalendar.com/wp-content/uploads/2025/07/KISDLogoFINAL.png
END:VEVENT
BEGIN:VEVENT
DTSTART;VALUE=DATE:20260106
DTEND;VALUE=DATE:20260107
DTSTAMP:20260421T123847
CREATED:20250722T115632Z
LAST-MODIFIED:20250722T115632Z
UID:10001122-1767657600-1767743999@kerrcalendar.com
SUMMARY:Ingram ISD Schools Closed - Staff Development Day
DESCRIPTION:No school for students.
URL:https://kerrcalendar.com/event/ingram-isd-schools-closed-staff-development-day-3/
LOCATION:Ingram ISD\, 64 Hwy 39\, Ingram\, TX\, 78025\, United States
CATEGORIES:Education and Schools
ATTACH;FMTTYPE=image/png:https://kerrcalendar.com/wp-content/uploads/2025/07/no-school-today.png
END:VEVENT
BEGIN:VEVENT
DTSTART;VALUE=DATE:20251219
DTEND;VALUE=DATE:20260107
DTSTAMP:20260421T123847
CREATED:20250722T121042Z
LAST-MODIFIED:20250722T121042Z
UID:10001139-1766102400-1767743999@kerrcalendar.com
SUMMARY:Christmas Break for Ingram ISD
DESCRIPTION:Holiday time for the Warriors. Break includes a “wellness day” on December 19 and a staff workday on January 6. But the holiday\, for parents and students\, is effectively December 19 through January 6. School begins again on January 7.
URL:https://kerrcalendar.com/event/christmas-break-for-ingram-isd/
LOCATION:Ingram ISD\, 64 Hwy 39\, Ingram\, TX\, 78025\, United States
CATEGORIES:Education and Schools
ATTACH;FMTTYPE=image/png:https://kerrcalendar.com/wp-content/uploads/2025/07/Ingram-TM-Logo-New-2024-scaled.png
END:VEVENT
BEGIN:VEVENT
DTSTART;TZID=America/Chicago:20251215T180000
DTEND;TZID=America/Chicago:20251215T200000
DTSTAMP:20260421T123847
CREATED:20250721T181152Z
LAST-MODIFIED:20250721T181241Z
UID:10001060-1765821600-1765828800@kerrcalendar.com
SUMMARY:KISD Board of Trustees Meeting
DESCRIPTION:Kerrville Independent School District board meetings are typically held the third Monday of every month at 6:00 p.m. at the Joseph A. Tivy Building and meetings always begin with praise and recognition of students and staff.
URL:https://kerrcalendar.com/event/kisd-board-of-trustees-meeting-2/2025-12-15/
LOCATION:Kerrville ISD\, 1009 Barnett St\, Kerrville\, TX\, 78028\, United States
CATEGORIES:Education and Schools
ATTACH;FMTTYPE=image/png:https://kerrcalendar.com/wp-content/uploads/2025/07/KISDLogoFINAL.png
END:VEVENT
BEGIN:VEVENT
DTSTART;VALUE=DATE:20251124
DTEND;VALUE=DATE:20251129
DTSTAMP:20260421T123847
CREATED:20250722T120751Z
LAST-MODIFIED:20250722T120751Z
UID:10001138-1763942400-1764374399@kerrcalendar.com
SUMMARY:Thanksgiving Break for Ingram ISD
DESCRIPTION:Holiday time for the Warriors.
URL:https://kerrcalendar.com/event/thanksgiving-break-for-ingram-isd/
LOCATION:Ingram ISD\, 64 Hwy 39\, Ingram\, TX\, 78025\, United States
CATEGORIES:Education and Schools
ATTACH;FMTTYPE=image/png:https://kerrcalendar.com/wp-content/uploads/2025/07/Ingram-TM-Logo-New-2024-scaled.png
END:VEVENT
BEGIN:VEVENT
DTSTART;TZID=America/Chicago:20251117T180000
DTEND;TZID=America/Chicago:20251117T200000
DTSTAMP:20260421T123847
CREATED:20250721T181152Z
LAST-MODIFIED:20250721T181241Z
UID:10001059-1763402400-1763409600@kerrcalendar.com
SUMMARY:KISD Board of Trustees Meeting
DESCRIPTION:Kerrville Independent School District board meetings are typically held the third Monday of every month at 6:00 p.m. at the Joseph A. Tivy Building and meetings always begin with praise and recognition of students and staff.
URL:https://kerrcalendar.com/event/kisd-board-of-trustees-meeting-2/2025-11-17/
LOCATION:Kerrville ISD\, 1009 Barnett St\, Kerrville\, TX\, 78028\, United States
CATEGORIES:Education and Schools
ATTACH;FMTTYPE=image/png:https://kerrcalendar.com/wp-content/uploads/2025/07/KISDLogoFINAL.png
END:VEVENT
BEGIN:VEVENT
DTSTART;VALUE=DATE:20251103
DTEND;VALUE=DATE:20251104
DTSTAMP:20260421T123847
CREATED:20250721T182229Z
LAST-MODIFIED:20250721T182229Z
UID:10001118-1762128000-1762214399@kerrcalendar.com
SUMMARY:KISD Schools Closed - Staff Development Day
DESCRIPTION:No school for students.
URL:https://kerrcalendar.com/event/kisd-schools-closed-staff-development-day-2/
LOCATION:Kerrville ISD\, 1009 Barnett St\, Kerrville\, TX\, 78028\, United States
CATEGORIES:Education and Schools
ATTACH;FMTTYPE=image/png:https://kerrcalendar.com/wp-content/uploads/2025/07/no-school-today.png
END:VEVENT
BEGIN:VEVENT
DTSTART;VALUE=DATE:20251031
DTEND;VALUE=DATE:20251101
DTSTAMP:20260421T123847
CREATED:20250722T115609Z
LAST-MODIFIED:20250722T115609Z
UID:10001121-1761868800-1761955199@kerrcalendar.com
SUMMARY:Ingram ISD Schools Closed - Staff Development Day
DESCRIPTION:No school for students.
URL:https://kerrcalendar.com/event/ingram-isd-schools-closed-staff-development-day-2/
LOCATION:Ingram ISD\, 64 Hwy 39\, Ingram\, TX\, 78025\, United States
CATEGORIES:Education and Schools
ATTACH;FMTTYPE=image/png:https://kerrcalendar.com/wp-content/uploads/2025/07/no-school-today.png
END:VEVENT
BEGIN:VEVENT
DTSTART;TZID=America/Chicago:20251020T180000
DTEND;TZID=America/Chicago:20251020T200000
DTSTAMP:20260421T123847
CREATED:20250721T181152Z
LAST-MODIFIED:20250721T181241Z
UID:10001058-1760983200-1760990400@kerrcalendar.com
SUMMARY:KISD Board of Trustees Meeting
DESCRIPTION:Kerrville Independent School District board meetings are typically held the third Monday of every month at 6:00 p.m. at the Joseph A. Tivy Building and meetings always begin with praise and recognition of students and staff.
URL:https://kerrcalendar.com/event/kisd-board-of-trustees-meeting-2/2025-10-20/
LOCATION:Kerrville ISD\, 1009 Barnett St\, Kerrville\, TX\, 78028\, United States
CATEGORIES:Education and Schools
ATTACH;FMTTYPE=image/png:https://kerrcalendar.com/wp-content/uploads/2025/07/KISDLogoFINAL.png
END:VEVENT
BEGIN:VEVENT
DTSTART;VALUE=DATE:20250926
DTEND;VALUE=DATE:20250927
DTSTAMP:20260421T123847
CREATED:20250722T115536Z
LAST-MODIFIED:20250722T115536Z
UID:10001120-1758844800-1758931199@kerrcalendar.com
SUMMARY:Ingram ISD Schools Closed - Staff Development Day
DESCRIPTION:No school for students.
URL:https://kerrcalendar.com/event/ingram-isd-schools-closed-staff-development-day/
LOCATION:Ingram ISD\, 64 Hwy 39\, Ingram\, TX\, 78025\, United States
CATEGORIES:Education and Schools
ATTACH;FMTTYPE=image/png:https://kerrcalendar.com/wp-content/uploads/2025/07/no-school-today.png
END:VEVENT
BEGIN:VEVENT
DTSTART;VALUE=DATE:20250922
DTEND;VALUE=DATE:20250923
DTSTAMP:20260421T123847
CREATED:20250721T182106Z
LAST-MODIFIED:20250721T182147Z
UID:10001117-1758499200-1758585599@kerrcalendar.com
SUMMARY:KISD Schools Closed - Staff Development Day
DESCRIPTION:No school for students.
URL:https://kerrcalendar.com/event/kisd-schools-closed-staff-development-day/
LOCATION:Kerrville ISD\, 1009 Barnett St\, Kerrville\, TX\, 78028\, United States
CATEGORIES:Education and Schools
ATTACH;FMTTYPE=image/png:https://kerrcalendar.com/wp-content/uploads/2025/07/no-school-today.png
END:VEVENT
BEGIN:VEVENT
DTSTART;TZID=America/Chicago:20250920T080000
DTEND;TZID=America/Chicago:20250920T103000
DTSTAMP:20260421T123847
CREATED:20250908T154736Z
LAST-MODIFIED:20250908T154736Z
UID:10002217-1758355200-1758364200@kerrcalendar.com
SUMMARY:Bird Walk & Talk
DESCRIPTION:Guide bird identification and observation walk; space is limited and must register in advance.\nFor More Information\nCall\n830-257-4837\nVisit Their Website\nhttp://www.riversidenaturecenter.org
URL:https://kerrcalendar.com/event/bird-walk-talk/
LOCATION:Riverside Nature Center\, 150 Francisco Lemos St\, Kerrville\, 78028\, United States
CATEGORIES:Classes and Workshops
ATTACH;FMTTYPE=image/jpeg:https://kerrcalendar.com/wp-content/uploads/2025/09/9-20-25_Bird_WT.jpg
END:VEVENT
BEGIN:VEVENT
DTSTART;TZID=America/Chicago:20250916T130000
DTEND;TZID=America/Chicago:20250916T140000
DTSTAMP:20260421T123847
CREATED:20250908T154618Z
LAST-MODIFIED:20250908T154618Z
UID:10002216-1758027600-1758031200@kerrcalendar.com
SUMMARY:NEd Talk: How to Become a Wildlife Photographer
DESCRIPTION:Tom Torget\, journalist and wildlife photographer\, will share his lifetime of interest in documenting wildlife.\nFor More Information\nCall\n830-257-4837\nVisit Their Website\nhttp://www.riversidenaturecenter.org
URL:https://kerrcalendar.com/event/ned-talk-how-to-become-a-wildlife-photographer/
LOCATION:Riverside Nature Center\, 150 Francisco Lemos St\, Kerrville\, 78028\, United States
CATEGORIES:Classes and Workshops
ATTACH;FMTTYPE=image/jpeg:https://kerrcalendar.com/wp-content/uploads/2025/09/NEd_Talk_09-16-25.jpg
END:VEVENT
BEGIN:VEVENT
DTSTART;TZID=America/Chicago:20250915T180000
DTEND;TZID=America/Chicago:20250915T200000
DTSTAMP:20260421T123847
CREATED:20250721T181152Z
LAST-MODIFIED:20250721T181241Z
UID:10001057-1757959200-1757966400@kerrcalendar.com
SUMMARY:KISD Board of Trustees Meeting
DESCRIPTION:Kerrville Independent School District board meetings are typically held the third Monday of every month at 6:00 p.m. at the Joseph A. Tivy Building and meetings always begin with praise and recognition of students and staff.
URL:https://kerrcalendar.com/event/kisd-board-of-trustees-meeting-2/2025-09-15/
LOCATION:Kerrville ISD\, 1009 Barnett St\, Kerrville\, TX\, 78028\, United States
CATEGORIES:Education and Schools
ATTACH;FMTTYPE=image/png:https://kerrcalendar.com/wp-content/uploads/2025/07/KISDLogoFINAL.png
END:VEVENT
BEGIN:VEVENT
DTSTART;TZID=America/Chicago:20250913T140000
DTEND;TZID=America/Chicago:20250913T153000
DTSTAMP:20260421T123847
CREATED:20250908T155040Z
LAST-MODIFIED:20250908T155040Z
UID:10002218-1757772000-1757777400@kerrcalendar.com
SUMMARY:Author Monika Maeckle to present “Plants with Purpose”
DESCRIPTION:The Butt-Holdsworth Memorial Library and the Hill Country Master Naturalists invite the community to an inspiring author talk with Monika Maeckle\, conservationist\, journalist\, and founder of the Texas Butterfly Ranch. Maeckle will discuss her newly released book\, “Plants with Purpose”\, on Saturday\, Sept. 13\, from 2- 3:30 p.m. in the library’s first-floor meeting room. \nIn “Plants with Purpose”\, Maeckle highlights the beauty and resilience of native plants while exploring how the natural world influences and enriches our daily lives. During the program\, she will share insights from her book\, answer audience questions\, and reflect on her work as an advocate for pollinators and biodiversity. \nA heartfelt thank you to H-E-B and their “Pollinators for Texas” program for funding the expansion of the beautiful pollinator garden at the Kerr County Courthouse. It’s a wonderful representation of pollinator-friendly landscaping. Books will be available for purchase at the event. \nThe event is free and open to the public. For more information\, please contact the library at (830) 258-1274 or visit the library website at www.kerrville.tx.gov.
URL:https://kerrcalendar.com/event/author-monika-maeckle-to-present-plants-with-purpose/
LOCATION:Butt-Holdsworth Memorial Library\, 505 Water St\, Kerrville\, TX\, 78028\, United States
CATEGORIES:Classes and Workshops
ATTACH;FMTTYPE=image/jpeg:https://kerrcalendar.com/wp-content/uploads/2025/09/qtq80-eYtMKY.jpeg
END:VEVENT
BEGIN:VEVENT
DTSTART;VALUE=DATE:20250825
DTEND;VALUE=DATE:20250826
DTSTAMP:20260421T123847
CREATED:20250724T123445Z
LAST-MODIFIED:20250724T123445Z
UID:10000784-1756080000-1756166399@kerrcalendar.com
SUMMARY:Undergraduate Classes Begin @ Schreiner University
DESCRIPTION:Undergraduate\, Graduate\, and VN:J3 classes begin \nAcademic Calendar
URL:https://kerrcalendar.com/event/undergraduate-classes-begin-schreiner-university/
LOCATION:Schreiner University\, 2100 Memorial Blvd\, Kerrville\, TX\, 78028\, United States
CATEGORIES:Education and Schools
ATTACH;FMTTYPE=image/png:https://kerrcalendar.com/wp-content/uploads/2025/07/schreiner.png
END:VEVENT
BEGIN:VEVENT
DTSTART;TZID=America/Chicago:20250818T180000
DTEND;TZID=America/Chicago:20250818T200000
DTSTAMP:20260421T123847
CREATED:20250721T181152Z
LAST-MODIFIED:20250721T181241Z
UID:10001056-1755540000-1755547200@kerrcalendar.com
SUMMARY:KISD Board of Trustees Meeting
DESCRIPTION:Kerrville Independent School District board meetings are typically held the third Monday of every month at 6:00 p.m. at the Joseph A. Tivy Building and meetings always begin with praise and recognition of students and staff.
URL:https://kerrcalendar.com/event/kisd-board-of-trustees-meeting-2/2025-08-18/
LOCATION:Kerrville ISD\, 1009 Barnett St\, Kerrville\, TX\, 78028\, United States
CATEGORIES:Education and Schools
ATTACH;FMTTYPE=image/png:https://kerrcalendar.com/wp-content/uploads/2025/07/KISDLogoFINAL.png
END:VEVENT
BEGIN:VEVENT
DTSTART;TZID=America/Chicago:20250814T193000
DTEND;TZID=America/Chicago:20250814T203000
DTSTAMP:20260421T123847
CREATED:20250725T123253Z
LAST-MODIFIED:20250725T123253Z
UID:10001444-1755199800-1755203400@kerrcalendar.com
SUMMARY:ITM Meet the Warrior
DESCRIPTION:Community introduction and pep rally featuring the fall sports at Ingram Tom Moore High School. Held at the Warrior Football Stadium.
URL:https://kerrcalendar.com/event/itm-meet-the-warrior/
LOCATION:Ingram Warrior Football Stadium\, Warrior Stadium\, Ingram\, 78025\, United States
CATEGORIES:Sports
ATTACH;FMTTYPE=image/png:https://kerrcalendar.com/wp-content/uploads/2025/07/Ingram-TM-Logo-New-2024-scaled.png
END:VEVENT
BEGIN:VEVENT
DTSTART;TZID=America/Chicago:20250814T180000
DTEND;TZID=America/Chicago:20250814T193000
DTSTAMP:20260421T123847
CREATED:20250725T122702Z
LAST-MODIFIED:20250725T122702Z
UID:10001442-1755194400-1755199800@kerrcalendar.com
SUMMARY:ITM Meet the Tribe
DESCRIPTION:Meet the Tribe at Ingram Tom Moore High School
URL:https://kerrcalendar.com/event/itm-meet-the-tribe/
LOCATION:Ingram ISD\, 64 Hwy 39\, Ingram\, TX\, 78025\, United States
CATEGORIES:Education and Schools
ATTACH;FMTTYPE=image/png:https://kerrcalendar.com/wp-content/uploads/2025/07/Ingram-TM-Logo-New-2024-scaled.png
END:VEVENT
BEGIN:VEVENT
DTSTART;TZID=America/Chicago:20250814T180000
DTEND;TZID=America/Chicago:20250814T193000
DTSTAMP:20260421T123847
CREATED:20250725T122543Z
LAST-MODIFIED:20250725T122543Z
UID:10001441-1755194400-1755199800@kerrcalendar.com
SUMMARY:IMS Meet the Tribe
DESCRIPTION:Meet the Tribe at Ingram Middle School
URL:https://kerrcalendar.com/event/ims-meet-the-tribe/
LOCATION:Ingram Middle School\, 510 TX-39\, Ingram\, 78025\, United States
CATEGORIES:Education and Schools
ATTACH;FMTTYPE=image/png:https://kerrcalendar.com/wp-content/uploads/2025/07/IMS-Vector-Graphic2.png
END:VEVENT
BEGIN:VEVENT
DTSTART;TZID=America/Chicago:20250814T170000
DTEND;TZID=America/Chicago:20250814T180000
DTSTAMP:20260421T123847
CREATED:20250725T122946Z
LAST-MODIFIED:20250725T122946Z
UID:10001443-1755190800-1755194400@kerrcalendar.com
SUMMARY:IES Meet the Teacher
DESCRIPTION:Meet the teacher at Ingram Elementary School.
URL:https://kerrcalendar.com/event/ies-meet-the-teacher/
LOCATION:Ingram Elementary School\, 125 Brave Run W\, Ingram\, 78025\, United States
CATEGORIES:Education and Schools
ATTACH;FMTTYPE=image/png:https://kerrcalendar.com/wp-content/uploads/2025/07/Ingram-Elementary-School-Logo-Vector-scaled.png
END:VEVENT
BEGIN:VEVENT
DTSTART;VALUE=DATE:20250813
DTEND;VALUE=DATE:20250814
DTSTAMP:20260421T123847
CREATED:20250719T233603Z
LAST-MODIFIED:20250719T233603Z
UID:10000501-1755043200-1755129599@kerrcalendar.com
SUMMARY:First Day of School - KISD
DESCRIPTION:First day of classes for students attending KISD schools in Kerrville.
URL:https://kerrcalendar.com/event/first-day-of-school-kisd/
LOCATION:Kerrville ISD\, 1009 Barnett St\, Kerrville\, TX\, 78028\, United States
CATEGORIES:Education and Schools
ATTACH;FMTTYPE=image/jpeg:https://kerrcalendar.com/wp-content/uploads/2025/07/tivy-grad.jpg
END:VEVENT
BEGIN:VEVENT
DTSTART;VALUE=DATE:20250813
DTEND;VALUE=DATE:20250814
DTSTAMP:20260421T123847
CREATED:20250721T114411Z
LAST-MODIFIED:20250721T114837Z
UID:10000783-1755043200-1755129599@kerrcalendar.com
SUMMARY:First Day of School - Center Point ISD
DESCRIPTION:The Pirates return to classes on Wednesday\, August 13. Full calendar is linked below. \nhttps://www.cpisd.net/calendar
URL:https://kerrcalendar.com/event/first-day-of-school-center-point-isd/
LOCATION:TX
CATEGORIES:Education and Schools
ATTACH;FMTTYPE=image/png:https://kerrcalendar.com/wp-content/uploads/2025/07/cp-isd.png
END:VEVENT
BEGIN:VEVENT
DTSTART;TZID=America/Chicago:20250808T080000
DTEND;TZID=America/Chicago:20250808T120000
DTSTAMP:20260421T123847
CREATED:20250720T124154Z
LAST-MODIFIED:20250720T124212Z
UID:10000518-1754640000-1754654400@kerrcalendar.com
SUMMARY:KISD Convocation
DESCRIPTION:Kerrville Independent School District’s faculty convocation services.
URL:https://kerrcalendar.com/event/kisd-convocation/
LOCATION:TX
CATEGORIES:Education and Schools
ATTACH;FMTTYPE=image/png:https://kerrcalendar.com/wp-content/uploads/2025/07/KISDLogoFINAL.png
END:VEVENT
END:VCALENDAR