BEGIN:VCALENDAR
VERSION:2.0
PRODID:-//Kerr Calendar - ECPv6.15.20//NONSGML v1.0//EN
CALSCALE:GREGORIAN
METHOD:PUBLISH
X-ORIGINAL-URL:https://kerrcalendar.com
X-WR-CALDESC:Events for Kerr Calendar
REFRESH-INTERVAL;VALUE=DURATION:PT1H
X-Robots-Tag:noindex
X-PUBLISHED-TTL:PT1H
BEGIN:VTIMEZONE
TZID:America/Chicago
BEGIN:DAYLIGHT
TZOFFSETFROM:-0600
TZOFFSETTO:-0500
TZNAME:CDT
DTSTART:20240310T080000
END:DAYLIGHT
BEGIN:STANDARD
TZOFFSETFROM:-0500
TZOFFSETTO:-0600
TZNAME:CST
DTSTART:20241103T070000
END:STANDARD
BEGIN:DAYLIGHT
TZOFFSETFROM:-0600
TZOFFSETTO:-0500
TZNAME:CDT
DTSTART:20250309T080000
END:DAYLIGHT
BEGIN:STANDARD
TZOFFSETFROM:-0500
TZOFFSETTO:-0600
TZNAME:CST
DTSTART:20251102T070000
END:STANDARD
BEGIN:DAYLIGHT
TZOFFSETFROM:-0600
TZOFFSETTO:-0500
TZNAME:CDT
DTSTART:20260308T080000
END:DAYLIGHT
BEGIN:STANDARD
TZOFFSETFROM:-0500
TZOFFSETTO:-0600
TZNAME:CST
DTSTART:20261101T070000
END:STANDARD
END:VTIMEZONE
BEGIN:VEVENT
DTSTART;TZID=America/Chicago:20250920T180000
DTEND;TZID=America/Chicago:20250920T210000
DTSTAMP:20260420T180230
CREATED:20250904T201042Z
LAST-MODIFIED:20250904T201042Z
UID:10002144-1758391200-1758402000@kerrcalendar.com
SUMMARY:Kids Got Talent! Season 2
DESCRIPTION:Kid’s Got Talent: Season 2 is back\, and we’re looking for the best young performers in town! Whether it’s singing\, dancing\, magic tricks\, or any other amazing talent\, we want to see it all. This free event is open to kids 16 and under\, with three age brackets: 5 and under\, 6 to 10\, and 11 to 16. \nEach age group will have 1st\, 2nd\, and 3rd place prizes\, so bring your best performance and wow the crowd! Don’t miss this fun-filled evening celebrating the incredible talent in our community. \nWant to sign your child up to perform? Register here: Kid’s Got Talent Registration
URL:https://kerrcalendar.com/event/kids-got-talent-season-2/
LOCATION:The Ridge Marketplace\, 13439 S. Ranch Road 783\, Kerrville\, 78028\, United States
CATEGORIES:Arts and Entertainment
ATTACH;FMTTYPE=image/jpeg:https://kerrcalendar.com/wp-content/uploads/2025/09/Kids-Got-Flyer-1.jpg
ORGANIZER;CN="The Ridge Marketplace":MAILTO:marcustheridge@gmail.com
END:VEVENT
END:VCALENDAR