BEGIN:VCALENDAR
VERSION:2.0
PRODID:-//Kerr Calendar - ECPv6.15.20//NONSGML v1.0//EN
CALSCALE:GREGORIAN
METHOD:PUBLISH
X-ORIGINAL-URL:https://kerrcalendar.com
X-WR-CALDESC:Events for Kerr Calendar
REFRESH-INTERVAL;VALUE=DURATION:PT1H
X-Robots-Tag:noindex
X-PUBLISHED-TTL:PT1H
BEGIN:VTIMEZONE
TZID:America/Chicago
BEGIN:DAYLIGHT
TZOFFSETFROM:-0600
TZOFFSETTO:-0500
TZNAME:CDT
DTSTART:20240310T080000
END:DAYLIGHT
BEGIN:STANDARD
TZOFFSETFROM:-0500
TZOFFSETTO:-0600
TZNAME:CST
DTSTART:20241103T070000
END:STANDARD
BEGIN:DAYLIGHT
TZOFFSETFROM:-0600
TZOFFSETTO:-0500
TZNAME:CDT
DTSTART:20250309T080000
END:DAYLIGHT
BEGIN:STANDARD
TZOFFSETFROM:-0500
TZOFFSETTO:-0600
TZNAME:CST
DTSTART:20251102T070000
END:STANDARD
BEGIN:DAYLIGHT
TZOFFSETFROM:-0600
TZOFFSETTO:-0500
TZNAME:CDT
DTSTART:20260308T080000
END:DAYLIGHT
BEGIN:STANDARD
TZOFFSETFROM:-0500
TZOFFSETTO:-0600
TZNAME:CST
DTSTART:20261101T070000
END:STANDARD
END:VTIMEZONE
BEGIN:VEVENT
DTSTART;TZID=America/Chicago:20250828T140000
DTEND;TZID=America/Chicago:20250828T180000
DTSTAMP:20260421T072620
CREATED:20250822T160714Z
LAST-MODIFIED:20250822T160714Z
UID:10002135-1756389600-1756404000@kerrcalendar.com
SUMMARY:Governor's Small Business Disaster Recovery Fair
DESCRIPTION:Governor Greg Abbott announced a Governor’s Small Business Disaster Recovery Fair to be held in Kerrville on August 28.The Fair will feature state & federal agency partners providing resources for small businesses impacted by the floods.Read more & sign up here: http://bit.ly/4mSxPB1
URL:https://kerrcalendar.com/event/governors-small-business-disaster-recovery-fair/
LOCATION:Inn of the Hills\, 1001 Junction Hwy\, Kerrville\, 78028\, United States
CATEGORIES:Classes and Workshops
ATTACH;FMTTYPE=image/jpeg:https://kerrcalendar.com/wp-content/uploads/2025/08/gov-small.jpg
END:VEVENT
END:VCALENDAR