BEGIN:VCALENDAR
VERSION:2.0
PRODID:-//Kerr Calendar - ECPv6.15.20//NONSGML v1.0//EN
CALSCALE:GREGORIAN
METHOD:PUBLISH
X-ORIGINAL-URL:https://kerrcalendar.com
X-WR-CALDESC:Events for Kerr Calendar
REFRESH-INTERVAL;VALUE=DURATION:PT1H
X-Robots-Tag:noindex
X-PUBLISHED-TTL:PT1H
BEGIN:VTIMEZONE
TZID:America/Chicago
BEGIN:DAYLIGHT
TZOFFSETFROM:-0600
TZOFFSETTO:-0500
TZNAME:CDT
DTSTART:20240310T080000
END:DAYLIGHT
BEGIN:STANDARD
TZOFFSETFROM:-0500
TZOFFSETTO:-0600
TZNAME:CST
DTSTART:20241103T070000
END:STANDARD
BEGIN:DAYLIGHT
TZOFFSETFROM:-0600
TZOFFSETTO:-0500
TZNAME:CDT
DTSTART:20250309T080000
END:DAYLIGHT
BEGIN:STANDARD
TZOFFSETFROM:-0500
TZOFFSETTO:-0600
TZNAME:CST
DTSTART:20251102T070000
END:STANDARD
BEGIN:DAYLIGHT
TZOFFSETFROM:-0600
TZOFFSETTO:-0500
TZNAME:CDT
DTSTART:20260308T080000
END:DAYLIGHT
BEGIN:STANDARD
TZOFFSETFROM:-0500
TZOFFSETTO:-0600
TZNAME:CST
DTSTART:20261101T070000
END:STANDARD
END:VTIMEZONE
BEGIN:VEVENT
DTSTART;TZID=America/Chicago:20250913T110000
DTEND;TZID=America/Chicago:20250913T150000
DTSTAMP:20260421T062742
CREATED:20250908T154423Z
LAST-MODIFIED:20250908T154423Z
UID:10002215-1757761200-1757775600@kerrcalendar.com
SUMMARY:K'Star Free Community Gathering
DESCRIPTION:Free event sponsored by K’Star to feature live music\, prayer\, food\, booths and kids activities.\nFor More Information\nCall\n830-739-4414
URL:https://kerrcalendar.com/event/kstar-free-community-gathering/
LOCATION:Hill Country Youth Event Center\, 3785 TX-27\, Kerrville\, TX\, 78028\, United States
CATEGORIES:Arts and Entertainment
ATTACH;FMTTYPE=image/png:https://kerrcalendar.com/wp-content/uploads/2025/09/KStar_September_13.png
END:VEVENT
BEGIN:VEVENT
DTSTART;TZID=America/Chicago:20250913T160000
DTEND;TZID=America/Chicago:20250913T233000
DTSTAMP:20260421T062742
CREATED:20250818T133921Z
LAST-MODIFIED:20250818T133921Z
UID:10002124-1757779200-1757806200@kerrcalendar.com
SUMMARY:The Beginning: Rockin' to Rebuild
DESCRIPTION:The Rev 94.3\, JAM Broadcasting\, and Fischer’s Mini Mart Convenience Stores proudly present The Beginning: Rockin’ to Rebuild! \nJoin us Saturday\, September 13th at Roddy Tree Ranch’s Lazy Days Canteen & Starry Nights Amphitheater for an unforgettable evening of live music and community spirit! Gates open at 4 PM.\nEnjoy an incredible lineup featuring Jason Kane & The Jive\, FM Rodeo\, Honor Choir\, and very special guest JAY BOY ADAMS & the Friends.\n Tickets:\n$25 in advance or $80 for 4 tickets\n$30 at the gate/day of event\nGet your tickets today and help make a difference! Proceeds benefit the Kerr County Flood Relief Fund through The Community Foundation of the Texas Hill Country.\nAnd don’t forget — tune in weekday mornings from 7–10 AM to 94.3 The Rev for the Cody\, Coach\, Leslee & Friends show!
URL:https://kerrcalendar.com/event/the-beginning-rockin-to-rebuild/
LOCATION:Roddy Tree Ranch\, 830 TX-39\, Ingram\, 78025\, United States
CATEGORIES:Arts and Entertainment
ATTACH;FMTTYPE=image/jpeg:https://kerrcalendar.com/wp-content/uploads/2025/08/rocking-to-rebuild.jpg
END:VEVENT
END:VCALENDAR