BEGIN:VCALENDAR
VERSION:2.0
PRODID:-//Kerr Calendar - ECPv6.15.20//NONSGML v1.0//EN
CALSCALE:GREGORIAN
METHOD:PUBLISH
X-ORIGINAL-URL:https://kerrcalendar.com
X-WR-CALDESC:Events for Kerr Calendar
REFRESH-INTERVAL;VALUE=DURATION:PT1H
X-Robots-Tag:noindex
X-PUBLISHED-TTL:PT1H
BEGIN:VTIMEZONE
TZID:America/Chicago
BEGIN:DAYLIGHT
TZOFFSETFROM:-0600
TZOFFSETTO:-0500
TZNAME:CDT
DTSTART:20240310T080000
END:DAYLIGHT
BEGIN:STANDARD
TZOFFSETFROM:-0500
TZOFFSETTO:-0600
TZNAME:CST
DTSTART:20241103T070000
END:STANDARD
BEGIN:DAYLIGHT
TZOFFSETFROM:-0600
TZOFFSETTO:-0500
TZNAME:CDT
DTSTART:20250309T080000
END:DAYLIGHT
BEGIN:STANDARD
TZOFFSETFROM:-0500
TZOFFSETTO:-0600
TZNAME:CST
DTSTART:20251102T070000
END:STANDARD
BEGIN:DAYLIGHT
TZOFFSETFROM:-0600
TZOFFSETTO:-0500
TZNAME:CDT
DTSTART:20260308T080000
END:DAYLIGHT
BEGIN:STANDARD
TZOFFSETFROM:-0500
TZOFFSETTO:-0600
TZNAME:CST
DTSTART:20261101T070000
END:STANDARD
END:VTIMEZONE
BEGIN:VEVENT
DTSTART;TZID=America/Chicago:20251011T090000
DTEND;TZID=America/Chicago:20251011T160000
DTSTAMP:20260420T182550
CREATED:20250818T125540Z
LAST-MODIFIED:20250818T125540Z
UID:10002122-1760173200-1760198400@kerrcalendar.com
SUMMARY:Arcadia Live: Day of Play
DESCRIPTION:RISE & REBUILD SERIES\nPRESENTS KERR KIDS\nSATURDAY OCTOBER 11\, 2025\n\nGenerously sponsored by Sam Carroll CT Realty\n\nAs part of our FREE Rise & Rebuild series\, we hope to bring our local community together through the healing power of music and entertainment. This event will focus on the children of our community; featuring bounce houses\, live spins from DJ Michael with MBM Entertainment\, a craft zone\, a chill zone\, face painting\, and more!\n\n\n\nFor children 5 years old and under\n9 AM – 11 AM \n\nFor children 6 years old and up\n2 PM – 4 PM
URL:https://kerrcalendar.com/event/arcadia-live-day-of-play/
LOCATION:Arcadia Live\, 717 Water Street\, Kerrville\, TX\, 78028\, United States
CATEGORIES:Arts and Entertainment
ATTACH;FMTTYPE=image/jpeg:https://kerrcalendar.com/wp-content/uploads/2025/08/arcadia-dayplay.jpg
END:VEVENT
BEGIN:VEVENT
DTSTART;TZID=America/Chicago:20251011T100000
DTEND;TZID=America/Chicago:20251011T130000
DTSTAMP:20260420T182550
CREATED:20250722T202824Z
LAST-MODIFIED:20250722T202824Z
UID:10001164-1760176800-1760187600@kerrcalendar.com
SUMMARY:KPUB Bucket Truck Ride Event
DESCRIPTION:5th Annual KPUB Bucket Truck Ride Event\nWe’re thrilled to celebrate Public Power Week (October 5–11) with our amazing community!\nCome out and join the fun at our big celebration in Louise Hays Park on Saturday\, October 11\, from 10 a.m. to 1 p.m.\n What’s in Store: Bucket Truck Rides Face Painting  Free Hot Dogs\, Chips & Refreshments  T-Shirts & Giveaways  Coloring Contest Winners Announced  Unveiling & naming of KPUB’s NEW Mascot  Children’s Energy Education Station  Snow Cones Tool Displays…and more fun surprises for all ages!\nThis is a FREE event—bring the whole family while we celebrate public power with our community!\n Full details at kpub.com/publicpowerweek \nSee less
URL:https://kerrcalendar.com/event/kpub-bucket-truck-ride-event/
LOCATION:Louise Hays Park\, 202 Thompson Dr\, Kerrville\, 78028\, United States
CATEGORIES:Arts and Entertainment
ATTACH;FMTTYPE=image/jpeg:https://kerrcalendar.com/wp-content/uploads/2025/07/kpub-bucket.jpg
END:VEVENT
BEGIN:VEVENT
DTSTART;TZID=America/Chicago:20251025T100000
DTEND;TZID=America/Chicago:20251025T170000
DTSTAMP:20260420T182550
CREATED:20250722T203140Z
LAST-MODIFIED:20250722T203140Z
UID:10001165-1761386400-1761411600@kerrcalendar.com
SUMMARY:Water Street Festival
DESCRIPTION:Water Street Festival to Bring Art\, Music\, and Community Spirit toKerrville Historic Downtown Business Alliance\nKERRVILLE\, TEXAS – The Water Street Festival is a celebration of art\, music\, heritage and local culture\, set to take place in downtown Kerrville on October 25\, 2025. The new Festival is designedto bring people together and activate the historic Main Street district.\n“The Water Street Festival is more than a street fair — it’s a downtown block party celebrating Kerrville’s cultural heartbeat\,” said Delayne Sigerman\, Event Chair. “It connects local business\, artists\, neighbors\, and families for a shared experience of community pride.”\nSet in historic downtown and adjacent to shops and galleries\, the Festival offers a walkable and welcoming setting for all ages. Storefronts will extend their spaces into the streets for a curated day of pop-up shops\, music\, kid’s activities\, open-air food and drink tastings\, all full of local flavor and small-town charm.\nOne of the Festival’s attractions will be interactive plein air art. This 4-day painting competition begins with 50 talented artists from over the United States. Artists will paint within the constraints of time and sunlight. On the last day\, Saturday October 25th\, the public will be welcomed into the Kerr Arts & Cultural Center to see the results while the paintings are very fresh.\n“Lending a hand or sponsoring is a great way to support and be part of something meaningful.” remarked Lanza Teague\, Executive Director for Kerr Arts & Cultural Center and Festival Committee Member.\nThe Festival is powered by local volunteers\, and organizers are currently recruiting for support with the children’s parade and activities. Water Street Antiques is set to be the 2025 headline supporter. For sponsorship inquiries\, volunteer sign-up\, and vendor applications\, please contact waterstreetfestival@gmail.com. For event updates follow @downtownkerrville on Facebook and Instagram.
URL:https://kerrcalendar.com/event/water-street-festival/
LOCATION:Downtown Kerrville\, 201 Earl Garrett\, Kerrville\, 78028\, United States
CATEGORIES:Arts and Entertainment
ATTACH;FMTTYPE=image/jpeg:https://kerrcalendar.com/wp-content/uploads/2025/07/water-st-festival.jpg
END:VEVENT
END:VCALENDAR