BEGIN:VCALENDAR
VERSION:2.0
PRODID:-//Kerr Calendar - ECPv6.15.20//NONSGML v1.0//EN
CALSCALE:GREGORIAN
METHOD:PUBLISH
X-WR-CALNAME:Kerr Calendar
X-ORIGINAL-URL:https://kerrcalendar.com
X-WR-CALDESC:Events for Kerr Calendar
REFRESH-INTERVAL;VALUE=DURATION:PT1H
X-Robots-Tag:noindex
X-PUBLISHED-TTL:PT1H
BEGIN:VTIMEZONE
TZID:America/Chicago
BEGIN:DAYLIGHT
TZOFFSETFROM:-0600
TZOFFSETTO:-0500
TZNAME:CDT
DTSTART:20240310T080000
END:DAYLIGHT
BEGIN:STANDARD
TZOFFSETFROM:-0500
TZOFFSETTO:-0600
TZNAME:CST
DTSTART:20241103T070000
END:STANDARD
BEGIN:DAYLIGHT
TZOFFSETFROM:-0600
TZOFFSETTO:-0500
TZNAME:CDT
DTSTART:20250309T080000
END:DAYLIGHT
BEGIN:STANDARD
TZOFFSETFROM:-0500
TZOFFSETTO:-0600
TZNAME:CST
DTSTART:20251102T070000
END:STANDARD
BEGIN:DAYLIGHT
TZOFFSETFROM:-0600
TZOFFSETTO:-0500
TZNAME:CDT
DTSTART:20260308T080000
END:DAYLIGHT
BEGIN:STANDARD
TZOFFSETFROM:-0500
TZOFFSETTO:-0600
TZNAME:CST
DTSTART:20261101T070000
END:STANDARD
END:VTIMEZONE
BEGIN:VEVENT
DTSTART;TZID=America/Chicago:20250808T120000
DTEND;TZID=America/Chicago:20250808T150000
DTSTAMP:20260419T221415
CREATED:20250803T192222Z
LAST-MODIFIED:20250803T192222Z
UID:10001740-1754654400-1754665200@kerrcalendar.com
SUMMARY:Ghostbusters Back to School Party @ Doyle
DESCRIPTION:Come out to the Doyle Community Center Friday August 8th from noon – 3:00pm for some fun\, food\, and school supply distribution. FREE to everyone! Sponsored by Doyle Community Center\, Healthy Men Harvest Hope\, and Kerrville Ghostbusters. With special appearance by Ghostbusters SATX – San Antonio
URL:https://kerrcalendar.com/event/ghostbusters-back-to-school-party-doyle/
LOCATION:Doyle Community Center\, 110 W Barnett St\, Kerrville\, 78028\, United States
CATEGORIES:Arts and Entertainment
ATTACH;FMTTYPE=image/jpeg:https://kerrcalendar.com/wp-content/uploads/2025/08/ghostbusters.jpg
END:VEVENT
END:VCALENDAR