BEGIN:VCALENDAR
VERSION:2.0
PRODID:-//Kerr Calendar - ECPv6.15.20//NONSGML v1.0//EN
CALSCALE:GREGORIAN
METHOD:PUBLISH
X-ORIGINAL-URL:https://kerrcalendar.com
X-WR-CALDESC:Events for Kerr Calendar
REFRESH-INTERVAL;VALUE=DURATION:PT1H
X-Robots-Tag:noindex
X-PUBLISHED-TTL:PT1H
BEGIN:VTIMEZONE
TZID:America/Chicago
BEGIN:DAYLIGHT
TZOFFSETFROM:-0600
TZOFFSETTO:-0500
TZNAME:CDT
DTSTART:20240310T080000
END:DAYLIGHT
BEGIN:STANDARD
TZOFFSETFROM:-0500
TZOFFSETTO:-0600
TZNAME:CST
DTSTART:20241103T070000
END:STANDARD
BEGIN:DAYLIGHT
TZOFFSETFROM:-0600
TZOFFSETTO:-0500
TZNAME:CDT
DTSTART:20250309T080000
END:DAYLIGHT
BEGIN:STANDARD
TZOFFSETFROM:-0500
TZOFFSETTO:-0600
TZNAME:CST
DTSTART:20251102T070000
END:STANDARD
BEGIN:DAYLIGHT
TZOFFSETFROM:-0600
TZOFFSETTO:-0500
TZNAME:CDT
DTSTART:20260308T080000
END:DAYLIGHT
BEGIN:STANDARD
TZOFFSETFROM:-0500
TZOFFSETTO:-0600
TZNAME:CST
DTSTART:20261101T070000
END:STANDARD
END:VTIMEZONE
BEGIN:VEVENT
DTSTART;TZID=America/Chicago:20250908T113000
DTEND;TZID=America/Chicago:20250908T170000
DTSTAMP:20260420T212124
CREATED:20250908T153048Z
LAST-MODIFIED:20250908T153048Z
UID:10002151-1757331000-1757350800@kerrcalendar.com
SUMMARY:"A Round to Remember" Golf Tour
DESCRIPTION:This four-person scramble supports Dieter Center’s Dementia Care Advocates programs. There are multiple long drive prizes and a putting contest. \nFor More Information\nCall\n830-792-4044\nVisit Their Website\nhttp://www.dietertcenter.org\nE-Mail\npaigesumner@dietertcenter.org
URL:https://kerrcalendar.com/event/a-round-to-remember-golf-tour/
LOCATION:Riverhill Country Club\, 100 Riverhill Club Lane\, Kerrville\, Texas\, 78028\, United States
CATEGORIES:Nonprofits and Fundraisers,Sports
ATTACH;FMTTYPE=image/jpeg:https://kerrcalendar.com/wp-content/uploads/2025/09/qtq80-TIHGFx.jpeg
END:VEVENT
BEGIN:VEVENT
DTSTART;TZID=America/Chicago:20250920T090000
DTEND;TZID=America/Chicago:20250920T170000
DTSTAMP:20260420T212124
CREATED:20250908T152944Z
LAST-MODIFIED:20250908T152944Z
UID:10002150-1758358800-1758387600@kerrcalendar.com
SUMMARY:Lions Club 33rd Annual Golf Tournament
DESCRIPTION:All proceeds benefit the Texas Lions Camp in Kerrville for special needs children. Breakfast tacos and lunch provided. Prizes for team winners.\nFor More Information\nCall\n512-779.4166\nE-Mail\nroncurry312@gmail.com
URL:https://kerrcalendar.com/event/lions-club-33rd-annual-golf-tournament/
LOCATION:Scott Schreiner Golf Course\, 1 Country Club Drive\, Kerrville\, 78028\, United States
CATEGORIES:Nonprofits and Fundraisers,Sports
ATTACH;FMTTYPE=image/jpeg:https://kerrcalendar.com/wp-content/uploads/2025/09/qtq80-TIHGFx.jpeg
END:VEVENT
END:VCALENDAR