BEGIN:VCALENDAR
VERSION:2.0
PRODID:-//Kerr Calendar - ECPv6.15.20//NONSGML v1.0//EN
CALSCALE:GREGORIAN
METHOD:PUBLISH
X-ORIGINAL-URL:https://kerrcalendar.com
X-WR-CALDESC:Events for Kerr Calendar
REFRESH-INTERVAL;VALUE=DURATION:PT1H
X-Robots-Tag:noindex
X-PUBLISHED-TTL:PT1H
BEGIN:VTIMEZONE
TZID:America/Chicago
BEGIN:DAYLIGHT
TZOFFSETFROM:-0600
TZOFFSETTO:-0500
TZNAME:CDT
DTSTART:20270314T080000
END:DAYLIGHT
BEGIN:STANDARD
TZOFFSETFROM:-0500
TZOFFSETTO:-0600
TZNAME:CST
DTSTART:20271107T070000
END:STANDARD
BEGIN:DAYLIGHT
TZOFFSETFROM:-0600
TZOFFSETTO:-0500
TZNAME:CDT
DTSTART:20280312T080000
END:DAYLIGHT
BEGIN:STANDARD
TZOFFSETFROM:-0500
TZOFFSETTO:-0600
TZNAME:CST
DTSTART:20281105T070000
END:STANDARD
BEGIN:DAYLIGHT
TZOFFSETFROM:-0600
TZOFFSETTO:-0500
TZNAME:CDT
DTSTART:20290311T080000
END:DAYLIGHT
BEGIN:STANDARD
TZOFFSETFROM:-0500
TZOFFSETTO:-0600
TZNAME:CST
DTSTART:20291104T070000
END:STANDARD
END:VTIMEZONE
BEGIN:VEVENT
DTSTART;TZID=America/Chicago:20280517T110000
DTEND;TZID=America/Chicago:20280517T140000
DTSTAMP:20260420T002737
CREATED:20250720T131228Z
LAST-MODIFIED:20250720T131228Z
UID:10000668-1842174000-1842184800@kerrcalendar.com
SUMMARY:Friends of the Library Book Sale
DESCRIPTION:Book sale with used books at $1-$3 with some exceptions. Also for sale: CDs\, DVDs\, children’s books\, and collectibles.
URL:https://kerrcalendar.com/event/friends-of-the-library-book-sale/2028-05-17/
LOCATION:Butt-Holdsworth Memorial Library\, 505 Water St\, Kerrville\, TX\, 78028\, United States
CATEGORIES:Arts and Entertainment,Government and Civic
ATTACH;FMTTYPE=image/jpeg:https://kerrcalendar.com/wp-content/uploads/2025/07/qtq80-aByGrC.jpeg
END:VEVENT
BEGIN:VEVENT
DTSTART;TZID=America/Chicago:20280524T110000
DTEND;TZID=America/Chicago:20280524T140000
DTSTAMP:20260420T002737
CREATED:20250720T131228Z
LAST-MODIFIED:20250720T131228Z
UID:10000669-1842778800-1842789600@kerrcalendar.com
SUMMARY:Friends of the Library Book Sale
DESCRIPTION:Book sale with used books at $1-$3 with some exceptions. Also for sale: CDs\, DVDs\, children’s books\, and collectibles.
URL:https://kerrcalendar.com/event/friends-of-the-library-book-sale/2028-05-24/
LOCATION:Butt-Holdsworth Memorial Library\, 505 Water St\, Kerrville\, TX\, 78028\, United States
CATEGORIES:Arts and Entertainment,Government and Civic
ATTACH;FMTTYPE=image/jpeg:https://kerrcalendar.com/wp-content/uploads/2025/07/qtq80-aByGrC.jpeg
END:VEVENT
BEGIN:VEVENT
DTSTART;TZID=America/Chicago:20280531T110000
DTEND;TZID=America/Chicago:20280531T140000
DTSTAMP:20260420T002737
CREATED:20250720T131228Z
LAST-MODIFIED:20250720T131228Z
UID:10000670-1843383600-1843394400@kerrcalendar.com
SUMMARY:Friends of the Library Book Sale
DESCRIPTION:Book sale with used books at $1-$3 with some exceptions. Also for sale: CDs\, DVDs\, children’s books\, and collectibles.
URL:https://kerrcalendar.com/event/friends-of-the-library-book-sale/2028-05-31/
LOCATION:Butt-Holdsworth Memorial Library\, 505 Water St\, Kerrville\, TX\, 78028\, United States
CATEGORIES:Arts and Entertainment,Government and Civic
ATTACH;FMTTYPE=image/jpeg:https://kerrcalendar.com/wp-content/uploads/2025/07/qtq80-aByGrC.jpeg
END:VEVENT
BEGIN:VEVENT
DTSTART;TZID=America/Chicago:20280607T110000
DTEND;TZID=America/Chicago:20280607T140000
DTSTAMP:20260420T002737
CREATED:20250720T131228Z
LAST-MODIFIED:20250720T131228Z
UID:10000671-1843988400-1843999200@kerrcalendar.com
SUMMARY:Friends of the Library Book Sale
DESCRIPTION:Book sale with used books at $1-$3 with some exceptions. Also for sale: CDs\, DVDs\, children’s books\, and collectibles.
URL:https://kerrcalendar.com/event/friends-of-the-library-book-sale/2028-06-07/
LOCATION:Butt-Holdsworth Memorial Library\, 505 Water St\, Kerrville\, TX\, 78028\, United States
CATEGORIES:Arts and Entertainment,Government and Civic
ATTACH;FMTTYPE=image/jpeg:https://kerrcalendar.com/wp-content/uploads/2025/07/qtq80-aByGrC.jpeg
END:VEVENT
BEGIN:VEVENT
DTSTART;TZID=America/Chicago:20280614T110000
DTEND;TZID=America/Chicago:20280614T140000
DTSTAMP:20260420T002737
CREATED:20250720T131228Z
LAST-MODIFIED:20250720T131228Z
UID:10000672-1844593200-1844604000@kerrcalendar.com
SUMMARY:Friends of the Library Book Sale
DESCRIPTION:Book sale with used books at $1-$3 with some exceptions. Also for sale: CDs\, DVDs\, children’s books\, and collectibles.
URL:https://kerrcalendar.com/event/friends-of-the-library-book-sale/2028-06-14/
LOCATION:Butt-Holdsworth Memorial Library\, 505 Water St\, Kerrville\, TX\, 78028\, United States
CATEGORIES:Arts and Entertainment,Government and Civic
ATTACH;FMTTYPE=image/jpeg:https://kerrcalendar.com/wp-content/uploads/2025/07/qtq80-aByGrC.jpeg
END:VEVENT
BEGIN:VEVENT
DTSTART;TZID=America/Chicago:20280621T110000
DTEND;TZID=America/Chicago:20280621T140000
DTSTAMP:20260420T002737
CREATED:20250720T131228Z
LAST-MODIFIED:20250720T131228Z
UID:10000673-1845198000-1845208800@kerrcalendar.com
SUMMARY:Friends of the Library Book Sale
DESCRIPTION:Book sale with used books at $1-$3 with some exceptions. Also for sale: CDs\, DVDs\, children’s books\, and collectibles.
URL:https://kerrcalendar.com/event/friends-of-the-library-book-sale/2028-06-21/
LOCATION:Butt-Holdsworth Memorial Library\, 505 Water St\, Kerrville\, TX\, 78028\, United States
CATEGORIES:Arts and Entertainment,Government and Civic
ATTACH;FMTTYPE=image/jpeg:https://kerrcalendar.com/wp-content/uploads/2025/07/qtq80-aByGrC.jpeg
END:VEVENT
BEGIN:VEVENT
DTSTART;TZID=America/Chicago:20280628T110000
DTEND;TZID=America/Chicago:20280628T140000
DTSTAMP:20260420T002737
CREATED:20250720T131228Z
LAST-MODIFIED:20250720T131228Z
UID:10000674-1845802800-1845813600@kerrcalendar.com
SUMMARY:Friends of the Library Book Sale
DESCRIPTION:Book sale with used books at $1-$3 with some exceptions. Also for sale: CDs\, DVDs\, children’s books\, and collectibles.
URL:https://kerrcalendar.com/event/friends-of-the-library-book-sale/2028-06-28/
LOCATION:Butt-Holdsworth Memorial Library\, 505 Water St\, Kerrville\, TX\, 78028\, United States
CATEGORIES:Arts and Entertainment,Government and Civic
ATTACH;FMTTYPE=image/jpeg:https://kerrcalendar.com/wp-content/uploads/2025/07/qtq80-aByGrC.jpeg
END:VEVENT
BEGIN:VEVENT
DTSTART;TZID=America/Chicago:20280705T110000
DTEND;TZID=America/Chicago:20280705T140000
DTSTAMP:20260420T002737
CREATED:20250720T131228Z
LAST-MODIFIED:20250720T131228Z
UID:10000675-1846407600-1846418400@kerrcalendar.com
SUMMARY:Friends of the Library Book Sale
DESCRIPTION:Book sale with used books at $1-$3 with some exceptions. Also for sale: CDs\, DVDs\, children’s books\, and collectibles.
URL:https://kerrcalendar.com/event/friends-of-the-library-book-sale/2028-07-05/
LOCATION:Butt-Holdsworth Memorial Library\, 505 Water St\, Kerrville\, TX\, 78028\, United States
CATEGORIES:Arts and Entertainment,Government and Civic
ATTACH;FMTTYPE=image/jpeg:https://kerrcalendar.com/wp-content/uploads/2025/07/qtq80-aByGrC.jpeg
END:VEVENT
BEGIN:VEVENT
DTSTART;TZID=America/Chicago:20280712T110000
DTEND;TZID=America/Chicago:20280712T140000
DTSTAMP:20260420T002737
CREATED:20250720T131228Z
LAST-MODIFIED:20250720T131228Z
UID:10000676-1847012400-1847023200@kerrcalendar.com
SUMMARY:Friends of the Library Book Sale
DESCRIPTION:Book sale with used books at $1-$3 with some exceptions. Also for sale: CDs\, DVDs\, children’s books\, and collectibles.
URL:https://kerrcalendar.com/event/friends-of-the-library-book-sale/2028-07-12/
LOCATION:Butt-Holdsworth Memorial Library\, 505 Water St\, Kerrville\, TX\, 78028\, United States
CATEGORIES:Arts and Entertainment,Government and Civic
ATTACH;FMTTYPE=image/jpeg:https://kerrcalendar.com/wp-content/uploads/2025/07/qtq80-aByGrC.jpeg
END:VEVENT
BEGIN:VEVENT
DTSTART;TZID=America/Chicago:20280719T110000
DTEND;TZID=America/Chicago:20280719T140000
DTSTAMP:20260420T002737
CREATED:20250720T131228Z
LAST-MODIFIED:20250720T131228Z
UID:10000677-1847617200-1847628000@kerrcalendar.com
SUMMARY:Friends of the Library Book Sale
DESCRIPTION:Book sale with used books at $1-$3 with some exceptions. Also for sale: CDs\, DVDs\, children’s books\, and collectibles.
URL:https://kerrcalendar.com/event/friends-of-the-library-book-sale/2028-07-19/
LOCATION:Butt-Holdsworth Memorial Library\, 505 Water St\, Kerrville\, TX\, 78028\, United States
CATEGORIES:Arts and Entertainment,Government and Civic
ATTACH;FMTTYPE=image/jpeg:https://kerrcalendar.com/wp-content/uploads/2025/07/qtq80-aByGrC.jpeg
END:VEVENT
BEGIN:VEVENT
DTSTART;TZID=America/Chicago:20280726T110000
DTEND;TZID=America/Chicago:20280726T140000
DTSTAMP:20260420T002737
CREATED:20250720T131228Z
LAST-MODIFIED:20250720T131228Z
UID:10000678-1848222000-1848232800@kerrcalendar.com
SUMMARY:Friends of the Library Book Sale
DESCRIPTION:Book sale with used books at $1-$3 with some exceptions. Also for sale: CDs\, DVDs\, children’s books\, and collectibles.
URL:https://kerrcalendar.com/event/friends-of-the-library-book-sale/2028-07-26/
LOCATION:Butt-Holdsworth Memorial Library\, 505 Water St\, Kerrville\, TX\, 78028\, United States
CATEGORIES:Arts and Entertainment,Government and Civic
ATTACH;FMTTYPE=image/jpeg:https://kerrcalendar.com/wp-content/uploads/2025/07/qtq80-aByGrC.jpeg
END:VEVENT
BEGIN:VEVENT
DTSTART;TZID=America/Chicago:20280802T110000
DTEND;TZID=America/Chicago:20280802T140000
DTSTAMP:20260420T002737
CREATED:20250720T131228Z
LAST-MODIFIED:20250720T131228Z
UID:10000679-1848826800-1848837600@kerrcalendar.com
SUMMARY:Friends of the Library Book Sale
DESCRIPTION:Book sale with used books at $1-$3 with some exceptions. Also for sale: CDs\, DVDs\, children’s books\, and collectibles.
URL:https://kerrcalendar.com/event/friends-of-the-library-book-sale/2028-08-02/
LOCATION:Butt-Holdsworth Memorial Library\, 505 Water St\, Kerrville\, TX\, 78028\, United States
CATEGORIES:Arts and Entertainment,Government and Civic
ATTACH;FMTTYPE=image/jpeg:https://kerrcalendar.com/wp-content/uploads/2025/07/qtq80-aByGrC.jpeg
END:VEVENT
BEGIN:VEVENT
DTSTART;TZID=America/Chicago:20280809T110000
DTEND;TZID=America/Chicago:20280809T140000
DTSTAMP:20260420T002737
CREATED:20250720T131228Z
LAST-MODIFIED:20250720T131228Z
UID:10000680-1849431600-1849442400@kerrcalendar.com
SUMMARY:Friends of the Library Book Sale
DESCRIPTION:Book sale with used books at $1-$3 with some exceptions. Also for sale: CDs\, DVDs\, children’s books\, and collectibles.
URL:https://kerrcalendar.com/event/friends-of-the-library-book-sale/2028-08-09/
LOCATION:Butt-Holdsworth Memorial Library\, 505 Water St\, Kerrville\, TX\, 78028\, United States
CATEGORIES:Arts and Entertainment,Government and Civic
ATTACH;FMTTYPE=image/jpeg:https://kerrcalendar.com/wp-content/uploads/2025/07/qtq80-aByGrC.jpeg
END:VEVENT
BEGIN:VEVENT
DTSTART;TZID=America/Chicago:20280816T110000
DTEND;TZID=America/Chicago:20280816T140000
DTSTAMP:20260420T002737
CREATED:20250720T131228Z
LAST-MODIFIED:20250720T131228Z
UID:10000681-1850036400-1850047200@kerrcalendar.com
SUMMARY:Friends of the Library Book Sale
DESCRIPTION:Book sale with used books at $1-$3 with some exceptions. Also for sale: CDs\, DVDs\, children’s books\, and collectibles.
URL:https://kerrcalendar.com/event/friends-of-the-library-book-sale/2028-08-16/
LOCATION:Butt-Holdsworth Memorial Library\, 505 Water St\, Kerrville\, TX\, 78028\, United States
CATEGORIES:Arts and Entertainment,Government and Civic
ATTACH;FMTTYPE=image/jpeg:https://kerrcalendar.com/wp-content/uploads/2025/07/qtq80-aByGrC.jpeg
END:VEVENT
BEGIN:VEVENT
DTSTART;TZID=America/Chicago:20280823T110000
DTEND;TZID=America/Chicago:20280823T140000
DTSTAMP:20260420T002737
CREATED:20250720T131228Z
LAST-MODIFIED:20250720T131228Z
UID:10000682-1850641200-1850652000@kerrcalendar.com
SUMMARY:Friends of the Library Book Sale
DESCRIPTION:Book sale with used books at $1-$3 with some exceptions. Also for sale: CDs\, DVDs\, children’s books\, and collectibles.
URL:https://kerrcalendar.com/event/friends-of-the-library-book-sale/2028-08-23/
LOCATION:Butt-Holdsworth Memorial Library\, 505 Water St\, Kerrville\, TX\, 78028\, United States
CATEGORIES:Arts and Entertainment,Government and Civic
ATTACH;FMTTYPE=image/jpeg:https://kerrcalendar.com/wp-content/uploads/2025/07/qtq80-aByGrC.jpeg
END:VEVENT
BEGIN:VEVENT
DTSTART;TZID=America/Chicago:20280830T110000
DTEND;TZID=America/Chicago:20280830T140000
DTSTAMP:20260420T002737
CREATED:20250720T131228Z
LAST-MODIFIED:20250720T131228Z
UID:10000683-1851246000-1851256800@kerrcalendar.com
SUMMARY:Friends of the Library Book Sale
DESCRIPTION:Book sale with used books at $1-$3 with some exceptions. Also for sale: CDs\, DVDs\, children’s books\, and collectibles.
URL:https://kerrcalendar.com/event/friends-of-the-library-book-sale/2028-08-30/
LOCATION:Butt-Holdsworth Memorial Library\, 505 Water St\, Kerrville\, TX\, 78028\, United States
CATEGORIES:Arts and Entertainment,Government and Civic
ATTACH;FMTTYPE=image/jpeg:https://kerrcalendar.com/wp-content/uploads/2025/07/qtq80-aByGrC.jpeg
END:VEVENT
BEGIN:VEVENT
DTSTART;TZID=America/Chicago:20280906T110000
DTEND;TZID=America/Chicago:20280906T140000
DTSTAMP:20260420T002737
CREATED:20250720T131228Z
LAST-MODIFIED:20250720T131228Z
UID:10000684-1851850800-1851861600@kerrcalendar.com
SUMMARY:Friends of the Library Book Sale
DESCRIPTION:Book sale with used books at $1-$3 with some exceptions. Also for sale: CDs\, DVDs\, children’s books\, and collectibles.
URL:https://kerrcalendar.com/event/friends-of-the-library-book-sale/2028-09-06/
LOCATION:Butt-Holdsworth Memorial Library\, 505 Water St\, Kerrville\, TX\, 78028\, United States
CATEGORIES:Arts and Entertainment,Government and Civic
ATTACH;FMTTYPE=image/jpeg:https://kerrcalendar.com/wp-content/uploads/2025/07/qtq80-aByGrC.jpeg
END:VEVENT
BEGIN:VEVENT
DTSTART;TZID=America/Chicago:20280913T110000
DTEND;TZID=America/Chicago:20280913T140000
DTSTAMP:20260420T002737
CREATED:20250720T131228Z
LAST-MODIFIED:20250720T131228Z
UID:10000685-1852455600-1852466400@kerrcalendar.com
SUMMARY:Friends of the Library Book Sale
DESCRIPTION:Book sale with used books at $1-$3 with some exceptions. Also for sale: CDs\, DVDs\, children’s books\, and collectibles.
URL:https://kerrcalendar.com/event/friends-of-the-library-book-sale/2028-09-13/
LOCATION:Butt-Holdsworth Memorial Library\, 505 Water St\, Kerrville\, TX\, 78028\, United States
CATEGORIES:Arts and Entertainment,Government and Civic
ATTACH;FMTTYPE=image/jpeg:https://kerrcalendar.com/wp-content/uploads/2025/07/qtq80-aByGrC.jpeg
END:VEVENT
BEGIN:VEVENT
DTSTART;TZID=America/Chicago:20280920T110000
DTEND;TZID=America/Chicago:20280920T140000
DTSTAMP:20260420T002737
CREATED:20250720T131228Z
LAST-MODIFIED:20250720T131228Z
UID:10000686-1853060400-1853071200@kerrcalendar.com
SUMMARY:Friends of the Library Book Sale
DESCRIPTION:Book sale with used books at $1-$3 with some exceptions. Also for sale: CDs\, DVDs\, children’s books\, and collectibles.
URL:https://kerrcalendar.com/event/friends-of-the-library-book-sale/2028-09-20/
LOCATION:Butt-Holdsworth Memorial Library\, 505 Water St\, Kerrville\, TX\, 78028\, United States
CATEGORIES:Arts and Entertainment,Government and Civic
ATTACH;FMTTYPE=image/jpeg:https://kerrcalendar.com/wp-content/uploads/2025/07/qtq80-aByGrC.jpeg
END:VEVENT
BEGIN:VEVENT
DTSTART;TZID=America/Chicago:20280927T110000
DTEND;TZID=America/Chicago:20280927T140000
DTSTAMP:20260420T002737
CREATED:20250720T131228Z
LAST-MODIFIED:20250720T131228Z
UID:10000687-1853665200-1853676000@kerrcalendar.com
SUMMARY:Friends of the Library Book Sale
DESCRIPTION:Book sale with used books at $1-$3 with some exceptions. Also for sale: CDs\, DVDs\, children’s books\, and collectibles.
URL:https://kerrcalendar.com/event/friends-of-the-library-book-sale/2028-09-27/
LOCATION:Butt-Holdsworth Memorial Library\, 505 Water St\, Kerrville\, TX\, 78028\, United States
CATEGORIES:Arts and Entertainment,Government and Civic
ATTACH;FMTTYPE=image/jpeg:https://kerrcalendar.com/wp-content/uploads/2025/07/qtq80-aByGrC.jpeg
END:VEVENT
BEGIN:VEVENT
DTSTART;TZID=America/Chicago:20281004T110000
DTEND;TZID=America/Chicago:20281004T140000
DTSTAMP:20260420T002737
CREATED:20250720T131228Z
LAST-MODIFIED:20250720T131228Z
UID:10000688-1854270000-1854280800@kerrcalendar.com
SUMMARY:Friends of the Library Book Sale
DESCRIPTION:Book sale with used books at $1-$3 with some exceptions. Also for sale: CDs\, DVDs\, children’s books\, and collectibles.
URL:https://kerrcalendar.com/event/friends-of-the-library-book-sale/2028-10-04/
LOCATION:Butt-Holdsworth Memorial Library\, 505 Water St\, Kerrville\, TX\, 78028\, United States
CATEGORIES:Arts and Entertainment,Government and Civic
ATTACH;FMTTYPE=image/jpeg:https://kerrcalendar.com/wp-content/uploads/2025/07/qtq80-aByGrC.jpeg
END:VEVENT
BEGIN:VEVENT
DTSTART;TZID=America/Chicago:20281011T110000
DTEND;TZID=America/Chicago:20281011T140000
DTSTAMP:20260420T002737
CREATED:20250720T131228Z
LAST-MODIFIED:20250720T131228Z
UID:10000689-1854874800-1854885600@kerrcalendar.com
SUMMARY:Friends of the Library Book Sale
DESCRIPTION:Book sale with used books at $1-$3 with some exceptions. Also for sale: CDs\, DVDs\, children’s books\, and collectibles.
URL:https://kerrcalendar.com/event/friends-of-the-library-book-sale/2028-10-11/
LOCATION:Butt-Holdsworth Memorial Library\, 505 Water St\, Kerrville\, TX\, 78028\, United States
CATEGORIES:Arts and Entertainment,Government and Civic
ATTACH;FMTTYPE=image/jpeg:https://kerrcalendar.com/wp-content/uploads/2025/07/qtq80-aByGrC.jpeg
END:VEVENT
BEGIN:VEVENT
DTSTART;TZID=America/Chicago:20281018T110000
DTEND;TZID=America/Chicago:20281018T140000
DTSTAMP:20260420T002737
CREATED:20250720T131228Z
LAST-MODIFIED:20250720T131228Z
UID:10000690-1855479600-1855490400@kerrcalendar.com
SUMMARY:Friends of the Library Book Sale
DESCRIPTION:Book sale with used books at $1-$3 with some exceptions. Also for sale: CDs\, DVDs\, children’s books\, and collectibles.
URL:https://kerrcalendar.com/event/friends-of-the-library-book-sale/2028-10-18/
LOCATION:Butt-Holdsworth Memorial Library\, 505 Water St\, Kerrville\, TX\, 78028\, United States
CATEGORIES:Arts and Entertainment,Government and Civic
ATTACH;FMTTYPE=image/jpeg:https://kerrcalendar.com/wp-content/uploads/2025/07/qtq80-aByGrC.jpeg
END:VEVENT
BEGIN:VEVENT
DTSTART;TZID=America/Chicago:20281025T110000
DTEND;TZID=America/Chicago:20281025T140000
DTSTAMP:20260420T002737
CREATED:20250720T131228Z
LAST-MODIFIED:20250720T131228Z
UID:10000691-1856084400-1856095200@kerrcalendar.com
SUMMARY:Friends of the Library Book Sale
DESCRIPTION:Book sale with used books at $1-$3 with some exceptions. Also for sale: CDs\, DVDs\, children’s books\, and collectibles.
URL:https://kerrcalendar.com/event/friends-of-the-library-book-sale/2028-10-25/
LOCATION:Butt-Holdsworth Memorial Library\, 505 Water St\, Kerrville\, TX\, 78028\, United States
CATEGORIES:Arts and Entertainment,Government and Civic
ATTACH;FMTTYPE=image/jpeg:https://kerrcalendar.com/wp-content/uploads/2025/07/qtq80-aByGrC.jpeg
END:VEVENT
BEGIN:VEVENT
DTSTART;TZID=America/Chicago:20281101T110000
DTEND;TZID=America/Chicago:20281101T140000
DTSTAMP:20260420T002737
CREATED:20250720T131228Z
LAST-MODIFIED:20250720T131228Z
UID:10000692-1856689200-1856700000@kerrcalendar.com
SUMMARY:Friends of the Library Book Sale
DESCRIPTION:Book sale with used books at $1-$3 with some exceptions. Also for sale: CDs\, DVDs\, children’s books\, and collectibles.
URL:https://kerrcalendar.com/event/friends-of-the-library-book-sale/2028-11-01/
LOCATION:Butt-Holdsworth Memorial Library\, 505 Water St\, Kerrville\, TX\, 78028\, United States
CATEGORIES:Arts and Entertainment,Government and Civic
ATTACH;FMTTYPE=image/jpeg:https://kerrcalendar.com/wp-content/uploads/2025/07/qtq80-aByGrC.jpeg
END:VEVENT
BEGIN:VEVENT
DTSTART;TZID=America/Chicago:20281108T110000
DTEND;TZID=America/Chicago:20281108T140000
DTSTAMP:20260420T002737
CREATED:20250720T131228Z
LAST-MODIFIED:20250720T131228Z
UID:10000693-1857294000-1857304800@kerrcalendar.com
SUMMARY:Friends of the Library Book Sale
DESCRIPTION:Book sale with used books at $1-$3 with some exceptions. Also for sale: CDs\, DVDs\, children’s books\, and collectibles.
URL:https://kerrcalendar.com/event/friends-of-the-library-book-sale/2028-11-08/
LOCATION:Butt-Holdsworth Memorial Library\, 505 Water St\, Kerrville\, TX\, 78028\, United States
CATEGORIES:Arts and Entertainment,Government and Civic
ATTACH;FMTTYPE=image/jpeg:https://kerrcalendar.com/wp-content/uploads/2025/07/qtq80-aByGrC.jpeg
END:VEVENT
BEGIN:VEVENT
DTSTART;TZID=America/Chicago:20281115T110000
DTEND;TZID=America/Chicago:20281115T140000
DTSTAMP:20260420T002737
CREATED:20250720T131228Z
LAST-MODIFIED:20250720T131228Z
UID:10000694-1857898800-1857909600@kerrcalendar.com
SUMMARY:Friends of the Library Book Sale
DESCRIPTION:Book sale with used books at $1-$3 with some exceptions. Also for sale: CDs\, DVDs\, children’s books\, and collectibles.
URL:https://kerrcalendar.com/event/friends-of-the-library-book-sale/2028-11-15/
LOCATION:Butt-Holdsworth Memorial Library\, 505 Water St\, Kerrville\, TX\, 78028\, United States
CATEGORIES:Arts and Entertainment,Government and Civic
ATTACH;FMTTYPE=image/jpeg:https://kerrcalendar.com/wp-content/uploads/2025/07/qtq80-aByGrC.jpeg
END:VEVENT
BEGIN:VEVENT
DTSTART;TZID=America/Chicago:20281122T110000
DTEND;TZID=America/Chicago:20281122T140000
DTSTAMP:20260420T002737
CREATED:20250720T131228Z
LAST-MODIFIED:20250720T131228Z
UID:10000695-1858503600-1858514400@kerrcalendar.com
SUMMARY:Friends of the Library Book Sale
DESCRIPTION:Book sale with used books at $1-$3 with some exceptions. Also for sale: CDs\, DVDs\, children’s books\, and collectibles.
URL:https://kerrcalendar.com/event/friends-of-the-library-book-sale/2028-11-22/
LOCATION:Butt-Holdsworth Memorial Library\, 505 Water St\, Kerrville\, TX\, 78028\, United States
CATEGORIES:Arts and Entertainment,Government and Civic
ATTACH;FMTTYPE=image/jpeg:https://kerrcalendar.com/wp-content/uploads/2025/07/qtq80-aByGrC.jpeg
END:VEVENT
BEGIN:VEVENT
DTSTART;TZID=America/Chicago:20281129T110000
DTEND;TZID=America/Chicago:20281129T140000
DTSTAMP:20260420T002737
CREATED:20250720T131228Z
LAST-MODIFIED:20250720T131228Z
UID:10000696-1859108400-1859119200@kerrcalendar.com
SUMMARY:Friends of the Library Book Sale
DESCRIPTION:Book sale with used books at $1-$3 with some exceptions. Also for sale: CDs\, DVDs\, children’s books\, and collectibles.
URL:https://kerrcalendar.com/event/friends-of-the-library-book-sale/2028-11-29/
LOCATION:Butt-Holdsworth Memorial Library\, 505 Water St\, Kerrville\, TX\, 78028\, United States
CATEGORIES:Arts and Entertainment,Government and Civic
ATTACH;FMTTYPE=image/jpeg:https://kerrcalendar.com/wp-content/uploads/2025/07/qtq80-aByGrC.jpeg
END:VEVENT
BEGIN:VEVENT
DTSTART;TZID=America/Chicago:20281206T110000
DTEND;TZID=America/Chicago:20281206T140000
DTSTAMP:20260420T002737
CREATED:20250720T131228Z
LAST-MODIFIED:20250720T131228Z
UID:10000697-1859713200-1859724000@kerrcalendar.com
SUMMARY:Friends of the Library Book Sale
DESCRIPTION:Book sale with used books at $1-$3 with some exceptions. Also for sale: CDs\, DVDs\, children’s books\, and collectibles.
URL:https://kerrcalendar.com/event/friends-of-the-library-book-sale/2028-12-06/
LOCATION:Butt-Holdsworth Memorial Library\, 505 Water St\, Kerrville\, TX\, 78028\, United States
CATEGORIES:Arts and Entertainment,Government and Civic
ATTACH;FMTTYPE=image/jpeg:https://kerrcalendar.com/wp-content/uploads/2025/07/qtq80-aByGrC.jpeg
END:VEVENT
END:VCALENDAR