BEGIN:VCALENDAR
VERSION:2.0
PRODID:-//Kerr Calendar - ECPv6.15.20//NONSGML v1.0//EN
CALSCALE:GREGORIAN
METHOD:PUBLISH
X-WR-CALNAME:Kerr Calendar
X-ORIGINAL-URL:https://kerrcalendar.com
X-WR-CALDESC:Events for Kerr Calendar
REFRESH-INTERVAL;VALUE=DURATION:PT1H
X-Robots-Tag:noindex
X-PUBLISHED-TTL:PT1H
BEGIN:VTIMEZONE
TZID:America/Chicago
BEGIN:DAYLIGHT
TZOFFSETFROM:-0600
TZOFFSETTO:-0500
TZNAME:CDT
DTSTART:20280312T080000
END:DAYLIGHT
BEGIN:STANDARD
TZOFFSETFROM:-0500
TZOFFSETTO:-0600
TZNAME:CST
DTSTART:20281105T070000
END:STANDARD
BEGIN:DAYLIGHT
TZOFFSETFROM:-0600
TZOFFSETTO:-0500
TZNAME:CDT
DTSTART:20290311T080000
END:DAYLIGHT
BEGIN:STANDARD
TZOFFSETFROM:-0500
TZOFFSETTO:-0600
TZNAME:CST
DTSTART:20291104T070000
END:STANDARD
BEGIN:DAYLIGHT
TZOFFSETFROM:-0600
TZOFFSETTO:-0500
TZNAME:CDT
DTSTART:20300310T080000
END:DAYLIGHT
BEGIN:STANDARD
TZOFFSETFROM:-0500
TZOFFSETTO:-0600
TZNAME:CST
DTSTART:20301103T070000
END:STANDARD
BEGIN:DAYLIGHT
TZOFFSETFROM:-0600
TZOFFSETTO:-0500
TZNAME:CDT
DTSTART:20310309T080000
END:DAYLIGHT
BEGIN:STANDARD
TZOFFSETFROM:-0500
TZOFFSETTO:-0600
TZNAME:CST
DTSTART:20311102T070000
END:STANDARD
END:VTIMEZONE
BEGIN:VEVENT
DTSTART;TZID=America/Chicago:20291003T110000
DTEND;TZID=America/Chicago:20291003T140000
DTSTAMP:20260420T103612
CREATED:20250720T131228Z
LAST-MODIFIED:20250720T131228Z
UID:10000740-1885719600-1885730400@kerrcalendar.com
SUMMARY:Friends of the Library Book Sale
DESCRIPTION:Book sale with used books at $1-$3 with some exceptions. Also for sale: CDs\, DVDs\, children’s books\, and collectibles.
URL:https://kerrcalendar.com/event/friends-of-the-library-book-sale/2029-10-03/
LOCATION:Butt-Holdsworth Memorial Library\, 505 Water St\, Kerrville\, TX\, 78028\, United States
CATEGORIES:Arts and Entertainment,Government and Civic
ATTACH;FMTTYPE=image/jpeg:https://kerrcalendar.com/wp-content/uploads/2025/07/qtq80-aByGrC.jpeg
END:VEVENT
BEGIN:VEVENT
DTSTART;TZID=America/Chicago:20291010T110000
DTEND;TZID=America/Chicago:20291010T140000
DTSTAMP:20260420T103612
CREATED:20250720T131228Z
LAST-MODIFIED:20250720T131228Z
UID:10000741-1886324400-1886335200@kerrcalendar.com
SUMMARY:Friends of the Library Book Sale
DESCRIPTION:Book sale with used books at $1-$3 with some exceptions. Also for sale: CDs\, DVDs\, children’s books\, and collectibles.
URL:https://kerrcalendar.com/event/friends-of-the-library-book-sale/2029-10-10/
LOCATION:Butt-Holdsworth Memorial Library\, 505 Water St\, Kerrville\, TX\, 78028\, United States
CATEGORIES:Arts and Entertainment,Government and Civic
ATTACH;FMTTYPE=image/jpeg:https://kerrcalendar.com/wp-content/uploads/2025/07/qtq80-aByGrC.jpeg
END:VEVENT
BEGIN:VEVENT
DTSTART;TZID=America/Chicago:20291017T110000
DTEND;TZID=America/Chicago:20291017T140000
DTSTAMP:20260420T103612
CREATED:20250720T131228Z
LAST-MODIFIED:20250720T131228Z
UID:10000742-1886929200-1886940000@kerrcalendar.com
SUMMARY:Friends of the Library Book Sale
DESCRIPTION:Book sale with used books at $1-$3 with some exceptions. Also for sale: CDs\, DVDs\, children’s books\, and collectibles.
URL:https://kerrcalendar.com/event/friends-of-the-library-book-sale/2029-10-17/
LOCATION:Butt-Holdsworth Memorial Library\, 505 Water St\, Kerrville\, TX\, 78028\, United States
CATEGORIES:Arts and Entertainment,Government and Civic
ATTACH;FMTTYPE=image/jpeg:https://kerrcalendar.com/wp-content/uploads/2025/07/qtq80-aByGrC.jpeg
END:VEVENT
BEGIN:VEVENT
DTSTART;TZID=America/Chicago:20291024T110000
DTEND;TZID=America/Chicago:20291024T140000
DTSTAMP:20260420T103612
CREATED:20250720T131228Z
LAST-MODIFIED:20250720T131228Z
UID:10000743-1887534000-1887544800@kerrcalendar.com
SUMMARY:Friends of the Library Book Sale
DESCRIPTION:Book sale with used books at $1-$3 with some exceptions. Also for sale: CDs\, DVDs\, children’s books\, and collectibles.
URL:https://kerrcalendar.com/event/friends-of-the-library-book-sale/2029-10-24/
LOCATION:Butt-Holdsworth Memorial Library\, 505 Water St\, Kerrville\, TX\, 78028\, United States
CATEGORIES:Arts and Entertainment,Government and Civic
ATTACH;FMTTYPE=image/jpeg:https://kerrcalendar.com/wp-content/uploads/2025/07/qtq80-aByGrC.jpeg
END:VEVENT
BEGIN:VEVENT
DTSTART;TZID=America/Chicago:20291031T110000
DTEND;TZID=America/Chicago:20291031T140000
DTSTAMP:20260420T103612
CREATED:20250720T131228Z
LAST-MODIFIED:20250720T131228Z
UID:10000744-1888138800-1888149600@kerrcalendar.com
SUMMARY:Friends of the Library Book Sale
DESCRIPTION:Book sale with used books at $1-$3 with some exceptions. Also for sale: CDs\, DVDs\, children’s books\, and collectibles.
URL:https://kerrcalendar.com/event/friends-of-the-library-book-sale/2029-10-31/
LOCATION:Butt-Holdsworth Memorial Library\, 505 Water St\, Kerrville\, TX\, 78028\, United States
CATEGORIES:Arts and Entertainment,Government and Civic
ATTACH;FMTTYPE=image/jpeg:https://kerrcalendar.com/wp-content/uploads/2025/07/qtq80-aByGrC.jpeg
END:VEVENT
BEGIN:VEVENT
DTSTART;TZID=America/Chicago:20291107T110000
DTEND;TZID=America/Chicago:20291107T140000
DTSTAMP:20260420T103612
CREATED:20250720T131228Z
LAST-MODIFIED:20250720T131228Z
UID:10000745-1888743600-1888754400@kerrcalendar.com
SUMMARY:Friends of the Library Book Sale
DESCRIPTION:Book sale with used books at $1-$3 with some exceptions. Also for sale: CDs\, DVDs\, children’s books\, and collectibles.
URL:https://kerrcalendar.com/event/friends-of-the-library-book-sale/2029-11-07/
LOCATION:Butt-Holdsworth Memorial Library\, 505 Water St\, Kerrville\, TX\, 78028\, United States
CATEGORIES:Arts and Entertainment,Government and Civic
ATTACH;FMTTYPE=image/jpeg:https://kerrcalendar.com/wp-content/uploads/2025/07/qtq80-aByGrC.jpeg
END:VEVENT
BEGIN:VEVENT
DTSTART;TZID=America/Chicago:20291114T110000
DTEND;TZID=America/Chicago:20291114T140000
DTSTAMP:20260420T103612
CREATED:20250720T131228Z
LAST-MODIFIED:20250720T131228Z
UID:10000746-1889348400-1889359200@kerrcalendar.com
SUMMARY:Friends of the Library Book Sale
DESCRIPTION:Book sale with used books at $1-$3 with some exceptions. Also for sale: CDs\, DVDs\, children’s books\, and collectibles.
URL:https://kerrcalendar.com/event/friends-of-the-library-book-sale/2029-11-14/
LOCATION:Butt-Holdsworth Memorial Library\, 505 Water St\, Kerrville\, TX\, 78028\, United States
CATEGORIES:Arts and Entertainment,Government and Civic
ATTACH;FMTTYPE=image/jpeg:https://kerrcalendar.com/wp-content/uploads/2025/07/qtq80-aByGrC.jpeg
END:VEVENT
BEGIN:VEVENT
DTSTART;TZID=America/Chicago:20291121T110000
DTEND;TZID=America/Chicago:20291121T140000
DTSTAMP:20260420T103612
CREATED:20250720T131228Z
LAST-MODIFIED:20250720T131228Z
UID:10000747-1889953200-1889964000@kerrcalendar.com
SUMMARY:Friends of the Library Book Sale
DESCRIPTION:Book sale with used books at $1-$3 with some exceptions. Also for sale: CDs\, DVDs\, children’s books\, and collectibles.
URL:https://kerrcalendar.com/event/friends-of-the-library-book-sale/2029-11-21/
LOCATION:Butt-Holdsworth Memorial Library\, 505 Water St\, Kerrville\, TX\, 78028\, United States
CATEGORIES:Arts and Entertainment,Government and Civic
ATTACH;FMTTYPE=image/jpeg:https://kerrcalendar.com/wp-content/uploads/2025/07/qtq80-aByGrC.jpeg
END:VEVENT
BEGIN:VEVENT
DTSTART;TZID=America/Chicago:20291128T110000
DTEND;TZID=America/Chicago:20291128T140000
DTSTAMP:20260420T103612
CREATED:20250720T131228Z
LAST-MODIFIED:20250720T131228Z
UID:10000748-1890558000-1890568800@kerrcalendar.com
SUMMARY:Friends of the Library Book Sale
DESCRIPTION:Book sale with used books at $1-$3 with some exceptions. Also for sale: CDs\, DVDs\, children’s books\, and collectibles.
URL:https://kerrcalendar.com/event/friends-of-the-library-book-sale/2029-11-28/
LOCATION:Butt-Holdsworth Memorial Library\, 505 Water St\, Kerrville\, TX\, 78028\, United States
CATEGORIES:Arts and Entertainment,Government and Civic
ATTACH;FMTTYPE=image/jpeg:https://kerrcalendar.com/wp-content/uploads/2025/07/qtq80-aByGrC.jpeg
END:VEVENT
BEGIN:VEVENT
DTSTART;TZID=America/Chicago:20291205T110000
DTEND;TZID=America/Chicago:20291205T140000
DTSTAMP:20260420T103612
CREATED:20250720T131228Z
LAST-MODIFIED:20250720T131228Z
UID:10000749-1891162800-1891173600@kerrcalendar.com
SUMMARY:Friends of the Library Book Sale
DESCRIPTION:Book sale with used books at $1-$3 with some exceptions. Also for sale: CDs\, DVDs\, children’s books\, and collectibles.
URL:https://kerrcalendar.com/event/friends-of-the-library-book-sale/2029-12-05/
LOCATION:Butt-Holdsworth Memorial Library\, 505 Water St\, Kerrville\, TX\, 78028\, United States
CATEGORIES:Arts and Entertainment,Government and Civic
ATTACH;FMTTYPE=image/jpeg:https://kerrcalendar.com/wp-content/uploads/2025/07/qtq80-aByGrC.jpeg
END:VEVENT
BEGIN:VEVENT
DTSTART;TZID=America/Chicago:20291212T110000
DTEND;TZID=America/Chicago:20291212T140000
DTSTAMP:20260420T103612
CREATED:20250720T131228Z
LAST-MODIFIED:20250720T131228Z
UID:10000750-1891767600-1891778400@kerrcalendar.com
SUMMARY:Friends of the Library Book Sale
DESCRIPTION:Book sale with used books at $1-$3 with some exceptions. Also for sale: CDs\, DVDs\, children’s books\, and collectibles.
URL:https://kerrcalendar.com/event/friends-of-the-library-book-sale/2029-12-12/
LOCATION:Butt-Holdsworth Memorial Library\, 505 Water St\, Kerrville\, TX\, 78028\, United States
CATEGORIES:Arts and Entertainment,Government and Civic
ATTACH;FMTTYPE=image/jpeg:https://kerrcalendar.com/wp-content/uploads/2025/07/qtq80-aByGrC.jpeg
END:VEVENT
BEGIN:VEVENT
DTSTART;TZID=America/Chicago:20291219T110000
DTEND;TZID=America/Chicago:20291219T140000
DTSTAMP:20260420T103612
CREATED:20250720T131228Z
LAST-MODIFIED:20250720T131228Z
UID:10000751-1892372400-1892383200@kerrcalendar.com
SUMMARY:Friends of the Library Book Sale
DESCRIPTION:Book sale with used books at $1-$3 with some exceptions. Also for sale: CDs\, DVDs\, children’s books\, and collectibles.
URL:https://kerrcalendar.com/event/friends-of-the-library-book-sale/2029-12-19/
LOCATION:Butt-Holdsworth Memorial Library\, 505 Water St\, Kerrville\, TX\, 78028\, United States
CATEGORIES:Arts and Entertainment,Government and Civic
ATTACH;FMTTYPE=image/jpeg:https://kerrcalendar.com/wp-content/uploads/2025/07/qtq80-aByGrC.jpeg
END:VEVENT
BEGIN:VEVENT
DTSTART;TZID=America/Chicago:20291226T110000
DTEND;TZID=America/Chicago:20291226T140000
DTSTAMP:20260420T103612
CREATED:20250720T131228Z
LAST-MODIFIED:20250720T131228Z
UID:10000752-1892977200-1892988000@kerrcalendar.com
SUMMARY:Friends of the Library Book Sale
DESCRIPTION:Book sale with used books at $1-$3 with some exceptions. Also for sale: CDs\, DVDs\, children’s books\, and collectibles.
URL:https://kerrcalendar.com/event/friends-of-the-library-book-sale/2029-12-26/
LOCATION:Butt-Holdsworth Memorial Library\, 505 Water St\, Kerrville\, TX\, 78028\, United States
CATEGORIES:Arts and Entertainment,Government and Civic
ATTACH;FMTTYPE=image/jpeg:https://kerrcalendar.com/wp-content/uploads/2025/07/qtq80-aByGrC.jpeg
END:VEVENT
BEGIN:VEVENT
DTSTART;TZID=America/Chicago:20300102T110000
DTEND;TZID=America/Chicago:20300102T140000
DTSTAMP:20260420T103612
CREATED:20250720T131228Z
LAST-MODIFIED:20250720T131228Z
UID:10000753-1893582000-1893592800@kerrcalendar.com
SUMMARY:Friends of the Library Book Sale
DESCRIPTION:Book sale with used books at $1-$3 with some exceptions. Also for sale: CDs\, DVDs\, children’s books\, and collectibles.
URL:https://kerrcalendar.com/event/friends-of-the-library-book-sale/2030-01-02/
LOCATION:Butt-Holdsworth Memorial Library\, 505 Water St\, Kerrville\, TX\, 78028\, United States
CATEGORIES:Arts and Entertainment,Government and Civic
ATTACH;FMTTYPE=image/jpeg:https://kerrcalendar.com/wp-content/uploads/2025/07/qtq80-aByGrC.jpeg
END:VEVENT
BEGIN:VEVENT
DTSTART;TZID=America/Chicago:20300109T110000
DTEND;TZID=America/Chicago:20300109T140000
DTSTAMP:20260420T103612
CREATED:20250720T131228Z
LAST-MODIFIED:20250720T131228Z
UID:10000754-1894186800-1894197600@kerrcalendar.com
SUMMARY:Friends of the Library Book Sale
DESCRIPTION:Book sale with used books at $1-$3 with some exceptions. Also for sale: CDs\, DVDs\, children’s books\, and collectibles.
URL:https://kerrcalendar.com/event/friends-of-the-library-book-sale/2030-01-09/
LOCATION:Butt-Holdsworth Memorial Library\, 505 Water St\, Kerrville\, TX\, 78028\, United States
CATEGORIES:Arts and Entertainment,Government and Civic
ATTACH;FMTTYPE=image/jpeg:https://kerrcalendar.com/wp-content/uploads/2025/07/qtq80-aByGrC.jpeg
END:VEVENT
BEGIN:VEVENT
DTSTART;TZID=America/Chicago:20300116T110000
DTEND;TZID=America/Chicago:20300116T140000
DTSTAMP:20260420T103612
CREATED:20250720T131228Z
LAST-MODIFIED:20250720T131228Z
UID:10000755-1894791600-1894802400@kerrcalendar.com
SUMMARY:Friends of the Library Book Sale
DESCRIPTION:Book sale with used books at $1-$3 with some exceptions. Also for sale: CDs\, DVDs\, children’s books\, and collectibles.
URL:https://kerrcalendar.com/event/friends-of-the-library-book-sale/2030-01-16/
LOCATION:Butt-Holdsworth Memorial Library\, 505 Water St\, Kerrville\, TX\, 78028\, United States
CATEGORIES:Arts and Entertainment,Government and Civic
ATTACH;FMTTYPE=image/jpeg:https://kerrcalendar.com/wp-content/uploads/2025/07/qtq80-aByGrC.jpeg
END:VEVENT
BEGIN:VEVENT
DTSTART;TZID=America/Chicago:20300123T110000
DTEND;TZID=America/Chicago:20300123T140000
DTSTAMP:20260420T103612
CREATED:20250720T131228Z
LAST-MODIFIED:20250720T131228Z
UID:10000756-1895396400-1895407200@kerrcalendar.com
SUMMARY:Friends of the Library Book Sale
DESCRIPTION:Book sale with used books at $1-$3 with some exceptions. Also for sale: CDs\, DVDs\, children’s books\, and collectibles.
URL:https://kerrcalendar.com/event/friends-of-the-library-book-sale/2030-01-23/
LOCATION:Butt-Holdsworth Memorial Library\, 505 Water St\, Kerrville\, TX\, 78028\, United States
CATEGORIES:Arts and Entertainment,Government and Civic
ATTACH;FMTTYPE=image/jpeg:https://kerrcalendar.com/wp-content/uploads/2025/07/qtq80-aByGrC.jpeg
END:VEVENT
BEGIN:VEVENT
DTSTART;TZID=America/Chicago:20300130T110000
DTEND;TZID=America/Chicago:20300130T140000
DTSTAMP:20260420T103612
CREATED:20250720T131228Z
LAST-MODIFIED:20250720T131228Z
UID:10000757-1896001200-1896012000@kerrcalendar.com
SUMMARY:Friends of the Library Book Sale
DESCRIPTION:Book sale with used books at $1-$3 with some exceptions. Also for sale: CDs\, DVDs\, children’s books\, and collectibles.
URL:https://kerrcalendar.com/event/friends-of-the-library-book-sale/2030-01-30/
LOCATION:Butt-Holdsworth Memorial Library\, 505 Water St\, Kerrville\, TX\, 78028\, United States
CATEGORIES:Arts and Entertainment,Government and Civic
ATTACH;FMTTYPE=image/jpeg:https://kerrcalendar.com/wp-content/uploads/2025/07/qtq80-aByGrC.jpeg
END:VEVENT
BEGIN:VEVENT
DTSTART;TZID=America/Chicago:20300206T110000
DTEND;TZID=America/Chicago:20300206T140000
DTSTAMP:20260420T103612
CREATED:20250720T131228Z
LAST-MODIFIED:20250720T131228Z
UID:10000758-1896606000-1896616800@kerrcalendar.com
SUMMARY:Friends of the Library Book Sale
DESCRIPTION:Book sale with used books at $1-$3 with some exceptions. Also for sale: CDs\, DVDs\, children’s books\, and collectibles.
URL:https://kerrcalendar.com/event/friends-of-the-library-book-sale/2030-02-06/
LOCATION:Butt-Holdsworth Memorial Library\, 505 Water St\, Kerrville\, TX\, 78028\, United States
CATEGORIES:Arts and Entertainment,Government and Civic
ATTACH;FMTTYPE=image/jpeg:https://kerrcalendar.com/wp-content/uploads/2025/07/qtq80-aByGrC.jpeg
END:VEVENT
BEGIN:VEVENT
DTSTART;TZID=America/Chicago:20300213T110000
DTEND;TZID=America/Chicago:20300213T140000
DTSTAMP:20260420T103612
CREATED:20250720T131228Z
LAST-MODIFIED:20250720T131228Z
UID:10000759-1897210800-1897221600@kerrcalendar.com
SUMMARY:Friends of the Library Book Sale
DESCRIPTION:Book sale with used books at $1-$3 with some exceptions. Also for sale: CDs\, DVDs\, children’s books\, and collectibles.
URL:https://kerrcalendar.com/event/friends-of-the-library-book-sale/2030-02-13/
LOCATION:Butt-Holdsworth Memorial Library\, 505 Water St\, Kerrville\, TX\, 78028\, United States
CATEGORIES:Arts and Entertainment,Government and Civic
ATTACH;FMTTYPE=image/jpeg:https://kerrcalendar.com/wp-content/uploads/2025/07/qtq80-aByGrC.jpeg
END:VEVENT
BEGIN:VEVENT
DTSTART;TZID=America/Chicago:20300220T110000
DTEND;TZID=America/Chicago:20300220T140000
DTSTAMP:20260420T103612
CREATED:20250720T131228Z
LAST-MODIFIED:20250720T131228Z
UID:10000760-1897815600-1897826400@kerrcalendar.com
SUMMARY:Friends of the Library Book Sale
DESCRIPTION:Book sale with used books at $1-$3 with some exceptions. Also for sale: CDs\, DVDs\, children’s books\, and collectibles.
URL:https://kerrcalendar.com/event/friends-of-the-library-book-sale/2030-02-20/
LOCATION:Butt-Holdsworth Memorial Library\, 505 Water St\, Kerrville\, TX\, 78028\, United States
CATEGORIES:Arts and Entertainment,Government and Civic
ATTACH;FMTTYPE=image/jpeg:https://kerrcalendar.com/wp-content/uploads/2025/07/qtq80-aByGrC.jpeg
END:VEVENT
BEGIN:VEVENT
DTSTART;TZID=America/Chicago:20300227T110000
DTEND;TZID=America/Chicago:20300227T140000
DTSTAMP:20260420T103612
CREATED:20250720T131228Z
LAST-MODIFIED:20250720T131228Z
UID:10000761-1898420400-1898431200@kerrcalendar.com
SUMMARY:Friends of the Library Book Sale
DESCRIPTION:Book sale with used books at $1-$3 with some exceptions. Also for sale: CDs\, DVDs\, children’s books\, and collectibles.
URL:https://kerrcalendar.com/event/friends-of-the-library-book-sale/2030-02-27/
LOCATION:Butt-Holdsworth Memorial Library\, 505 Water St\, Kerrville\, TX\, 78028\, United States
CATEGORIES:Arts and Entertainment,Government and Civic
ATTACH;FMTTYPE=image/jpeg:https://kerrcalendar.com/wp-content/uploads/2025/07/qtq80-aByGrC.jpeg
END:VEVENT
BEGIN:VEVENT
DTSTART;TZID=America/Chicago:20300306T110000
DTEND;TZID=America/Chicago:20300306T140000
DTSTAMP:20260420T103612
CREATED:20250720T131228Z
LAST-MODIFIED:20250720T131228Z
UID:10000762-1899025200-1899036000@kerrcalendar.com
SUMMARY:Friends of the Library Book Sale
DESCRIPTION:Book sale with used books at $1-$3 with some exceptions. Also for sale: CDs\, DVDs\, children’s books\, and collectibles.
URL:https://kerrcalendar.com/event/friends-of-the-library-book-sale/2030-03-06/
LOCATION:Butt-Holdsworth Memorial Library\, 505 Water St\, Kerrville\, TX\, 78028\, United States
CATEGORIES:Arts and Entertainment,Government and Civic
ATTACH;FMTTYPE=image/jpeg:https://kerrcalendar.com/wp-content/uploads/2025/07/qtq80-aByGrC.jpeg
END:VEVENT
BEGIN:VEVENT
DTSTART;TZID=America/Chicago:20300313T110000
DTEND;TZID=America/Chicago:20300313T140000
DTSTAMP:20260420T103612
CREATED:20250720T131228Z
LAST-MODIFIED:20250720T131228Z
UID:10000763-1899630000-1899640800@kerrcalendar.com
SUMMARY:Friends of the Library Book Sale
DESCRIPTION:Book sale with used books at $1-$3 with some exceptions. Also for sale: CDs\, DVDs\, children’s books\, and collectibles.
URL:https://kerrcalendar.com/event/friends-of-the-library-book-sale/2030-03-13/
LOCATION:Butt-Holdsworth Memorial Library\, 505 Water St\, Kerrville\, TX\, 78028\, United States
CATEGORIES:Arts and Entertainment,Government and Civic
ATTACH;FMTTYPE=image/jpeg:https://kerrcalendar.com/wp-content/uploads/2025/07/qtq80-aByGrC.jpeg
END:VEVENT
BEGIN:VEVENT
DTSTART;TZID=America/Chicago:20300320T110000
DTEND;TZID=America/Chicago:20300320T140000
DTSTAMP:20260420T103612
CREATED:20250720T131228Z
LAST-MODIFIED:20250720T131228Z
UID:10000764-1900234800-1900245600@kerrcalendar.com
SUMMARY:Friends of the Library Book Sale
DESCRIPTION:Book sale with used books at $1-$3 with some exceptions. Also for sale: CDs\, DVDs\, children’s books\, and collectibles.
URL:https://kerrcalendar.com/event/friends-of-the-library-book-sale/2030-03-20/
LOCATION:Butt-Holdsworth Memorial Library\, 505 Water St\, Kerrville\, TX\, 78028\, United States
CATEGORIES:Arts and Entertainment,Government and Civic
ATTACH;FMTTYPE=image/jpeg:https://kerrcalendar.com/wp-content/uploads/2025/07/qtq80-aByGrC.jpeg
END:VEVENT
BEGIN:VEVENT
DTSTART;TZID=America/Chicago:20300327T110000
DTEND;TZID=America/Chicago:20300327T140000
DTSTAMP:20260420T103612
CREATED:20250720T131228Z
LAST-MODIFIED:20250720T131228Z
UID:10000765-1900839600-1900850400@kerrcalendar.com
SUMMARY:Friends of the Library Book Sale
DESCRIPTION:Book sale with used books at $1-$3 with some exceptions. Also for sale: CDs\, DVDs\, children’s books\, and collectibles.
URL:https://kerrcalendar.com/event/friends-of-the-library-book-sale/2030-03-27/
LOCATION:Butt-Holdsworth Memorial Library\, 505 Water St\, Kerrville\, TX\, 78028\, United States
CATEGORIES:Arts and Entertainment,Government and Civic
ATTACH;FMTTYPE=image/jpeg:https://kerrcalendar.com/wp-content/uploads/2025/07/qtq80-aByGrC.jpeg
END:VEVENT
BEGIN:VEVENT
DTSTART;TZID=America/Chicago:20300403T110000
DTEND;TZID=America/Chicago:20300403T140000
DTSTAMP:20260420T103612
CREATED:20250720T131228Z
LAST-MODIFIED:20250720T131228Z
UID:10000766-1901444400-1901455200@kerrcalendar.com
SUMMARY:Friends of the Library Book Sale
DESCRIPTION:Book sale with used books at $1-$3 with some exceptions. Also for sale: CDs\, DVDs\, children’s books\, and collectibles.
URL:https://kerrcalendar.com/event/friends-of-the-library-book-sale/2030-04-03/
LOCATION:Butt-Holdsworth Memorial Library\, 505 Water St\, Kerrville\, TX\, 78028\, United States
CATEGORIES:Arts and Entertainment,Government and Civic
ATTACH;FMTTYPE=image/jpeg:https://kerrcalendar.com/wp-content/uploads/2025/07/qtq80-aByGrC.jpeg
END:VEVENT
BEGIN:VEVENT
DTSTART;TZID=America/Chicago:20300410T110000
DTEND;TZID=America/Chicago:20300410T140000
DTSTAMP:20260420T103612
CREATED:20250720T131228Z
LAST-MODIFIED:20250720T131228Z
UID:10000767-1902049200-1902060000@kerrcalendar.com
SUMMARY:Friends of the Library Book Sale
DESCRIPTION:Book sale with used books at $1-$3 with some exceptions. Also for sale: CDs\, DVDs\, children’s books\, and collectibles.
URL:https://kerrcalendar.com/event/friends-of-the-library-book-sale/2030-04-10/
LOCATION:Butt-Holdsworth Memorial Library\, 505 Water St\, Kerrville\, TX\, 78028\, United States
CATEGORIES:Arts and Entertainment,Government and Civic
ATTACH;FMTTYPE=image/jpeg:https://kerrcalendar.com/wp-content/uploads/2025/07/qtq80-aByGrC.jpeg
END:VEVENT
BEGIN:VEVENT
DTSTART;TZID=America/Chicago:20300417T110000
DTEND;TZID=America/Chicago:20300417T140000
DTSTAMP:20260420T103612
CREATED:20250720T131228Z
LAST-MODIFIED:20250720T131228Z
UID:10000768-1902654000-1902664800@kerrcalendar.com
SUMMARY:Friends of the Library Book Sale
DESCRIPTION:Book sale with used books at $1-$3 with some exceptions. Also for sale: CDs\, DVDs\, children’s books\, and collectibles.
URL:https://kerrcalendar.com/event/friends-of-the-library-book-sale/2030-04-17/
LOCATION:Butt-Holdsworth Memorial Library\, 505 Water St\, Kerrville\, TX\, 78028\, United States
CATEGORIES:Arts and Entertainment,Government and Civic
ATTACH;FMTTYPE=image/jpeg:https://kerrcalendar.com/wp-content/uploads/2025/07/qtq80-aByGrC.jpeg
END:VEVENT
BEGIN:VEVENT
DTSTART;TZID=America/Chicago:20300424T110000
DTEND;TZID=America/Chicago:20300424T140000
DTSTAMP:20260420T103612
CREATED:20250720T131228Z
LAST-MODIFIED:20250720T131228Z
UID:10000769-1903258800-1903269600@kerrcalendar.com
SUMMARY:Friends of the Library Book Sale
DESCRIPTION:Book sale with used books at $1-$3 with some exceptions. Also for sale: CDs\, DVDs\, children’s books\, and collectibles.
URL:https://kerrcalendar.com/event/friends-of-the-library-book-sale/2030-04-24/
LOCATION:Butt-Holdsworth Memorial Library\, 505 Water St\, Kerrville\, TX\, 78028\, United States
CATEGORIES:Arts and Entertainment,Government and Civic
ATTACH;FMTTYPE=image/jpeg:https://kerrcalendar.com/wp-content/uploads/2025/07/qtq80-aByGrC.jpeg
END:VEVENT
END:VCALENDAR