BEGIN:VCALENDAR
VERSION:2.0
PRODID:-//Kerr Calendar - ECPv6.15.20//NONSGML v1.0//EN
CALSCALE:GREGORIAN
METHOD:PUBLISH
X-WR-CALNAME:Kerr Calendar
X-ORIGINAL-URL:https://kerrcalendar.com
X-WR-CALDESC:Events for Kerr Calendar
REFRESH-INTERVAL;VALUE=DURATION:PT1H
X-Robots-Tag:noindex
X-PUBLISHED-TTL:PT1H
BEGIN:VTIMEZONE
TZID:America/Chicago
BEGIN:DAYLIGHT
TZOFFSETFROM:-0600
TZOFFSETTO:-0500
TZNAME:CDT
DTSTART:20240310T080000
END:DAYLIGHT
BEGIN:STANDARD
TZOFFSETFROM:-0500
TZOFFSETTO:-0600
TZNAME:CST
DTSTART:20241103T070000
END:STANDARD
BEGIN:DAYLIGHT
TZOFFSETFROM:-0600
TZOFFSETTO:-0500
TZNAME:CDT
DTSTART:20250309T080000
END:DAYLIGHT
BEGIN:STANDARD
TZOFFSETFROM:-0500
TZOFFSETTO:-0600
TZNAME:CST
DTSTART:20251102T070000
END:STANDARD
BEGIN:DAYLIGHT
TZOFFSETFROM:-0600
TZOFFSETTO:-0500
TZNAME:CDT
DTSTART:20260308T080000
END:DAYLIGHT
BEGIN:STANDARD
TZOFFSETFROM:-0500
TZOFFSETTO:-0600
TZNAME:CST
DTSTART:20261101T070000
END:STANDARD
BEGIN:DAYLIGHT
TZOFFSETFROM:-0600
TZOFFSETTO:-0500
TZNAME:CDT
DTSTART:20270314T080000
END:DAYLIGHT
BEGIN:STANDARD
TZOFFSETFROM:-0500
TZOFFSETTO:-0600
TZNAME:CST
DTSTART:20271107T070000
END:STANDARD
END:VTIMEZONE
BEGIN:VEVENT
DTSTART;VALUE=DATE:20260411
DTEND;VALUE=DATE:20260412
DTSTAMP:20260419T221417
CREATED:20250811T175346Z
LAST-MODIFIED:20250811T175346Z
UID:10002121-1775865600-1775951999@kerrcalendar.com
SUMMARY:Hill Country Charity Ball
DESCRIPTION:Details TBD
URL:https://kerrcalendar.com/event/hill-country-charity-ball/
CATEGORIES:Nonprofits and Fundraisers
ATTACH;FMTTYPE=image/png:https://kerrcalendar.com/wp-content/uploads/2025/08/yates5087_glitzy_western_cowboy_boots_on_a_dance_floor_-v_7_1db13c32-4b92-4200-a50d-a296c4088555_2.png
END:VEVENT
BEGIN:VEVENT
DTSTART;TZID=America/Chicago:20250808T120000
DTEND;TZID=America/Chicago:20250808T150000
DTSTAMP:20260419T221417
CREATED:20250803T192222Z
LAST-MODIFIED:20250803T192222Z
UID:10001740-1754654400-1754665200@kerrcalendar.com
SUMMARY:Ghostbusters Back to School Party @ Doyle
DESCRIPTION:Come out to the Doyle Community Center Friday August 8th from noon – 3:00pm for some fun\, food\, and school supply distribution. FREE to everyone! Sponsored by Doyle Community Center\, Healthy Men Harvest Hope\, and Kerrville Ghostbusters. With special appearance by Ghostbusters SATX – San Antonio
URL:https://kerrcalendar.com/event/ghostbusters-back-to-school-party-doyle/
LOCATION:Doyle Community Center\, 110 W Barnett St\, Kerrville\, 78028\, United States
CATEGORIES:Arts and Entertainment
ATTACH;FMTTYPE=image/jpeg:https://kerrcalendar.com/wp-content/uploads/2025/08/ghostbusters.jpg
END:VEVENT
BEGIN:VEVENT
DTSTART;TZID=America/Chicago:20250726T160000
DTEND;TZID=America/Chicago:20250726T190000
DTSTAMP:20260419T221417
CREATED:20250724T133828Z
LAST-MODIFIED:20250724T133828Z
UID:10001376-1753545600-1753556400@kerrcalendar.com
SUMMARY:Texas Roundup Animal Alliance Birthday Party
DESCRIPTION:Join us for a tail-waggin’ good time! We know there’s a lot going on right now with flood recovery—but sometimes\, a little down time (and dog time!) is just what the soul needs.  Join us this Saturday from 4–7 PM Tailchasers Patio + PubCelebrating TRUAA’s 7th Anniversary of Saving Lives!Come enjoy an evening full of fun\, fur\, and festivities as we raise a paw to 7 incredible years of rescue—and all the lives saved along the way. Bring your pup\, bring your friends\, and help us celebrate the journey that wouldn’t be possible without YOU.  Kerrville Dog Spa — Nail Trims by Donation Door Prizes Cupcakes for the Humans Donated by Cardoshinsky Confections Treats for the Pups Doggie Art — your pup can create their own masterpiece! $5 DonationAll proceeds benefit TRUAA and our continued rescue efforts. Hope to see y’all there!
URL:https://kerrcalendar.com/event/texas-roundup-animal-alliance-birthday-party/
LOCATION:Tailchasers Patio & Pub\, 516 Jefferson St\, Kerrville\, 78028\, United States
CATEGORIES:Nonprofits and Fundraisers
ATTACH;FMTTYPE=image/jpeg:https://kerrcalendar.com/wp-content/uploads/2025/07/truaa.jpg
END:VEVENT
END:VCALENDAR