BEGIN:VCALENDAR
VERSION:2.0
PRODID:-//Kerr Calendar - ECPv6.15.20//NONSGML v1.0//EN
CALSCALE:GREGORIAN
METHOD:PUBLISH
X-WR-CALNAME:Kerr Calendar
X-ORIGINAL-URL:https://kerrcalendar.com
X-WR-CALDESC:Events for Kerr Calendar
REFRESH-INTERVAL;VALUE=DURATION:PT1H
X-Robots-Tag:noindex
X-PUBLISHED-TTL:PT1H
BEGIN:VTIMEZONE
TZID:America/Chicago
BEGIN:DAYLIGHT
TZOFFSETFROM:-0600
TZOFFSETTO:-0500
TZNAME:CDT
DTSTART:20240310T080000
END:DAYLIGHT
BEGIN:STANDARD
TZOFFSETFROM:-0500
TZOFFSETTO:-0600
TZNAME:CST
DTSTART:20241103T070000
END:STANDARD
BEGIN:DAYLIGHT
TZOFFSETFROM:-0600
TZOFFSETTO:-0500
TZNAME:CDT
DTSTART:20250309T080000
END:DAYLIGHT
BEGIN:STANDARD
TZOFFSETFROM:-0500
TZOFFSETTO:-0600
TZNAME:CST
DTSTART:20251102T070000
END:STANDARD
BEGIN:DAYLIGHT
TZOFFSETFROM:-0600
TZOFFSETTO:-0500
TZNAME:CDT
DTSTART:20260308T080000
END:DAYLIGHT
BEGIN:STANDARD
TZOFFSETFROM:-0500
TZOFFSETTO:-0600
TZNAME:CST
DTSTART:20261101T070000
END:STANDARD
END:VTIMEZONE
BEGIN:VEVENT
DTSTART;TZID=America/Chicago:20250913T100000
DTEND;TZID=America/Chicago:20250913T170000
DTSTAMP:20260420T234221
CREATED:20250908T152735Z
LAST-MODIFIED:20250908T152753Z
UID:10002149-1757757600-1757782800@kerrcalendar.com
SUMMARY:Basketball Knock-Out Tournament
DESCRIPTION:Grab your friends and join us for the Kerrville Parks and Recreation Department’s Basketball Knock-Out Tournament. The tournament will be hosted at Carver Park. Prizes will be awarded to tournament winners\, to be determined. Groups will be separated by age. \nPre-Registration Deadline: September 11\, 2025 \nOn-Site Registration: Starting at 9:00 a.m. on September 13\, 2025 \nDate: September 13\, 2025 – 10:00 A.M. \nLocation: Carver Park\, 820 Webster Ave \nFee: $15 \nThe Tournament will be broken down into these age groups: \n\n7-9 year olds\n10-12 year olds\n13-15 year olds\n16 & Up
URL:https://kerrcalendar.com/event/basketball-knock-out-tournament/
CATEGORIES:Sports
ATTACH;FMTTYPE=image/png:https://kerrcalendar.com/wp-content/uploads/2025/09/carver.png
END:VEVENT
END:VCALENDAR