BEGIN:VCALENDAR
VERSION:2.0
PRODID:-//Kerr Calendar - ECPv6.15.20//NONSGML v1.0//EN
CALSCALE:GREGORIAN
METHOD:PUBLISH
X-ORIGINAL-URL:https://kerrcalendar.com
X-WR-CALDESC:Events for Kerr Calendar
REFRESH-INTERVAL;VALUE=DURATION:PT1H
X-Robots-Tag:noindex
X-PUBLISHED-TTL:PT1H
BEGIN:VTIMEZONE
TZID:America/Chicago
BEGIN:DAYLIGHT
TZOFFSETFROM:-0600
TZOFFSETTO:-0500
TZNAME:CDT
DTSTART:20240310T080000
END:DAYLIGHT
BEGIN:STANDARD
TZOFFSETFROM:-0500
TZOFFSETTO:-0600
TZNAME:CST
DTSTART:20241103T070000
END:STANDARD
BEGIN:DAYLIGHT
TZOFFSETFROM:-0600
TZOFFSETTO:-0500
TZNAME:CDT
DTSTART:20250309T080000
END:DAYLIGHT
BEGIN:STANDARD
TZOFFSETFROM:-0500
TZOFFSETTO:-0600
TZNAME:CST
DTSTART:20251102T070000
END:STANDARD
BEGIN:DAYLIGHT
TZOFFSETFROM:-0600
TZOFFSETTO:-0500
TZNAME:CDT
DTSTART:20260308T080000
END:DAYLIGHT
BEGIN:STANDARD
TZOFFSETFROM:-0500
TZOFFSETTO:-0600
TZNAME:CST
DTSTART:20261101T070000
END:STANDARD
END:VTIMEZONE
BEGIN:VEVENT
DTSTART;TZID=America/Chicago:20250718T090000
DTEND;TZID=America/Chicago:20250720T160000
DTSTAMP:20260420T023503
CREATED:20250724T231425Z
LAST-MODIFIED:20250724T231425Z
UID:10001379-1752829200-1753027200@kerrcalendar.com
SUMMARY:Fredericksburg Trade Days
DESCRIPTION:Fredericksburg Trade Days is a Texas Hill Country shopping experience like no other. Held the third weekend of each month\, you’ll find acres of shopping\, food\, drinks\, and live music. They include 7 barns & acres of antiques\, collectibles\, tools\, crafts\, shabby chic\, primitives\, ranch furniture\, hunting accessories\, candles\, unique clothing\, jewelry\, food and so much more.
URL:https://kerrcalendar.com/event/fredericksburg-trade-days/2025-07-18/
LOCATION:Fredericksburg Trade Days\, 355 Sunday Farms Rd\, Fredericksburg\, United States
CATEGORIES:Arts and Entertainment
ATTACH;FMTTYPE=image/jpeg:https://kerrcalendar.com/wp-content/uploads/2025/07/logobw.jpg
END:VEVENT
BEGIN:VEVENT
DTSTART;TZID=America/Chicago:20250719T110000
DTEND;TZID=America/Chicago:20250719T160000
DTSTAMP:20260420T023503
CREATED:20250719T150931Z
LAST-MODIFIED:20250719T150931Z
UID:10000002-1752922800-1752940800@kerrcalendar.com
SUMMARY:Kid Fest
DESCRIPTION:DOORS (for ages 18 months- 5): 11am – 1pm\nDOORS (for ages 6 and up) 2pm – 4pm\nDue to the recent flooding events around Kerr County and the Texas Hill Country\, Kids Fest tickets are now complementary. RESERVATIONS REQUESTED. See ticket link for details.\nKids 2 and under get in FREE\nAdults and children both need a reservation.\nEach reservation includes face painting and a pizza lunch.\nKick off summer with the whole family at Arcadia\, with bounce houses\, live spins from DJ Michael with MBM Entertainment\, a pizza lunch provided with every ticket\, bubbles\, activities and games\, face painting\, and more!\nGenerously sponsored by BounceWorks See less
URL:https://kerrcalendar.com/event/kid-fest/
LOCATION:Arcadia Live\, 717 Water Street\, Kerrville\, TX\, 78028\, United States
CATEGORIES:Arts and Entertainment
ATTACH;FMTTYPE=image/jpeg:https://kerrcalendar.com/wp-content/uploads/2025/07/arcadia-porch-scaled.jpg
END:VEVENT
END:VCALENDAR