BEGIN:VCALENDAR
VERSION:2.0
PRODID:-//Kerr Calendar - ECPv6.15.20//NONSGML v1.0//EN
CALSCALE:GREGORIAN
METHOD:PUBLISH
X-WR-CALNAME:Kerr Calendar
X-ORIGINAL-URL:https://kerrcalendar.com
X-WR-CALDESC:Events for Kerr Calendar
REFRESH-INTERVAL;VALUE=DURATION:PT1H
X-Robots-Tag:noindex
X-PUBLISHED-TTL:PT1H
BEGIN:VTIMEZONE
TZID:America/Chicago
BEGIN:DAYLIGHT
TZOFFSETFROM:-0600
TZOFFSETTO:-0500
TZNAME:CDT
DTSTART:20240310T080000
END:DAYLIGHT
BEGIN:STANDARD
TZOFFSETFROM:-0500
TZOFFSETTO:-0600
TZNAME:CST
DTSTART:20241103T070000
END:STANDARD
BEGIN:DAYLIGHT
TZOFFSETFROM:-0600
TZOFFSETTO:-0500
TZNAME:CDT
DTSTART:20250309T080000
END:DAYLIGHT
BEGIN:STANDARD
TZOFFSETFROM:-0500
TZOFFSETTO:-0600
TZNAME:CST
DTSTART:20251102T070000
END:STANDARD
BEGIN:DAYLIGHT
TZOFFSETFROM:-0600
TZOFFSETTO:-0500
TZNAME:CDT
DTSTART:20260308T080000
END:DAYLIGHT
BEGIN:STANDARD
TZOFFSETFROM:-0500
TZOFFSETTO:-0600
TZNAME:CST
DTSTART:20261101T070000
END:STANDARD
END:VTIMEZONE
BEGIN:VEVENT
DTSTART;VALUE=DATE:20250831
DTEND;VALUE=DATE:20250901
DTSTAMP:20260419T232151
CREATED:20250724T132321Z
LAST-MODIFIED:20250822T154432Z
UID:10002130-1756668600-1756677600@kerrcalendar.com
SUMMARY:Into the Woods
DESCRIPTION:Playhouse 2000 presents the hit musical Into the Woods\, August 22-Sept 7\, 2025\, Fridays and Saturdays at 7:30 pm and Sundays\, August 31 and September 7 at 2:30 pm in the Cailloux Theater.\nWe want to make a “big splash” when The Cailloux Theater re-opens after the construction to replace the roof and Heating/Air Conditioning system. We think Stephen Sondheim and Joseph Lapine’s Into The Woods is just the show to do it!\nInto the Woods starts with a mashup of multiple stories from the world of fairy tales – Jack and The Beanstalk\, Little Red Riding Hood\, Cinderella\, Rapunzel and The Baker’s Wife\, to name a few. Then\, in Act II – after the “Happily Ever After” – it explores the very real consequences those characters might have to face. Remember\, “no one is alone.”\n\nOn Broadway\, Into the Woods was nominated for 10 Tony Awards and earned 3\, plus 5 Drama Desk Awards\, including Outstanding Book\, Lyrics\, and Musical. Revivals have won 21 Tony\, Olivier\, Drama Desk and Audience Choice Awards\, and it’s 2014 film version \, starring Meryl Streep\, Anna Kendrick\, Chris Pine\, Johnny Depp\, and more\, broke box office records.
URL:https://kerrcalendar.com/event/into-the-woods/2025-08-31/
LOCATION:Cailloux Theater\, 910 Main Street\, Kerrville\, TX\, 78028\, United States
CATEGORIES:Arts and Entertainment
ATTACH;FMTTYPE=image/jpeg:https://kerrcalendar.com/wp-content/uploads/2025/07/into-the-woods.jpg
END:VEVENT
BEGIN:VEVENT
DTSTART;VALUE=DATE:20250901
DTEND;VALUE=DATE:20250902
DTSTAMP:20260419T232151
CREATED:20250721T181730Z
LAST-MODIFIED:20250721T181730Z
UID:10001116-1756684800-1756771199@kerrcalendar.com
SUMMARY:Labor Day - SCHOOLS CLOSED
DESCRIPTION:All local schools are closed for the federal holiday\, along with banks and many local government offices. Be sure to call ahead before visiting a business or government office on this day.
URL:https://kerrcalendar.com/event/labor-day-schools-closed/
CATEGORIES:Education and Schools,Government and Civic
ATTACH;FMTTYPE=image/png:https://kerrcalendar.com/wp-content/uploads/2025/07/holiday-closure.png
END:VEVENT
BEGIN:VEVENT
DTSTART;TZID=America/Chicago:20250902T110000
DTEND;TZID=America/Chicago:20250902T130000
DTSTAMP:20260419T232151
CREATED:20250827T112517Z
LAST-MODIFIED:20250827T112517Z
UID:10002136-1756810800-1756818000@kerrcalendar.com
SUMMARY:Texas Democratic Women's Monthly Luncheon
DESCRIPTION:HCCTDW meetings are open to everyone in the community. Reservations by email to kkeller2233@yahoo.com are required to attend the meeting. The deadline for making a reservation is Friday\, August 29 at 5:00 p.m. The email should indicate whether the reservation is for lunch ($15) or beverage only ($5). Payment will be collected as members and guests check in before the meeting.
URL:https://kerrcalendar.com/event/texas-democratic-womens-monthly-luncheon/
LOCATION:125 Lehmann Dr #100\, Kerrville\, TX 78028\, 125 Lehmann Dr #100\, Kerrville\, 78028\, United States
CATEGORIES:Government and Civic
ATTACH;FMTTYPE=image/jpeg:https://kerrcalendar.com/wp-content/uploads/2025/08/qtq80-YNJCRv.jpeg
END:VEVENT
BEGIN:VEVENT
DTSTART;TZID=America/Chicago:20250903T110000
DTEND;TZID=America/Chicago:20250903T140000
DTSTAMP:20260419T232151
CREATED:20250720T131228Z
LAST-MODIFIED:20250720T131228Z
UID:10000527-1756897200-1756908000@kerrcalendar.com
SUMMARY:Friends of the Library Book Sale
DESCRIPTION:Book sale with used books at $1-$3 with some exceptions. Also for sale: CDs\, DVDs\, children’s books\, and collectibles.
URL:https://kerrcalendar.com/event/friends-of-the-library-book-sale/2025-09-03/
LOCATION:Butt-Holdsworth Memorial Library\, 505 Water St\, Kerrville\, TX\, 78028\, United States
CATEGORIES:Arts and Entertainment,Government and Civic
ATTACH;FMTTYPE=image/jpeg:https://kerrcalendar.com/wp-content/uploads/2025/07/qtq80-aByGrC.jpeg
END:VEVENT
BEGIN:VEVENT
DTSTART;TZID=America/Chicago:20250903T180000
DTEND;TZID=America/Chicago:20250903T200000
DTSTAMP:20260419T232151
CREATED:20250725T121505Z
LAST-MODIFIED:20250725T121505Z
UID:10001302-1756922400-1756929600@kerrcalendar.com
SUMMARY:Schreiner University HCCF Fall Leadership Dinner
DESCRIPTION:
URL:https://kerrcalendar.com/event/schreiner-university-hccf-fall-leadership-dinner-2/
CATEGORIES:Nonprofits and Fundraisers
END:VEVENT
BEGIN:VEVENT
DTSTART;TZID=America/Chicago:20250904T100000
DTEND;TZID=America/Chicago:20250904T140000
DTSTAMP:20260419T232151
CREATED:20250730T132415Z
LAST-MODIFIED:20250730T132415Z
UID:10001472-1756980000-1756994400@kerrcalendar.com
SUMMARY:Schreiner Mansion Tours
DESCRIPTION:The Schreiner Mansion\, built in 1879 and listed on the National Register of Historic Places\, is a historic site in downtown Kerrville. \nNOTE – The Mansion will be Closed Thursday\, July 10th \nTours will be offered on Thursdays from 10am – 2 pm\, beginning on the half-hour; the last tour begins at 1:30 pm.  \nAdmission Fees: \nAdult: $10.00 \nStudents: $5.00 \nMilitary with ID: $5.00 \nGroup Tours (10 or more): $8.00 with reservations
URL:https://kerrcalendar.com/event/schreiner-mansion-tours/2025-09-04/
LOCATION:Schreiner Mansion\, 226 Earl Garrett\, Kerrville\, 78028\, United States
CATEGORIES:Classes and Workshops
ATTACH;FMTTYPE=image/jpeg:https://kerrcalendar.com/wp-content/uploads/2025/07/schreiner-mansion.jpg
END:VEVENT
BEGIN:VEVENT
DTSTART;TZID=America/Chicago:20250904T160000
DTEND;TZID=America/Chicago:20250904T180000
DTSTAMP:20260419T232151
CREATED:20250719T232330Z
LAST-MODIFIED:20250719T232330Z
UID:10000262-1757001600-1757008800@kerrcalendar.com
SUMMARY:City of Kerrville Planning & Zoning Commission Meeting
DESCRIPTION:P&Z meets the first Thursday each month in Council Chambers at City Hall. The meetings are open to the public. Their duties include: \n\nShall formulate and recommend to the city council for adoption a Comprehensive Plan for the orderly growth and development of the city and its environs. On a yearly basis the commission shall review and if necessary recommend such changes in the plan as it finds will facilitate the movement of people and goods\, and the health\, recreation\, safety and general welfare of the citizens of the city.\nShall formulate a zoning plan (ordinance) as may be deemed best to carry out the goals of the Comprehensive Plan; hold public hearings and make recommendations to the city council relating to the creation\, amendment\, and implementation of zoning regulations and districts as provided in state law.\nShall exercise all powers of a commission as to approval or disapproval of plans\, plats\, or replats as set out by state law and the city’s subdivision regulations.\nShall initiate for consideration at public hearings\, proposals for the original zoning of annexed areas or for the change of zoning district boundaries on an area wide basis.\nShall consider and take appropriate action\, upon written request\, variances as prescribed to the city’s subdivision and sign regulations.\nShall from time to time recommend such changes to the subdivision regulations\, sign regulations\, and any other ordinance the city council assigns to their review that will facilitate the general health\, safety and welfare of the citizens of the city.
URL:https://kerrcalendar.com/event/city-of-kerrville-planning-zoning-commission-meeting/2025-09-04/
LOCATION:City Hall\, 701 Main Street\, Kerrville\, TX\, 78028\, United States
CATEGORIES:Government and Civic
ATTACH;FMTTYPE=image/jpeg:https://kerrcalendar.com/wp-content/uploads/2025/07/cityhall-scaled.jpg
END:VEVENT
BEGIN:VEVENT
DTSTART;TZID=America/Chicago:20250905T150000
DTEND;TZID=America/Chicago:20250905T180000
DTSTAMP:20260419T232151
CREATED:20250725T121505Z
LAST-MODIFIED:20250725T121505Z
UID:10001303-1757084400-1757095200@kerrcalendar.com
SUMMARY:Schreiner University Womens Soccer-NAU
DESCRIPTION:
URL:https://kerrcalendar.com/event/schreiner-university-womens-soccer-nau-2/
CATEGORIES:Sports
END:VEVENT
BEGIN:VEVENT
DTSTART;TZID=America/Chicago:20250905T180000
DTEND;TZID=America/Chicago:20250905T210000
DTSTAMP:20260419T232151
CREATED:20250904T201043Z
LAST-MODIFIED:20250904T201043Z
UID:10002138-1757095200-1757106000@kerrcalendar.com
SUMMARY:Live Music with Susan Herndon!
DESCRIPTION:Come and enjoy an evening of live music and great food with the talented Susan Herndon at Cafe at the Ridge! With her soulful voice and heartfelt lyrics\, Susan will serenade you with a blend of Americana\, folk\, and country tunes. It’s the perfect backdrop for a cozy night out with friends and family. Don’t miss this opportunity to experience Susan’s captivating performance in our inviting restaurant you’ll want to come back to again and again.
URL:https://kerrcalendar.com/event/live-music-with-susan-herndon/
LOCATION:The Ridge Marketplace\, 13439 S. Ranch Road 783\, Kerrville\, 78028\, United States
CATEGORIES:Arts and Entertainment
ATTACH;FMTTYPE=image/jpeg:https://kerrcalendar.com/wp-content/uploads/2025/09/Live-Music-with-Susan-Herndon.jpg
ORGANIZER;CN="The Ridge Marketplace":MAILTO:marcustheridge@gmail.com
END:VEVENT
BEGIN:VEVENT
DTSTART;TZID=America/Chicago:20250905T190000
DTEND;TZID=America/Chicago:20250905T210000
DTSTAMP:20260419T232151
CREATED:20250725T121505Z
LAST-MODIFIED:20250725T121505Z
UID:10001304-1757098800-1757106000@kerrcalendar.com
SUMMARY:Schreiner University Movie-Cloudy w/a Chance of Meatballs
DESCRIPTION:
URL:https://kerrcalendar.com/event/schreiner-university-movie-cloudy-w-a-chance-of-meatballs-2/
LOCATION:Trailhead Beer Garden @ Schreiner University\, 2100 Memorial Blvd #11\, Kerrville\, 78028\, United States
CATEGORIES:Arts and Entertainment
END:VEVENT
BEGIN:VEVENT
DTSTART;TZID=America/Chicago:20250905T190000
DTEND;TZID=America/Chicago:20250905T210000
DTSTAMP:20260419T232151
CREATED:20250728T135637Z
LAST-MODIFIED:20250728T135812Z
UID:10001463-1757098800-1757106000@kerrcalendar.com
SUMMARY:Live Music on the Deck - Arcadia Live
DESCRIPTION:ON DECK LIVE MUSIC is back!Join us on our Happy State Bank Deck this July25th-September 5th and enjoy happy hour prices on beer\, wine\, and margaritas.\nEvery Friday from 7-9pm.Doors at 6:30pm\, Live Music starts at 7pm\nThis FREE community series is generously sponsored by JAM Broadcasting.\nOur Line up:July 25th- Boone HoldingAugust 1st- Carlos & DanAugust 8th- Aaron LaCombeAugust 15th- Bill MahkovtzAugust 22nd- Grant Wesley TrioAugust 29th- Mike KasbergSeptember 5th- Three of a Kind\nFeel free to bring the kids\, dinner\, pets\, and guests!\n\nFor more info\, email boxoffice@thearcadialive.org or call (830)-315-5483.
URL:https://kerrcalendar.com/event/live-music-on-the-deck-arcadia-live/2025-09-05/
LOCATION:Arcadia Live\, 717 Water Street\, Kerrville\, TX\, 78028\, United States
CATEGORIES:Arts and Entertainment
ATTACH;FMTTYPE=image/jpeg:https://kerrcalendar.com/wp-content/uploads/2025/07/music-deck-arcadia.jpg
END:VEVENT
BEGIN:VEVENT
DTSTART;TZID=America/Chicago:20250905T190000
DTEND;TZID=America/Chicago:20250905T223000
DTSTAMP:20260419T232151
CREATED:20250719T234636Z
LAST-MODIFIED:20250904T201132Z
UID:10000504-1757098800-1757111400@kerrcalendar.com
SUMMARY:Tivy Football @ Comal Davenport
DESCRIPTION:Antlers travel to Comal Davenport for a non-district game. Watch online at: https://antlersports.tv/
URL:https://kerrcalendar.com/event/tivy-football-comal-davenport/
CATEGORIES:Sports
ATTACH;FMTTYPE=image/png:https://kerrcalendar.com/wp-content/uploads/2025/07/Tivy-Logo-yellow.png
END:VEVENT
BEGIN:VEVENT
DTSTART;VALUE=DATE:20250905
DTEND;VALUE=DATE:20250906
DTSTAMP:20260419T232151
CREATED:20250724T132321Z
LAST-MODIFIED:20250822T154432Z
UID:10001373-1757100600-1757109600@kerrcalendar.com
SUMMARY:Into the Woods
DESCRIPTION:Playhouse 2000 presents the hit musical Into the Woods\, August 22-Sept 7\, 2025\, Fridays and Saturdays at 7:30 pm and Sundays\, August 31 and September 7 at 2:30 pm in the Cailloux Theater.\nWe want to make a “big splash” when The Cailloux Theater re-opens after the construction to replace the roof and Heating/Air Conditioning system. We think Stephen Sondheim and Joseph Lapine’s Into The Woods is just the show to do it!\nInto the Woods starts with a mashup of multiple stories from the world of fairy tales – Jack and The Beanstalk\, Little Red Riding Hood\, Cinderella\, Rapunzel and The Baker’s Wife\, to name a few. Then\, in Act II – after the “Happily Ever After” – it explores the very real consequences those characters might have to face. Remember\, “no one is alone.”\n\nOn Broadway\, Into the Woods was nominated for 10 Tony Awards and earned 3\, plus 5 Drama Desk Awards\, including Outstanding Book\, Lyrics\, and Musical. Revivals have won 21 Tony\, Olivier\, Drama Desk and Audience Choice Awards\, and it’s 2014 film version \, starring Meryl Streep\, Anna Kendrick\, Chris Pine\, Johnny Depp\, and more\, broke box office records.
URL:https://kerrcalendar.com/event/into-the-woods/2025-09-05/
LOCATION:Cailloux Theater\, 910 Main Street\, Kerrville\, TX\, 78028\, United States
CATEGORIES:Arts and Entertainment
ATTACH;FMTTYPE=image/jpeg:https://kerrcalendar.com/wp-content/uploads/2025/07/into-the-woods.jpg
END:VEVENT
BEGIN:VEVENT
DTSTART;TZID=America/Chicago:20250906T070000
DTEND;TZID=America/Chicago:20250906T080000
DTSTAMP:20260419T232151
CREATED:20250904T201042Z
LAST-MODIFIED:20250904T201042Z
UID:10002140-1757142000-1757145600@kerrcalendar.com
SUMMARY:Full Moon Yoga at The Ridge!
DESCRIPTION:Join Corine for a relaxing morning of Yoga on the lawn.  \nBreathe deeply\, stretch fully\, and reconnect with nature at our peaceful outdoor yoga session. \nSet against the fresh air and open skies\, this all-levels class is designed to help you find balance\, strength\, and serenity. \nBring your mat\, a water bottle\, and your sense of calm—whether you’re a seasoned yogi or just starting out\, everyone is welcome.
URL:https://kerrcalendar.com/event/full-moon-yoga-at-the-ridge/
LOCATION:The Ridge Marketplace\, 13439 S. Ranch Road 783\, Kerrville\, 78028\, United States
CATEGORIES:Classes and Workshops
ATTACH;FMTTYPE=image/jpeg:https://kerrcalendar.com/wp-content/uploads/2025/09/Full-Moon-Yoga.jpg
ORGANIZER;CN="The Ridge Marketplace":MAILTO:marcustheridge@gmail.com
END:VEVENT
BEGIN:VEVENT
DTSTART;TZID=America/Chicago:20250906T090000
DTEND;TZID=America/Chicago:20250906T130000
DTSTAMP:20260419T232151
CREATED:20250721T120128Z
LAST-MODIFIED:20250728T163814Z
UID:10000791-1757149200-1757163600@kerrcalendar.com
SUMMARY:Heart of the Hills Farmers Market
DESCRIPTION:Supporting local producers\, fostering community\, promoting sustainability in our growing practices.
URL:https://kerrcalendar.com/event/heart-of-the-hills-farmers-market/2025-09-06/
LOCATION:Dallas Daughtry Boardwalk Pavilion\, 805 Water St\, Kerrville\, TX\, 78028\, United States
CATEGORIES:Nonprofits and Fundraisers
ATTACH;FMTTYPE=image/jpeg:https://kerrcalendar.com/wp-content/uploads/2025/07/qtq80-taw4Rz.jpeg
END:VEVENT
BEGIN:VEVENT
DTSTART;VALUE=DATE:20250906
DTEND;VALUE=DATE:20250907
DTSTAMP:20260419T232151
CREATED:20250724T132321Z
LAST-MODIFIED:20250822T154432Z
UID:10002131-1757169000-1757178000@kerrcalendar.com
SUMMARY:Into the Woods
DESCRIPTION:Playhouse 2000 presents the hit musical Into the Woods\, August 22-Sept 7\, 2025\, Fridays and Saturdays at 7:30 pm and Sundays\, August 31 and September 7 at 2:30 pm in the Cailloux Theater.\nWe want to make a “big splash” when The Cailloux Theater re-opens after the construction to replace the roof and Heating/Air Conditioning system. We think Stephen Sondheim and Joseph Lapine’s Into The Woods is just the show to do it!\nInto the Woods starts with a mashup of multiple stories from the world of fairy tales – Jack and The Beanstalk\, Little Red Riding Hood\, Cinderella\, Rapunzel and The Baker’s Wife\, to name a few. Then\, in Act II – after the “Happily Ever After” – it explores the very real consequences those characters might have to face. Remember\, “no one is alone.”\n\nOn Broadway\, Into the Woods was nominated for 10 Tony Awards and earned 3\, plus 5 Drama Desk Awards\, including Outstanding Book\, Lyrics\, and Musical. Revivals have won 21 Tony\, Olivier\, Drama Desk and Audience Choice Awards\, and it’s 2014 film version \, starring Meryl Streep\, Anna Kendrick\, Chris Pine\, Johnny Depp\, and more\, broke box office records.
URL:https://kerrcalendar.com/event/into-the-woods/2025-09-06/
LOCATION:Cailloux Theater\, 910 Main Street\, Kerrville\, TX\, 78028\, United States
CATEGORIES:Arts and Entertainment
ATTACH;FMTTYPE=image/jpeg:https://kerrcalendar.com/wp-content/uploads/2025/07/into-the-woods.jpg
END:VEVENT
BEGIN:VEVENT
DTSTART;TZID=America/Chicago:20250906T180000
DTEND;TZID=America/Chicago:20250906T210000
DTSTAMP:20260419T232151
CREATED:20250904T201043Z
LAST-MODIFIED:20250904T201043Z
UID:10002139-1757181600-1757192400@kerrcalendar.com
SUMMARY:Live Music with Train Wreck Shipping Company!
DESCRIPTION:Join us at Café at the Ridge for a night of genre-blending tunes with Train Wreck Shipping Company! This talented crew delivers a high-energy mix of jazz\, blues\, funk\, R&B\, rock ‘n roll\, and country—serving up something for every kind of music lover. Their rich sound and smooth grooves create the perfect backdrop for a laid-back evening in the Texas Hill Country.
URL:https://kerrcalendar.com/event/live-music-with-train-wreck-shipping-company-2/
LOCATION:The Ridge Marketplace\, 13439 S. Ranch Road 783\, Kerrville\, 78028\, United States
CATEGORIES:Arts and Entertainment
ATTACH;FMTTYPE=image/jpeg:https://kerrcalendar.com/wp-content/uploads/2025/09/Train-Wreck-Shipping-Company.jpg
ORGANIZER;CN="The Ridge Marketplace":MAILTO:marcustheridge@gmail.com
END:VEVENT
END:VCALENDAR