BEGIN:VCALENDAR
VERSION:2.0
PRODID:-//Kerr Calendar - ECPv6.15.20//NONSGML v1.0//EN
CALSCALE:GREGORIAN
METHOD:PUBLISH
X-WR-CALNAME:Kerr Calendar
X-ORIGINAL-URL:https://kerrcalendar.com
X-WR-CALDESC:Events for Kerr Calendar
REFRESH-INTERVAL;VALUE=DURATION:PT1H
X-Robots-Tag:noindex
X-PUBLISHED-TTL:PT1H
BEGIN:VTIMEZONE
TZID:America/Chicago
BEGIN:DAYLIGHT
TZOFFSETFROM:-0600
TZOFFSETTO:-0500
TZNAME:CDT
DTSTART:20240310T080000
END:DAYLIGHT
BEGIN:STANDARD
TZOFFSETFROM:-0500
TZOFFSETTO:-0600
TZNAME:CST
DTSTART:20241103T070000
END:STANDARD
BEGIN:DAYLIGHT
TZOFFSETFROM:-0600
TZOFFSETTO:-0500
TZNAME:CDT
DTSTART:20250309T080000
END:DAYLIGHT
BEGIN:STANDARD
TZOFFSETFROM:-0500
TZOFFSETTO:-0600
TZNAME:CST
DTSTART:20251102T070000
END:STANDARD
BEGIN:DAYLIGHT
TZOFFSETFROM:-0600
TZOFFSETTO:-0500
TZNAME:CDT
DTSTART:20260308T080000
END:DAYLIGHT
BEGIN:STANDARD
TZOFFSETFROM:-0500
TZOFFSETTO:-0600
TZNAME:CST
DTSTART:20261101T070000
END:STANDARD
END:VTIMEZONE
BEGIN:VEVENT
DTSTART;TZID=America/Chicago:20251017T090000
DTEND;TZID=America/Chicago:20251019T160000
DTSTAMP:20260419T195119
CREATED:20250724T231425Z
LAST-MODIFIED:20250724T231425Z
UID:10001383-1760691600-1760889600@kerrcalendar.com
SUMMARY:Fredericksburg Trade Days
DESCRIPTION:Fredericksburg Trade Days is a Texas Hill Country shopping experience like no other. Held the third weekend of each month\, you’ll find acres of shopping\, food\, drinks\, and live music. They include 7 barns & acres of antiques\, collectibles\, tools\, crafts\, shabby chic\, primitives\, ranch furniture\, hunting accessories\, candles\, unique clothing\, jewelry\, food and so much more.
URL:https://kerrcalendar.com/event/fredericksburg-trade-days/2025-10-17/
LOCATION:Fredericksburg Trade Days\, 355 Sunday Farms Rd\, Fredericksburg\, United States
CATEGORIES:Arts and Entertainment
ATTACH;FMTTYPE=image/jpeg:https://kerrcalendar.com/wp-content/uploads/2025/07/logobw.jpg
END:VEVENT
BEGIN:VEVENT
DTSTART;TZID=America/Chicago:20251020T160000
DTEND;TZID=America/Chicago:20251020T180000
DTSTAMP:20260419T195119
CREATED:20250719T230105Z
LAST-MODIFIED:20250719T230105Z
UID:10000021-1760976000-1760983200@kerrcalendar.com
SUMMARY:Economic Improvement Corporation Meeting
DESCRIPTION:The City of Kerrville’s EIC meets on the third Monday of each month at City Hall’s Council Chambers in downtown Kerrville\, Texas. The meetings are open to the public. Agendas can be found at the event link below.
URL:https://kerrcalendar.com/event/economic-improvement-corporation-meeting/2025-10-20/
LOCATION:City Hall\, 701 Main Street\, Kerrville\, TX\, 78028\, United States
CATEGORIES:Government and Civic
ATTACH;FMTTYPE=image/jpeg:https://kerrcalendar.com/wp-content/uploads/2025/07/cityhall-scaled.jpg
END:VEVENT
BEGIN:VEVENT
DTSTART;TZID=America/Chicago:20251020T170000
DTEND;TZID=America/Chicago:20251020T210000
DTSTAMP:20260419T195119
CREATED:20250725T121602Z
LAST-MODIFIED:20250725T121602Z
UID:10001336-1760979600-1760994000@kerrcalendar.com
SUMMARY:Schreiner University Edward Patton Dinner
DESCRIPTION:
URL:https://kerrcalendar.com/event/schreiner-university-edward-patton-dinner-2/
LOCATION:Schreiner University\, 2100 Memorial Blvd\, Kerrville\, TX\, 78028\, United States
CATEGORIES:Education and Schools
END:VEVENT
BEGIN:VEVENT
DTSTART;TZID=America/Chicago:20251020T180000
DTEND;TZID=America/Chicago:20251020T200000
DTSTAMP:20260419T195119
CREATED:20250721T181152Z
LAST-MODIFIED:20250721T181241Z
UID:10001058-1760983200-1760990400@kerrcalendar.com
SUMMARY:KISD Board of Trustees Meeting
DESCRIPTION:Kerrville Independent School District board meetings are typically held the third Monday of every month at 6:00 p.m. at the Joseph A. Tivy Building and meetings always begin with praise and recognition of students and staff.
URL:https://kerrcalendar.com/event/kisd-board-of-trustees-meeting-2/2025-10-20/
LOCATION:Kerrville ISD\, 1009 Barnett St\, Kerrville\, TX\, 78028\, United States
CATEGORIES:Education and Schools
ATTACH;FMTTYPE=image/png:https://kerrcalendar.com/wp-content/uploads/2025/07/KISDLogoFINAL.png
END:VEVENT
BEGIN:VEVENT
DTSTART;TZID=America/Chicago:20251020T183000
DTEND;TZID=America/Chicago:20251020T200000
DTSTAMP:20260419T195119
CREATED:20250725T121602Z
LAST-MODIFIED:20250725T121602Z
UID:10001335-1760985000-1760990400@kerrcalendar.com
SUMMARY:Schreiner University SI Speaker Series
DESCRIPTION:
URL:https://kerrcalendar.com/event/schreiner-university-si-speaker-series-2/
LOCATION:Schreiner University\, 2100 Memorial Blvd\, Kerrville\, TX\, 78028\, United States
CATEGORIES:Education and Schools
END:VEVENT
BEGIN:VEVENT
DTSTART;TZID=America/Chicago:20251021T180000
DTEND;TZID=America/Chicago:20251021T200000
DTSTAMP:20260419T195119
CREATED:20250725T121602Z
LAST-MODIFIED:20250725T121602Z
UID:10001337-1761069600-1761076800@kerrcalendar.com
SUMMARY:Schreiner University SU Volleyball-Huston Tillotson
DESCRIPTION:
URL:https://kerrcalendar.com/event/schreiner-university-su-volleyball-huston-tillotson-2/
CATEGORIES:Sports
END:VEVENT
BEGIN:VEVENT
DTSTART;TZID=America/Chicago:20251022T110000
DTEND;TZID=America/Chicago:20251022T140000
DTSTAMP:20260419T195119
CREATED:20250720T131228Z
LAST-MODIFIED:20250720T131228Z
UID:10000534-1761130800-1761141600@kerrcalendar.com
SUMMARY:Friends of the Library Book Sale
DESCRIPTION:Book sale with used books at $1-$3 with some exceptions. Also for sale: CDs\, DVDs\, children’s books\, and collectibles.
URL:https://kerrcalendar.com/event/friends-of-the-library-book-sale/2025-10-22/
LOCATION:Butt-Holdsworth Memorial Library\, 505 Water St\, Kerrville\, TX\, 78028\, United States
CATEGORIES:Arts and Entertainment,Government and Civic
ATTACH;FMTTYPE=image/jpeg:https://kerrcalendar.com/wp-content/uploads/2025/07/qtq80-aByGrC.jpeg
END:VEVENT
BEGIN:VEVENT
DTSTART;TZID=America/Chicago:20251023T100000
DTEND;TZID=America/Chicago:20251023T140000
DTSTAMP:20260419T195119
CREATED:20250730T132415Z
LAST-MODIFIED:20250730T132415Z
UID:10001479-1761213600-1761228000@kerrcalendar.com
SUMMARY:Schreiner Mansion Tours
DESCRIPTION:The Schreiner Mansion\, built in 1879 and listed on the National Register of Historic Places\, is a historic site in downtown Kerrville. \nNOTE – The Mansion will be Closed Thursday\, July 10th \nTours will be offered on Thursdays from 10am – 2 pm\, beginning on the half-hour; the last tour begins at 1:30 pm.  \nAdmission Fees: \nAdult: $10.00 \nStudents: $5.00 \nMilitary with ID: $5.00 \nGroup Tours (10 or more): $8.00 with reservations
URL:https://kerrcalendar.com/event/schreiner-mansion-tours/2025-10-23/
LOCATION:Schreiner Mansion\, 226 Earl Garrett\, Kerrville\, 78028\, United States
CATEGORIES:Classes and Workshops
ATTACH;FMTTYPE=image/jpeg:https://kerrcalendar.com/wp-content/uploads/2025/07/schreiner-mansion.jpg
END:VEVENT
BEGIN:VEVENT
DTSTART;TZID=America/Chicago:20251023T190000
DTEND;TZID=America/Chicago:20251023T213000
DTSTAMP:20260419T195119
CREATED:20250719T224743Z
LAST-MODIFIED:20250719T225656Z
UID:10000014-1761246000-1761255000@kerrcalendar.com
SUMMARY:Not Your Granny's Bingo
DESCRIPTION:Open for Arcadia Live members 10.1.25 at 11am CST nnnnOpen to public 10.3.25 at 11am CST nnnnnnnnDoors and bar — 6:00 PM nnnnBingo — 7:00 PM nnnnnnnnRemember\, this is NOT your granny’s bingo! A live DJ will be playing your favorite hits all night long on stage and air horns will be placed on each table so you can call BINGO! Expect a compulsory 10 second dance on stage as penalty for any “premature honking.” nnnnnnnnFREE entry—bingo cards to cover all 10 games & dobbers both available for sale at the theatre prior to the event nnnn$10 for book of bingo cards (covers all 10 games) nnnn$2 for dobbers (but feel free bring your own!) nnnnMake sure to bring dollar bills! Extra cards will be available for sale for $1 in between rounds to increase your odds! nnnnnnnnSeveral winning prizes\, including local gift cards\, tickets to an Arcadia event\, and one cash prize! nnnnIn case of a tie\, we will settle the tie in the most civilized manner we know of…Rock\, Paper\, Scissors
URL:https://kerrcalendar.com/event/not-your-grannys-bingo-4/
LOCATION:Arcadia Live\, 717 Water Street\, Kerrville\, TX\, 78028\, United States
CATEGORIES:Arts and Entertainment
END:VEVENT
BEGIN:VEVENT
DTSTART;TZID=America/Chicago:20251024T170000
DTEND;TZID=America/Chicago:20251024T190000
DTSTAMP:20260419T195119
CREATED:20250725T121602Z
LAST-MODIFIED:20250725T121602Z
UID:10001338-1761325200-1761332400@kerrcalendar.com
SUMMARY:Schreiner University Womens Soccer-U Dallas
DESCRIPTION:
URL:https://kerrcalendar.com/event/schreiner-university-womens-soccer-u-dallas-2/
CATEGORIES:Sports
END:VEVENT
BEGIN:VEVENT
DTSTART;TZID=America/Chicago:20251024T170000
DTEND;TZID=America/Chicago:20251024T200000
DTSTAMP:20260419T195119
CREATED:20250908T153822Z
LAST-MODIFIED:20250908T153822Z
UID:10002160-1761325200-1761336000@kerrcalendar.com
SUMMARY:After Hours at Turtle Creek Vineyard
DESCRIPTION:Kick off the weekend with us at Turtle Creek for After Hours at the Vineyard. Enjoy a glass of one of our award winning wines and the sounds of local musicians while surrounded by our vineyards and waterfront views of the creek.
URL:https://kerrcalendar.com/event/after-hours-at-turtle-creek-vineyard/2025-10-24/
LOCATION:Turtle Creek Vineyard\, 183 Fall Creek Road\, Kerrville\, 78028\, United States
CATEGORIES:Arts and Entertainment
ATTACH;FMTTYPE=image/png:https://kerrcalendar.com/wp-content/uploads/2025/09/After_Hours_plain1.png
END:VEVENT
BEGIN:VEVENT
DTSTART;TZID=America/Chicago:20251024T180000
DTEND;TZID=America/Chicago:20251024T210000
DTSTAMP:20260419T195119
CREATED:20250927T183338Z
LAST-MODIFIED:20250927T183338Z
UID:10002228-1761328800-1761339600@kerrcalendar.com
SUMMARY:Live Music with Tim & Gary!
DESCRIPTION:Join us for live music with the dynamic duo Tim and Gary! Known for their harmonious blend of melodies and heartfelt lyrics\, Tim and Gary bring a unique and captivating energy to every performance. They ensure there’s something for everyone to enjoy. Come and unwind at our restaurant while savoring delicious food and the unforgettable sounds of Tim and Gary. Don’t miss this chance to enjoy a night of great music and good vibes!
URL:https://kerrcalendar.com/event/live-music-with-tim-gary-3/
LOCATION:The Ridge Marketplace\, 13439 S. Ranch Road 783\, Kerrville\, 78028\, United States
CATEGORIES:Arts and Entertainment
ATTACH;FMTTYPE=image/jpeg:https://kerrcalendar.com/wp-content/uploads/2025/09/Live-Music-with-Tim-Gary-1.jpg
ORGANIZER;CN="The Ridge Marketplace":MAILTO:marcustheridge@gmail.com
END:VEVENT
BEGIN:VEVENT
DTSTART;TZID=America/Chicago:20251024T190000
DTEND;TZID=America/Chicago:20251024T210000
DTSTAMP:20260419T195119
CREATED:20250725T121602Z
LAST-MODIFIED:20250725T121602Z
UID:10001339-1761332400-1761339600@kerrcalendar.com
SUMMARY:Schreiner University Mens Soccer-U Dallas
DESCRIPTION:
URL:https://kerrcalendar.com/event/schreiner-university-mens-soccer-u-dallas-2/
CATEGORIES:Sports
END:VEVENT
BEGIN:VEVENT
DTSTART;TZID=America/Chicago:20251024T190000
DTEND;TZID=America/Chicago:20251024T210000
DTSTAMP:20260419T195119
CREATED:20250725T121602Z
LAST-MODIFIED:20250725T121602Z
UID:10001340-1761332400-1761339600@kerrcalendar.com
SUMMARY:Schreiner University Movie-Hotel Transylvania
DESCRIPTION:
URL:https://kerrcalendar.com/event/schreiner-university-movie-hotel-transylvania-2/
LOCATION:Trailhead Beer Garden @ Schreiner University\, 2100 Memorial Blvd #11\, Kerrville\, 78028\, United States
CATEGORIES:Arts and Entertainment
END:VEVENT
BEGIN:VEVENT
DTSTART;TZID=America/Chicago:20251025T090000
DTEND;TZID=America/Chicago:20251025T130000
DTSTAMP:20260419T195119
CREATED:20250721T120128Z
LAST-MODIFIED:20250728T163814Z
UID:10000798-1761382800-1761397200@kerrcalendar.com
SUMMARY:Heart of the Hills Farmers Market
DESCRIPTION:Supporting local producers\, fostering community\, promoting sustainability in our growing practices.
URL:https://kerrcalendar.com/event/heart-of-the-hills-farmers-market/2025-10-25/
LOCATION:Dallas Daughtry Boardwalk Pavilion\, 805 Water St\, Kerrville\, TX\, 78028\, United States
CATEGORIES:Nonprofits and Fundraisers
ATTACH;FMTTYPE=image/jpeg:https://kerrcalendar.com/wp-content/uploads/2025/07/qtq80-taw4Rz.jpeg
END:VEVENT
BEGIN:VEVENT
DTSTART;TZID=America/Chicago:20251025T100000
DTEND;TZID=America/Chicago:20251025T170000
DTSTAMP:20260419T195119
CREATED:20250722T203140Z
LAST-MODIFIED:20250722T203140Z
UID:10001165-1761386400-1761411600@kerrcalendar.com
SUMMARY:Water Street Festival
DESCRIPTION:Water Street Festival to Bring Art\, Music\, and Community Spirit toKerrville Historic Downtown Business Alliance\nKERRVILLE\, TEXAS – The Water Street Festival is a celebration of art\, music\, heritage and local culture\, set to take place in downtown Kerrville on October 25\, 2025. The new Festival is designedto bring people together and activate the historic Main Street district.\n“The Water Street Festival is more than a street fair — it’s a downtown block party celebrating Kerrville’s cultural heartbeat\,” said Delayne Sigerman\, Event Chair. “It connects local business\, artists\, neighbors\, and families for a shared experience of community pride.”\nSet in historic downtown and adjacent to shops and galleries\, the Festival offers a walkable and welcoming setting for all ages. Storefronts will extend their spaces into the streets for a curated day of pop-up shops\, music\, kid’s activities\, open-air food and drink tastings\, all full of local flavor and small-town charm.\nOne of the Festival’s attractions will be interactive plein air art. This 4-day painting competition begins with 50 talented artists from over the United States. Artists will paint within the constraints of time and sunlight. On the last day\, Saturday October 25th\, the public will be welcomed into the Kerr Arts & Cultural Center to see the results while the paintings are very fresh.\n“Lending a hand or sponsoring is a great way to support and be part of something meaningful.” remarked Lanza Teague\, Executive Director for Kerr Arts & Cultural Center and Festival Committee Member.\nThe Festival is powered by local volunteers\, and organizers are currently recruiting for support with the children’s parade and activities. Water Street Antiques is set to be the 2025 headline supporter. For sponsorship inquiries\, volunteer sign-up\, and vendor applications\, please contact waterstreetfestival@gmail.com. For event updates follow @downtownkerrville on Facebook and Instagram.
URL:https://kerrcalendar.com/event/water-street-festival/
LOCATION:Downtown Kerrville\, 201 Earl Garrett\, Kerrville\, 78028\, United States
CATEGORIES:Arts and Entertainment
ATTACH;FMTTYPE=image/jpeg:https://kerrcalendar.com/wp-content/uploads/2025/07/water-st-festival.jpg
END:VEVENT
BEGIN:VEVENT
DTSTART;TZID=America/Chicago:20251025T170000
DTEND;TZID=America/Chicago:20251025T200000
DTSTAMP:20260419T195119
CREATED:20250904T201042Z
LAST-MODIFIED:20250904T201042Z
UID:10002148-1761411600-1761422400@kerrcalendar.com
SUMMARY:Fall Fest at The Ridge Marketplace!
DESCRIPTION:Mark your calendars for Saturday\, October 25th from 5–8 PM and join us for one of our favorite family traditions — the Annual Fall Festival at The Ridge Marketplace in Kerrville\, TX!\nBring the whole family out for an evening packed with fall fun\, including:\n🎃 Delicious food & sweet treats (yes\, caramel apples included!)\n🐴 Petting zoo & pony rides\n👻 Haunted house thrills\n🎨 Sparkle bar & face painting\n🎲 Games\, prizes\, and crafts\n🍁 Pumpkin decorating & so much more!\nWith the perfect Texas Hill Country atmosphere\, this is an event you won’t want to miss. Celebrate the season with friends\, neighbors\, and plenty of fall magic right here at The Ridge Marketplace.
URL:https://kerrcalendar.com/event/fall-fest-at-the-ridge-marketplace/
LOCATION:The Ridge Marketplace\, 13439 S. Ranch Road 783\, Kerrville\, 78028\, United States
CATEGORIES:Arts and Entertainment
ATTACH;FMTTYPE=image/jpeg:https://kerrcalendar.com/wp-content/uploads/2025/09/Fall-Fest-Board-2025-01-scaled.jpg
ORGANIZER;CN="The Ridge Marketplace":MAILTO:marcustheridge@gmail.com
END:VEVENT
BEGIN:VEVENT
DTSTART;TZID=America/Chicago:20251025T170000
DTEND;TZID=America/Chicago:20251025T200000
DTSTAMP:20260419T195119
CREATED:20250927T183338Z
LAST-MODIFIED:20250927T183338Z
UID:10002229-1761411600-1761422400@kerrcalendar.com
SUMMARY:Fall Fest
DESCRIPTION:Mark your calendars for Saturday\, October 25th from 5–8 PM and join us for one of our favorite family traditions — the Annual Fall Festival at The Ridge Marketplace in Kerrville\, TX!\nBring the whole family out for an evening packed with fall fun\, including:\n🎃 Delicious food & sweet treats (yes\, caramel apples included!)\n🐴 Petting zoo & pony rides\n👻 Haunted house thrills\n🎨 Sparkle bar & face painting\n🎲 Games\, prizes\, and crafts\n🍁 Pumpkin decorating & so much more!\nWith the perfect Texas Hill Country atmosphere\, this is an event you won’t want to miss. Celebrate the season with friends\, neighbors\, and plenty of fall magic right here at The Ridge Marketplace.
URL:https://kerrcalendar.com/event/fall-fest/
LOCATION:The Ridge Marketplace\, 13439 S. Ranch Road 783\, Kerrville\, 78028\, United States
CATEGORIES:Arts and Entertainment
ATTACH;FMTTYPE=image/jpeg:https://kerrcalendar.com/wp-content/uploads/2025/09/Untitled-design-7.jpg
ORGANIZER;CN="The Ridge Marketplace":MAILTO:marcustheridge@gmail.com
END:VEVENT
BEGIN:VEVENT
DTSTART;TZID=America/Chicago:20251025T180000
DTEND;TZID=America/Chicago:20251025T210000
DTSTAMP:20260419T195119
CREATED:20250927T183338Z
LAST-MODIFIED:20250927T183338Z
UID:10002230-1761415200-1761426000@kerrcalendar.com
SUMMARY:Live Music with Kyle Broll!
DESCRIPTION:Get ready for a night of great music with Kyle Broll at Cafe at the Ridge! A local favorite\, Kyle delivers a mix of country\, rock\, and Americana with an energy that keeps the crowd engaged. His smooth vocals and skilled guitar playing make for the perfect backdrop to a relaxing evening in the Texas Hill Country.
URL:https://kerrcalendar.com/event/live-music-with-kyle-broll-2/
LOCATION:The Ridge Marketplace\, 13439 S. Ranch Road 783\, Kerrville\, 78028\, United States
CATEGORIES:Arts and Entertainment
ATTACH;FMTTYPE=image/jpeg:https://kerrcalendar.com/wp-content/uploads/2025/09/Live-Music-with-Kyle-Broll.jpg
ORGANIZER;CN="The Ridge Marketplace":MAILTO:marcustheridge@gmail.com
END:VEVENT
END:VCALENDAR